BEGIN:VCALENDAR
VERSION:2.0
PRODID:-//jEvents 2.0 for Joomla//EN
CALSCALE:GREGORIAN
METHOD:PUBLISH
BEGIN:VEVENT
UID:47f1a89e3706af8866f1ed6ac99e17b6
CATEGORIES:Polar Online Events
CREATED:20201006T164038
SUMMARY:The Arctic Resilience Forum 2020
DESCRIPTION:The Arctic Resilience Forum 2020 will be held online as a series of ten wee
 kly 1,5 hours long webinars starting this Wednesday,\n October 7, 2020.\n \
 n The Forum is hosted by the Icelandic Chairmanship and co-organized by the
  Sustainable Development Working Group and the Arctic Initiative at Harvard
  Kennedy School’s Belfer Center. \n \n You can find the weekly schedule bel
 ow and register on the dedicated event website hosted by the Belfer Center:
  https://www.belfercenter.org/event/arctic-resilience-forum \n \n We hope t
 hat you will join us and we appreciate you sharing this information with yo
 ur networks.\n \n Simultaneous Russian interpretation will be provided for 
 all sessions.\n\n Arctic Resilience Forum weekly schedule:\n \n The Arctic 
 Resilience Forum will be convened every Wednesday from 11:30am – 1:00pm (ES
 T) beginning October 7, 2020.\n \n The online series seeks to engage a broa
 d audience in conversations about how to build the resilience of Arctic com
 munities and ecosystems across a variety of focus areas, including: \n \n O
 ctober 7:  Indigenous Youth Leadership\n October 14:  Food Security\n Octob
 er 21:  Renewable Energy\n October 28:  Human Health and Pandemics (this se
 ssion will be part of the SDWG Plenary meeting)\n November 11:  Broadband C
 onnectivity\n November 18:  Gender\n November 25:  Socio-Ecological Resilie
 nce\n December 9:  Infrastructure\n December 16:  Working Together in the A
 rctic: Indigenous and Western Knowledge System\n
X-ALT-DESC;FMTTYPE=text/html:<p>The Arctic Resilience Forum 2020 will be held online as a series of ten 
 weekly 1,5 hours long webinars starting this Wednesday,<br /> October 7, 20
 20.<br /> <br /> The Forum is hosted by the Icelandic Chairmanship and co-o
 rganized by the Sustainable Development Working Group and the Arctic Initia
 tive at Harvard Kennedy School’s Belfer Center.&nbsp;<br /> <br /> You can 
 find the weekly schedule below and register on the dedicated event website 
 hosted by the Belfer Center: <a href="https://www.belfercenter.org/event/ar
 ctic-resilience-forum">https://www.belfercenter.org/event/arctic-resilience
 -forum</a>&nbsp;<br /> <br /> We hope that you will join us and we apprecia
 te you sharing this information with your networks.<br /> <br /> Simultaneo
 us Russian interpretation will be provided for all sessions.</p><p><br /> <
 strong>Arctic Resilience Forum weekly schedule:</strong><br /> <br /> <stro
 ng>The Arctic Resilience Forum will be convened every Wednesday from 11:30a
 m – 1:00pm (EST) beginning October 7, 2020.</strong><br /> <br /> The onlin
 e series seeks to engage a broad audience in conversations about how to bui
 ld the resilience of Arctic communities and ecosystems across a variety of 
 focus areas, including:&nbsp;<br /> <br /> <strong>October 7:</strong>&nbsp
 ; Indigenous Youth Leadership<br /> <strong>October 14:&nbsp;</strong> Food
  Security<br /> <strong>October 21:</strong>&nbsp; Renewable Energy<br /> <
 strong>October 28:</strong>&nbsp; Human Health and Pandemics (this session 
 will be part of the SDWG Plenary meeting)<br /> <strong>November 11:</stron
 g>&nbsp; Broadband Connectivity<br /> <strong>November 18:</strong>&nbsp; G
 ender<br /> <strong>November 25:</strong>&nbsp; Socio-Ecological Resilience
 <br /> <strong>December 9:&nbsp; </strong>Infrastructure<br /> <strong>Dece
 mber 16</strong>:&nbsp; Working Together in the Arctic: Indigenous and West
 ern Knowledge System</p>
DTSTAMP:20260420T071236Z
DTSTART;TZID=UTC:20201104T113000
DTEND;TZID=UTC:20201104T130000
SEQUENCE:0
TRANSP:OPAQUE
END:VEVENT
END:VCALENDAR