BEGIN:VCALENDAR
VERSION:2.0
PRODID:-//jEvents 2.0 for Joomla//EN
CALSCALE:GREGORIAN
METHOD:PUBLISH
BEGIN:VEVENT
UID:4a0b1c9be08aa0de8d20d5c6a912c472
CATEGORIES:Polar Online Events
CREATED:20201109T083501
SUMMARY:ASM3 Webinar 2: “Addressing Gaps and Barriers in International Arctic Science Research”
DESCRIPTION:Announcement: ASM3 Webinar 2: “Addressing Gaps and Barriers in Internationa
 l Arctic Science Research”, 11 November 2020, 1300-1500 UTCAs part of the 3
 rd Arctic Science Ministerial (ASM3) process, the ASM3 organisers in collab
 oration with the European Polar Board, will be hosting a special workshop o
 n the gaps and barriers in international Arctic research. The workshop will
  be opened by with a summary of the feedback received from ASM3 participati
 ng countries and organizations to a series of questions about international
  research gaps, opportunities and challenges. Next on the agenda will be a 
 panel of speakers presenting recent synthesis reports on research gaps and 
 lessons-learned from projects that have navigated many international barrie
 rs with a short Q&amp;A following. After the panel, participants will have 
 the opportunity to participate in breakout sessions addressing a) data and 
 infrastructure, b) education and capacity building, c) sustained observatio
 ns, d) societally relevant research and e) access and other bureaucratic hu
 rdles. The breakout sessions aim to develop and prioritize actions needed t
 o more effectively address challenges and barriers to international Arctic 
 research efforts. The resulting prioritized actions will form the basis for
  recommendations in the final ASM3 Report.\nTitle: “Addressing Gaps and Bar
 riers in International Arctic Science Research”\n11 November 2020, 13: 00-1
 5: 00 UTC\nRegistration for the webinar: https://asm3.org/webinar-series/\n
X-ALT-DESC;FMTTYPE=text/html:<h2><strong>Announcement: ASM3 Webinar 2: “Addressing Gaps and Barriers in 
 International Arctic Science Research”, 11 November 2020, 1300-1500 UTC</st
 rong></h2><p>As part of the 3<sup>rd</sup> Arctic Science Ministerial (ASM3
 ) process, the ASM3 organisers in collaboration with the European Polar Boa
 rd, will be hosting a special workshop on the gaps and barriers in internat
 ional Arctic research. The workshop will be opened by with a summary of the
  feedback received from ASM3 participating countries and organizations to a
  series of questions about international research gaps, opportunities and c
 hallenges. Next on the agenda will be a panel of speakers presenting recent
  synthesis reports on research gaps and lessons-learned from projects that 
 have navigated many international barriers with a short Q&amp;A following. 
 After the panel, participants will have the opportunity to participate in b
 reakout sessions addressing a) data and infrastructure, b) education and ca
 pacity building, c) sustained observations, d) societally relevant research
  and e) access and other bureaucratic hurdles. The breakout sessions aim to
  develop and prioritize actions needed to more effectively address challeng
 es and barriers to international Arctic research efforts. The resulting pri
 oritized actions will form the basis for recommendations in the final ASM3 
 Report.</p><p><strong>Title: “Addressing Gaps and Barriers in International
  Arctic Science Research”</strong></p><p>11 November 2020, 13: 00-15: 00 UT
 C</p><p>Registration for the webinar: <a href="https://asm3.org/webinar-ser
 ies/">https://asm3.org/webinar-series/</a></p>
DTSTAMP:20260422T170037Z
DTSTART;TZID=UTC:20201111T080000
DTEND;TZID=UTC:20201111T170000
SEQUENCE:0
TRANSP:OPAQUE
END:VEVENT
END:VCALENDAR