BEGIN:VCALENDAR
VERSION:2.0
PRODID:-//jEvents 2.0 for Joomla//EN
CALSCALE:GREGORIAN
METHOD:PUBLISH
BEGIN:VEVENT
UID:de9f611bb21a05a0c62964baed81cfd0
CATEGORIES:Polar Online Events
CREATED:20201109T083352
SUMMARY:Inclusion Matters: Indigenous Knowledge and Arctic Research
DESCRIPTION:<p>The Canadian International Arctic Centre and Polar Knowledge Canada anno
 unce their webinar titled <em>Inclusion Matters: Indigenous Knowledge and A
 rctic Research</em>. This webinar will be held 10 November 2020 from 9:00 t
 o 10:15 a.m. EST (15:00 – 16:15 CET).</p><p>This webinar will explore how t
 o best advocate for including Indigenous Knowledge, what it looks like in t
 he field, and share best practices with participants. Speakers Candice Pede
 rsen (SIKU), Pitseolak Pfeifer (Inuit Solutions), and Lisa Loseto (Departme
 nt of Fisheries and Oceans) will share their experiences and expertise, and
  will answer questions on the subject.</p><p>For more information and to re
 gister, contact:<br /> Email: <span id="cloak5e3d8bd03300da203994c2219ef61d
 5f">This email address is being protected from spambots. You need JavaScrip
 t enabled to view it.</span><script type='text/javascript'>
				document.ge
 tElementById('cloak5e3d8bd03300da203994c2219ef61d5f').innerHTML = '';
				v
 ar prefix = '&#109;a' + 'i&#108;' + '&#116;o';
				var path = 'hr' + 'ef' +
  '=';
				var addy5e3d8bd03300da203994c2219ef61d5f = 'OSLO-CIAC' + '&#64;';
 
				addy5e3d8bd03300da203994c2219ef61d5f = addy5e3d8bd03300da203994c2219ef
 61d5f + '&#105;nt&#101;rn&#97;t&#105;&#111;n&#97;l' + '&#46;' + 'gc' + '&#4
 6;' + 'c&#97;';
				var addy_text5e3d8bd03300da203994c2219ef61d5f = 'OSLO-C
 IAC' + '&#64;' + '&#105;nt&#101;rn&#97;t&#105;&#111;n&#97;l' + '&#46;' + 'g
 c' + '&#46;' + 'c&#97;';document.getElementById('cloak5e3d8bd03300da203994c
 2219ef61d5f').innerHTML += '<a ' + path + '\'' + prefix + ':' + addy5e3d8bd
 03300da203994c2219ef61d5f + '\'>'+addy_text5e3d8bd03300da203994c2219ef61d5f
 +'<\/a>';
		</script></p>
DTSTAMP:20260425T232711Z
DTSTART;TZID=UTC:20201110T080000
DTEND;TZID=UTC:20201110T170000
SEQUENCE:0
TRANSP:OPAQUE
END:VEVENT
END:VCALENDAR