BEGIN:VCALENDAR
VERSION:2.0
PRODID:-//jEvents 2.0 for Joomla//EN
CALSCALE:GREGORIAN
METHOD:PUBLISH
BEGIN:VEVENT
UID:7787c479a38ef2a18e9dd97f2ee2e564
CATEGORIES:Polar Conferences, Meetings and Events
CREATED:20201102T123554
SUMMARY:3rd International Conference on Polar Climate and Environmental Change in the Last Millennium
DESCRIPTION:Despite our best wishes, we have to postpone the 3rd International Conferen
 ce on 'Polar Climate and Environmental Change in the Last Millennium' once 
 again. \nThe planned new term is the 30th August - 1st September 2021.\nImp
 ortant dates\n15 October 2019 1st Circular\n15 November 2019 Registration o
 pen\n15 June 2020 2nd Circular\n1 April 2021 3rd Circular\n30 April 2021 Re
 gistration and abstract submission deadline for financial support\n31 May 2
 021 Conference grantees notification\n15 June 2021 Registration close\n30 J
 une 2021 Abstract submission deadline\n30 June 2021 Conference fee deadline
 \n30 August - 1 September 2021 Welcome to Toruń\nOur decision was made in r
 esponse to the 2nd wave of COVID-19 crisis and guided by Nicolaus Copernicu
 s University's internal safety policies.\nStay safe and healthy!\nHope to s
 ee you in better times,\npolarclimate2020 Committee\n
X-ALT-DESC;FMTTYPE=text/html:<p>Despite our best wishes, we have to postpone the 3rd International Confe
 rence on&nbsp;<strong>'Polar Climate and Environmental Change in the Last M
 illennium' </strong>once again.&nbsp;</p><p>The planned new term is<em><str
 ong>&nbsp;</strong></em>the<em><strong> 30th August - 1st September 2021.</
 strong></em></p><p><strong>Important dates</strong><br />15 October 2019 1s
 t Circular<br />15 November 2019 Registration open<br />15 June 2020 2nd Ci
 rcular<br />1 April 2021 3rd Circular<br />30 April 2021 Registration and a
 bstract submission deadline for financial support<br />31 May 2021 Conferen
 ce grantees notification<br />15 June 2021 Registration close<br />30 June 
 2021 Abstract submission deadline<br />30 June 2021 Conference fee deadline
 <br />30 August - 1 September 2021 Welcome to Toruń</p><p>Our decision was 
 made in response to the 2nd wave of COVID-19 crisis and guided by Nicolaus 
 Copernicus University's internal safety policies.</p><p>Stay safe and healt
 hy!</p><p>Hope to see you in better times,<br />polarclimate2020&nbsp;Commi
 ttee</p>
DTSTAMP:20260422T013536Z
DTSTART;TZID=UTC:20201102T080000
DTEND;TZID=UTC:20201102T170000
SEQUENCE:0
TRANSP:OPAQUE
END:VEVENT
END:VCALENDAR