BEGIN:VCALENDAR
VERSION:2.0
PRODID:-//jEvents 2.0 for Joomla//EN
CALSCALE:GREGORIAN
METHOD:PUBLISH
BEGIN:VEVENT
UID:5d088dcd1ea63eb76e6c404e5446b40c
CATEGORIES:Polar Conferences, Meetings and Events
CREATED:20161028T115055
SUMMARY:Practice Meets Science: International Advanced Training Course on Snow and Avalanches
LOCATION:Davos\, Switzerland
DESCRIPTION:Practice Meets Science: International Advanced Training Course on Snow and 
 Avalanches, Davos, Switzerland, 20-24 February 2017\n http://www.slf.ch/die
 nstleistungen/events/practice_meets_science/index_EN \n
X-ALT-DESC;FMTTYPE=text/html:<p><strong>Practice Meets Science: International Advanced Training Course o
 n Snow and Avalanches, Davos, Switzerland, 20-24 February 2017</strong></p>
 <p> <a href="http://www.slf.ch/dienstleistungen/events/practice_meets_scien
 ce/index_EN">http://www.slf.ch/dienstleistungen/events/practice_meets_scien
 ce/index_EN</a> </p>
DTSTAMP:20260424T122432Z
DTSTART;TZID=UTC;VALUE=DATE:20170220
DTEND;TZID=UTC;VALUE=DATE:20170225
SEQUENCE:0
TRANSP:OPAQUE
END:VEVENT
END:VCALENDAR