BEGIN:VCALENDAR
VERSION:2.0
PRODID:-//jEvents 2.0 for Joomla//EN
CALSCALE:GREGORIAN
METHOD:PUBLISH
BEGIN:VEVENT
UID:efdd2520165a3dd8cea00b9861471586
CATEGORIES:Polar Online Events
CREATED:20201019T074356
SUMMARY:SIOS webinar on Grand Challenge Initiative (GCI) cusp rocket missions in Svalbard
DESCRIPTION:We are heading towards another winter and already started getting the view 
 of northern lights in Svalbard. It makes perfect timing for our next webina
 r on studying polar atmosphere using Grand Challenge Initiative (GCI) cusp 
 rocket missions in Svalbard on 23rd October 2020, Friday, during 15:00 - 16
 :30 (CEST). This webinar covers the following four talks: \n \n\n - Jøran M
 oen (UNIS): GCI-Cusp history and its relevance to Svalbard studies.\n - And
 res Spicher (University of Oslo): GCI-Cusp: an observing system for the dyn
 amics of the upper polar atmosphere above Svalbard.\n - Douglas Rowland (NA
 SA): The VISIONS-2 rocket mission: exploring atmospheric escape in the Eart
 h's cusp.\n - Kolbjørn Blix (Andøya Space Centre): Grand Challenge Initiati
 ve - M/LT project \nMore information about our webinar series is here: http
 s://sios-svalbard.org/RSWebinarSeries\nThis webinar is free but you would n
 eed to register here: <a href="https://us02web.zoom.us/meeting/register/tZY
 vde2trDkvEtH9DhNUTrHqLyq55glUIhi7">https://us02web.zoom.us/meeting/register
 /tZYvde2trDkvEtH9DhNUTrHqLyq55glUIhi7</a>\nOnce you register, you will rece
 ive a confirmation email containing information about joining the meeting.\
 n \nPlease feel free to share this information with your colleagues interes
 ted in sounding rocket missions for atmospheric studies. \n
X-ALT-DESC;FMTTYPE=text/html:<p>We are heading towards another winter and already started getting the vi
 ew of northern lights in Svalbard. It makes perfect timing for our next web
 inar on studying polar atmosphere using Grand Challenge Initiative (GCI) cu
 sp rocket missions in Svalbard on 23rd October 2020, Friday, during 15:00 -
  16:30 (CEST).&nbsp;This webinar covers the following four talks:&nbsp;<spa
 n style="text-decoration: underline;"></span><span style="text-decoration: 
 underline;"></span></p><p>&nbsp;<span style="text-decoration: underline;"><
 /span><span style="text-decoration: underline;"></span></p><ol start="1" ty
 pe="1"><li>Jøran Moen (UNIS): GCI-Cusp history and its relevance to Svalbar
 d studies.<span style="text-decoration: underline;"></span><span style="tex
 t-decoration: underline;"></span></li><li>Andres Spicher (University of Osl
 o): GCI-Cusp: an observing system for the dynamics of the upper polar atmos
 phere above Svalbard.<span style="text-decoration: underline;"></span><span
  style="text-decoration: underline;"></span></li><li>Douglas Rowland (NASA)
 : The VISIONS-2 rocket mission: exploring atmospheric escape in the Earth's
  cusp.<span style="text-decoration: underline;"></span><span style="text-de
 coration: underline;"></span></li><li>Kolbjørn Blix (Andøya Space Centre): 
 Grand Challenge Initiative - M/LT project<span style="text-decoration: unde
 rline;"></span><span style="text-decoration: underline;"></span></li></ol><
 p>&nbsp;<span style="text-decoration: underline;"></span><span style="text-
 decoration: underline;"></span></p><p>More information about our webinar se
 ries is here: <a href="https://sios-svalbard.org/RSWebinarSeries">https://s
 ios-svalbard.org/RSWebinarSeries</a><span style="text-decoration: underline
 ;"></span><span style="text-decoration: underline;"></span></p><p>This webi
 nar is free but you would need to register here: <a href="https://us02web.z
 oom.us/meeting/register/tZYvde2trDkvEtH9DhNUTrHqLyq55glUIhi7">https://us02w
 eb.zoom.us/meeting/register/tZYvde2trDkvEtH9DhNUTrHqLyq55glUIhi7</a><span s
 tyle="text-decoration: underline;"></span><span style="text-decoration: und
 erline;"></span></p><p>Once you register, you will receive a confirmation e
 mail containing information about joining the meeting.<span style="text-dec
 oration: underline;"></span><span style="text-decoration: underline;"></spa
 n></p><p>&nbsp;<span style="text-decoration: underline;"></span><span style
 ="text-decoration: underline;"></span></p><p>Please feel free to share this
  information with your colleagues interested in sounding rocket missions fo
 r atmospheric studies.&nbsp;</p>
DTSTAMP:20260420T034524Z
DTSTART;TZID=UTC:20201023T150000
DTEND;TZID=UTC:20201023T163000
SEQUENCE:0
TRANSP:OPAQUE
END:VEVENT
END:VCALENDAR