BEGIN:VCALENDAR
VERSION:2.0
PRODID:-//jEvents 2.0 for Joomla//EN
CALSCALE:GREGORIAN
METHOD:PUBLISH
BEGIN:VEVENT
UID:47f1a89e3706af8866f1ed6ac99e17b6
CATEGORIES:Polar Online Events
CREATED:19700101T000000
SUMMARY:The Arctic Resilience Forum 2020
DESCRIPTION:<p>The Arctic Resilience Forum 2020 will be held online as a series of ten 
 weekly 1,5 hours long webinars starting this Wednesday,<br /> October 7, 20
 20.<br /> <br /> The Forum is hosted by the Icelandic Chairmanship and co-o
 rganized by the Sustainable Development Working Group and the Arctic Initia
 tive at Harvard Kennedy School’s Belfer Center.&nbsp;<br /> <br /> You can 
 find the weekly schedule below and register on the dedicated event website 
 hosted by the Belfer Center: <a href="https://www.belfercenter.org/event/ar
 ctic-resilience-forum">https://www.belfercenter.org/event/arctic-resilience
 -forum</a>&nbsp;<br /> <br /> We hope that you will join us and we apprecia
 te you sharing this information with your networks.<br /> <br /> Simultaneo
 us Russian interpretation will be provided for all sessions.</p><p><br /> <
 strong>Arctic Resilience Forum weekly schedule:</strong><br /> <br /> <stro
 ng>The Arctic Resilience Forum will be convened every Wednesday from 11:30a
 m – 1:00pm (EST) beginning October 7, 2020.</strong><br /> <br /> The onlin
 e series seeks to engage a broad audience in conversations about how to bui
 ld the resilience of Arctic communities and ecosystems across a variety of 
 focus areas, including:&nbsp;<br /> <br /> <strong>October 7:</strong>&nbsp
 ; Indigenous Youth Leadership<br /> <strong>October 14:&nbsp;</strong> Food
  Security<br /> <strong>October 21:</strong>&nbsp; Renewable Energy<br /> <
 strong>October 28:</strong>&nbsp; Human Health and Pandemics (this session 
 will be part of the SDWG Plenary meeting)<br /> <strong>November 11:</stron
 g>&nbsp; Broadband Connectivity<br /> <strong>November 18:</strong>&nbsp; G
 ender<br /> <strong>November 25:</strong>&nbsp; Socio-Ecological Resilience
 <br /> <strong>December 9:&nbsp; </strong>Infrastructure<br /> <strong>Dece
 mber 16</strong>:&nbsp; Working Together in the Arctic: Indigenous and West
 ern Knowledge System</p>
DTSTAMP:20260420T071604Z
DTSTART;TZID=UTC:20201007T113000
DTEND;TZID=UTC:20201007T130000
SEQUENCE:0
RRULE:FREQ=WEEKLY;UNTIL=20201217T000000Z;INTERVAL=1;BYDAY=WE
TRANSP:OPAQUE
END:VEVENT
END:VCALENDAR