BEGIN:VCALENDAR
VERSION:2.0
PRODID:-//jEvents 2.0 for Joomla//EN
CALSCALE:GREGORIAN
METHOD:PUBLISH
BEGIN:VEVENT
UID:e849532c19067891ea57fad5c0c421ef
CATEGORIES:Polar Online Events
CREATED:20200929T121226
SUMMARY:IARPC Public Webinar Series: MOSAiC Expedition Overview
LOCATION:Online
DESCRIPTION:The International Arctic Research Policy Committee (IARPC) announces a webi
 nar that will provide an overview of the Multidisciplinary drifting Observa
 tory for the Study of Arctic Climate (MOSAiC) Expedition. This webinar will
  be held 8 October 2020 at 10:00 a.m. AKDT.\nThroughout October, IARPC Coll
 aborations will be holding a "MOSAiC Month" focused on the MOSAiC expeditio
 n. Led by the Alfred Wegener Institute, MOSAiC is the first year-round expe
 dition into the central Arctic exploring the Arctic climate system. The bac
 kbone of MOSAiC is the year-round operation of R/V Polarstern, which has be
 en drifting with the sea ice across the central Arctic with researchers set
 ting up a distributed regional network of observational sites. This webinar
  serves as an introduction and overview of the MOSAiC expedition.\nAll are 
 welcome to attend.\nFor more information and to register, go to:\n"&gt;Webi
 nar homepage\nFor questions, contact:\nLiz Weinberg\nEmail: <a href="https:
 //www.arcus.org/civicrm/mailing/url?u=25391&amp;qid=4354149" rel="nofollow"
 ></a>This email address is being protected from spambots. You need JavaScri
 pt enabled to view it.
				document.getElementById('cloak410db4c84388a9e88d
 12fc5c579f963b').innerHTML = '';
				var prefix = '&#109;a' + 'i&#108;' + '
 &#116;o';
				var path = 'hr' + 'ef' + '=';
				var addy410db4c84388a9e88d1
 2fc5c579f963b = 'l&#105;z' + '&#64;';
				addy410db4c84388a9e88d12fc5c579f9
 63b = addy410db4c84388a9e88d12fc5c579f963b + '&#105;&#97;rpcc&#111;ll&#97;b
 &#111;r&#97;t&#105;&#111;ns' + '&#46;' + '&#111;rg';
				var addy_text410db
 4c84388a9e88d12fc5c579f963b = 'l&#105;z' + '&#64;' + '&#105;&#97;rpcc&#111;
 ll&#97;b&#111;r&#97;t&#105;&#111;ns' + '&#46;' + '&#111;rg';document.getEle
 mentById('cloak410db4c84388a9e88d12fc5c579f963b').innerHTML += '<a ' + path
  + '\'' + prefix + ':' + addy410db4c84388a9e88d12fc5c579f963b + '\'>'+addy_
 text410db4c84388a9e88d12fc5c579f963b+'';
		\n
X-ALT-DESC;FMTTYPE=text/html:<p>The International Arctic Research Policy Committee (IARPC) announces a w
 ebinar that will provide an overview of the Multidisciplinary drifting Obse
 rvatory for the Study of Arctic Climate (MOSAiC) Expedition. This webinar w
 ill be held 8 October 2020 at 10:00 a.m. AKDT.</p><p>Throughout October, IA
 RPC Collaborations will be holding a "MOSAiC Month" focused on the MOSAiC e
 xpedition. Led by the Alfred Wegener Institute, MOSAiC is the first year-ro
 und expedition into the central Arctic exploring the Arctic climate system.
  The backbone of MOSAiC is the year-round operation of R/V&nbsp;<em>Polarst
 ern</em>, which has been drifting with the sea ice across the central Arcti
 c with researchers setting up a distributed regional network of observation
 al sites. This webinar serves as an introduction and overview of the MOSAiC
  expedition.</p><p>All are welcome to attend.</p><p>For more information an
 d to register, go to:<br /><a href="https://www.arcus.org/civicrm/mailing/u
 rl?u=25390&amp;qid=4354149" rel="nofollow" title="&lt;a href=">https://www.
 arcus.org/civicrm/mailing/url?u=25390&amp;qid=4354149</a>"&gt;Webinar homep
 age</p><p>For questions, contact:<br />Liz Weinberg<br />Email:&nbsp;<a hre
 f="https://www.arcus.org/civicrm/mailing/url?u=25391&amp;qid=4354149" rel="
 nofollow"></a><span id="cloak410db4c84388a9e88d12fc5c579f963b">This email a
 ddress is being protected from spambots. You need JavaScript enabled to vie
 w it.</span><script type='text/javascript'>
				document.getElementById('cl
 oak410db4c84388a9e88d12fc5c579f963b').innerHTML = '';
				var prefix = '&#1
 09;a' + 'i&#108;' + '&#116;o';
				var path = 'hr' + 'ef' + '=';
				var ad
 dy410db4c84388a9e88d12fc5c579f963b = 'l&#105;z' + '&#64;';
				addy410db4c8
 4388a9e88d12fc5c579f963b = addy410db4c84388a9e88d12fc5c579f963b + '&#105;&#
 97;rpcc&#111;ll&#97;b&#111;r&#97;t&#105;&#111;ns' + '&#46;' + '&#111;rg';
	
 			var addy_text410db4c84388a9e88d12fc5c579f963b = 'l&#105;z' + '&#64;' + '
 &#105;&#97;rpcc&#111;ll&#97;b&#111;r&#97;t&#105;&#111;ns' + '&#46;' + '&#11
 1;rg';document.getElementById('cloak410db4c84388a9e88d12fc5c579f963b').inne
 rHTML += '<a ' + path + '\'' + prefix + ':' + addy410db4c84388a9e88d12fc5c5
 79f963b + '\'>'+addy_text410db4c84388a9e88d12fc5c579f963b+'<\/a>';
		</scri
 pt></p>
DTSTAMP:20260420T034918Z
DTSTART;TZID=UTC;VALUE=DATE:20201008
DTEND;TZID=UTC;VALUE=DATE:20201009
SEQUENCE:0
TRANSP:OPAQUE
END:VEVENT
END:VCALENDAR