BEGIN:VCALENDAR
VERSION:2.0
PRODID:-//jEvents 2.0 for Joomla//EN
CALSCALE:GREGORIAN
METHOD:PUBLISH
BEGIN:VEVENT
UID:8d725392f647f2b4b3c3a86f6e96a5fa
CATEGORIES:Polar Online Events
CREATED:20200929T115932
SUMMARY:International Glaciological Society Global Seminar Series 2020  #22
LOCATION:Online
DESCRIPTION:International Glaciological Society Global Seminar Series 2020  #22\n \nWED
 NESDAY Sept 30th - Three shorter talks from ECRs\nWilliam Harcourt, Univers
 ity of St. Andrews, “New opportunities for glacier mapping using millimetre
 -wave radar”\nMichalea King, Byrd Polar and Climate Research Center, " Nonu
 niform response of Greenland Outlet glaciers to seasonal meltwater working 
 "\nLauren Vargo, University of Wellington, " Anthropogenic warning forces e
 xtreme annual glacier mass loss"\nYou need to register in advance for the s
 eminars, but your registration should last for several seminars. If it was 
 a while ago that you registered - check your link still works and drop me a
 n email if it doesn't. There's a short question to answer - please tell me 
 enough to accept you! I'll be doing that manually, so just be kind and make
  it obvious (even if I met you once at AGU)… (something like: I'm a PhD stu
 dent with X... or whatever). Using your official university email address w
 ould make my life particularly easy!\n (https://swanseauniversity.zoom.us/m
 eeting/register/tJUqfuirrzouG9C5Dj7FfLjpsy3cINaVRWK6)<a href="https://swans
 eauniversity.zoom.us/meeting/register/tJUqfuirrzouG9C5Dj7FfLjpsy3cINaVRWK6"
 >https://swanseauniversity.zoom.us/meeting/register/tJUqfuirrzouG9C5Dj7FfLj
 psy3cINaVRWK6</a>\nAfter registering, you will receive a confirmation email
  containing information about joining the seminar. If you attended this wee
 k you use the same link next week and don't need to re-register.\n
X-ALT-DESC;FMTTYPE=text/html:<p><strong>International Glaciological Society Global Seminar Series 2020&n
 bsp; #22</strong></p><p><strong>&nbsp;</strong></p><p><strong>WEDNESDAY Sep
 t 30th - Three shorter talks from ECRs</strong></p><p><strong>William Harco
 urt</strong>, University of St. Andrews, “New opportunities for glacier map
 ping using millimetre-wave radar”</p><p><strong>Michalea King</strong>, Byr
 d Polar and Climate Research Center, " Nonuniform response of Greenland Out
 let glaciers to seasonal meltwater working "</p><p><strong>Lauren Vargo</st
 rong>, University of Wellington, " Anthropogenic warning forces extreme ann
 ual glacier mass loss"</p><p>You need to register in advance for the semina
 rs, but your registration should last for several seminars. If it was a whi
 le ago that you registered - check your link still works and drop me an ema
 il if it doesn't. There's a short question to answer - please tell me enoug
 h to accept you! I'll be doing that manually, so just be kind and make it o
 bvious (even if I met you once at AGU)… (something like: I'm a PhD student 
 with X... or whatever). Using your official university email address would 
 make my life particularly easy!</p><p><a href="https://swanseauniversity.zo
 om.us/meeting/register/tJUqfuirrzouG9C5Dj7FfLjpsy3cINaVRWK6"></a><a href="h
 ttps://swanseauniversity.zoom.us/meeting/register/tJUqfuirrzouG9C5Dj7FfLjps
 y3cINaVRWK6">https://swanseauniversity.zoom.us/meeting/register/tJUqfuirrzo
 uG9C5Dj7FfLjpsy3cINaVRWK6</a></p><p>After registering, you will receive a c
 onfirmation email containing information about joining the seminar. If you 
 attended this week you use the same link next week and don't need to re-reg
 ister.</p>
DTSTAMP:20260420T071249Z
DTSTART;TZID=UTC;VALUE=DATE:20200930
DTEND;TZID=UTC;VALUE=DATE:20201001
SEQUENCE:0
TRANSP:OPAQUE
END:VEVENT
END:VCALENDAR