BEGIN:VCALENDAR
VERSION:2.0
PRODID:-//jEvents 2.0 for Joomla//EN
CALSCALE:GREGORIAN
METHOD:PUBLISH
BEGIN:VEVENT
UID:57951ba6333a43bbb8ab311104e262ba
CATEGORIES:Polar Conferences, Meetings and Events
CREATED:20161027T132539
SUMMARY:The 31st FRISP  workshop
LOCATION: Bergen\, Norway
DESCRIPTION:The 31st FRISP workshop will be arranged 19-22 June, 2017 at hotel Panorama
  in Bergen, Norway.\nPlease save the dates and join us for three days of in
 teresting presentations and discussions on all aspects of ice shelf related
  research!\nMore information is available at:  (http://folk.uib.no/ngfso/FR
 ISP/news.html)<a>http://folk.uib.no/ngfso/FRISP/news.html#</a> \nFRISP - Fo
 rum for Research into Ice Shelf Processes\nThe FRISP workshop is an informa
 l meeting where we exchange ideas, results and field plans. As always, we w
 elcome presentations on all aspects of ice shelf research, including, but n
 ot limited to:\n* formation, flow and disintegration of ice shelves and tid
 ewater glaciers\n* response of ice shelves and tidewater glaciers to past, 
 present and future climate variability\n* surface and basal mass balance of
  ice shelves\n* ice-ocean interaction at the calving front of ice shelves a
 nd tidewater glaciers\n* mass transport across the grounding line\n* ocean 
 circulation and water mass transformation beneath ice shelves and within pr
 o-glacial fjords\n* impact of ice shelves on the global ocean\n* processes 
 controlling the delivery of ocean heat to glaciated coastlines\n* climate r
 ecords from on or near current or former ice shelves\n* iceberg calving, dr
 ift, melting, and decay\n
X-ALT-DESC;FMTTYPE=text/html:<p><strong>The 31st FRISP workshop will be arranged 19-22 June, 2017 at hot
 el Panorama in Bergen, Norway.</strong></p><p>Please save the dates and joi
 n us for three days of interesting presentations and discussions on all asp
 ects of ice shelf related research!</p><p>More information is available at:
  <a href="http://folk.uib.no/ngfso/FRISP/news.html"><a>http://folk.uib.no/n
 gfso/FRISP/news.html#</a></a> </p><p><strong>FRISP - Forum for Research int
 o Ice Shelf Processes</strong></p><p>The FRISP workshop is an informal meet
 ing where we exchange ideas, results and field plans. As always, we welcome
  presentations on all aspects of ice shelf research, including, but not lim
 ited to:<br />* formation, flow and disintegration of ice shelves and tidew
 ater glaciers<br />* response of ice shelves and tidewater glaciers to past
 , present and future climate variability<br />* surface and basal mass bala
 nce of ice shelves<br />* ice-ocean interaction at the calving front of ice
  shelves and tidewater glaciers<br />* mass transport across the grounding 
 line<br />* ocean circulation and water mass transformation beneath ice she
 lves and within pro-glacial fjords<br />* impact of ice shelves on the glob
 al ocean<br />* processes controlling the delivery of ocean heat to glaciat
 ed coastlines<br />* climate records from on or near current or former ice 
 shelves<br />* iceberg calving, drift, melting, and decay</p>
DTSTAMP:20260423T033208Z
DTSTART;TZID=UTC;VALUE=DATE:20170619
DTEND;TZID=UTC;VALUE=DATE:20170623
SEQUENCE:0
TRANSP:OPAQUE
END:VEVENT
END:VCALENDAR