BEGIN:VCALENDAR
VERSION:2.0
PRODID:-//jEvents 2.0 for Joomla//EN
CALSCALE:GREGORIAN
METHOD:PUBLISH
BEGIN:VEVENT
UID:aea9f15acd7da4a817cb28eaa057466d
CATEGORIES:Polar Online Events
CREATED:20200908T064808
SUMMARY:Elmer/Ice beginners course
LOCATION:Online
DESCRIPTION:<p>We are pleased to announce a new Elmer/Ice course for beginners!</p><p>T
 his course will be organised as an online course from <strong>23 to 27 Nove
 mber 2020</strong> and will mix tutorial videos for self-study and live ses
 sions to answer questions and small presentations in webinar style (with ma
 x 2 hours per day).</p><p>If you are interested in attending this new cours
 e, could you please send us an email with your name, affiliation, few lines
  on your motivation in starting using Elmer/Ice as well as specifying your 
 time zone (to try to find the best time of the day for the live sessions).<
 /p><p>Best Regards,<br />Fabien Gillet-Chaulet<br />Thomas Zwinger<br />Gag
 liardini Olivier &lt;<span id="cloake7bec412648c97b1fe5ecc5c898a25b8">This 
 email address is being protected from spambots. You need JavaScript enabled
  to view it.</span><script type='text/javascript'>
				document.getElementB
 yId('cloake7bec412648c97b1fe5ecc5c898a25b8').innerHTML = '';
				var prefix
  = '&#109;a' + 'i&#108;' + '&#116;o';
				var path = 'hr' + 'ef' + '=';
			
 	var addye7bec412648c97b1fe5ecc5c898a25b8 = '&#111;l&#105;v&#105;&#101;r.g&
 #97;gl&#105;&#97;rd&#105;n&#105;' + '&#64;';
				addye7bec412648c97b1fe5ecc
 5c898a25b8 = addye7bec412648c97b1fe5ecc5c898a25b8 + '&#117;n&#105;v-gr&#101
 ;n&#111;bl&#101;-&#97;lp&#101;s' + '&#46;' + 'fr&gt;';
				var addy_texte7b
 ec412648c97b1fe5ecc5c898a25b8 = '&#111;l&#105;v&#105;&#101;r.g&#97;gl&#105;
 &#97;rd&#105;n&#105;(&#97;t)&#117;n&#105;v-gr&#101;n&#111;bl&#101;-&#97;lp&
 #101;s.fr&gt;';document.getElementById('cloake7bec412648c97b1fe5ecc5c898a25
 b8').innerHTML += '<a ' + path + '\'' + prefix + ':' + addye7bec412648c97b1
 fe5ecc5c898a25b8 + '\'>'+addy_texte7bec412648c97b1fe5ecc5c898a25b8+'<\/a>';
 
		</script>;</p>
DTSTAMP:20260425T194018Z
DTSTART;TZID=UTC;VALUE=DATE:20201123
DTEND;TZID=UTC;VALUE=DATE:20201128
SEQUENCE:0
TRANSP:OPAQUE
END:VEVENT
END:VCALENDAR