BEGIN:VCALENDAR
VERSION:2.0
PRODID:-//jEvents 2.0 for Joomla//EN
CALSCALE:GREGORIAN
METHOD:PUBLISH
BEGIN:VEVENT
UID:808e159ac8caada9d019e235491072d2
CATEGORIES:Polar Conferences, Meetings and Events
CREATED:20200904T065153
SUMMARY:Polar CORDEX workshop
LOCATION:Online
DESCRIPTION:The annual Polar CORDEX workshop will be held online this year from 5-7 Oct
 ober 2020 15-17 UTC and will address the following topics:\n \n5 Oct - Arct
 ic CORDEX updates and plans\n6 Oct - Antarctic CORDEX updates and plans\n7 
 Oct - Polar CORDEX next steps\n \nPlease register for the workshop, and ind
 icated if you would like to give a presentation, by 25 September at: https:
 //docs.google.com/forms/d/1nxFeBS7CFMK1pVHjiJ4XSbQ_jLXmS-WXGdWwmHy1kvU/view
 form\n \nA final agenda and Zoom invitation for the meeting will be sent to
  all registered participants at the end of September. \n \nWe plan to resum
 e in-person meetings next fall.\n \nFor any questions please contact:\nJohn
  Cassano, Annette Rinke and Andrew Orr\nThis email address is being protect
 ed from spambots. You need JavaScript enabled to view it.
				document.getE
 lementById('cloakbe7b2f8f21b59af752eabfaf159ad0e7').innerHTML = '';
				var
  prefix = '&#109;a' + 'i&#108;' + '&#116;o';
				var path = 'hr' + 'ef' + '
 =';
				var addybe7b2f8f21b59af752eabfaf159ad0e7 = 'j&#111;hn.c&#97;ss&#97;
 n&#111;' + '&#64;';
				addybe7b2f8f21b59af752eabfaf159ad0e7 = addybe7b2f8f
 21b59af752eabfaf159ad0e7 + 'c&#111;l&#111;r&#97;d&#111;' + '&#46;' + '&#101
 ;d&#117;';
				var addy_textbe7b2f8f21b59af752eabfaf159ad0e7 = 'j&#111;hn.c
 &#97;ss&#97;n&#111;' + '&#64;' + 'c&#111;l&#111;r&#97;d&#111;' + '&#46;' + 
 '&#101;d&#117;';document.getElementById('cloakbe7b2f8f21b59af752eabfaf159ad
 0e7').innerHTML += '<a ' + path + '\'' + prefix + ':' + addybe7b2f8f21b59af
 752eabfaf159ad0e7 + '\'>'+addy_textbe7b2f8f21b59af752eabfaf159ad0e7+'';
		,
  This email address is being protected from spambots. You need JavaScript e
 nabled to view it.
				document.getElementById('cloak58c8f1af9e4a4731583990
 0316d311b3').innerHTML = '';
				var prefix = '&#109;a' + 'i&#108;' + '&#11
 6;o';
				var path = 'hr' + 'ef' + '=';
				var addy58c8f1af9e4a47315839900
 316d311b3 = 'Ann&#101;tt&#101;.R&#105;nk&#101;' + '&#64;';
				addy58c8f1af
 9e4a47315839900316d311b3 = addy58c8f1af9e4a47315839900316d311b3 + '&#97;w&#
 105;' + '&#46;' + 'd&#101;';
				var addy_text58c8f1af9e4a47315839900316d31
 1b3 = 'Ann&#101;tt&#101;.R&#105;nk&#101;' + '&#64;' + '&#97;w&#105;' + '&#4
 6;' + 'd&#101;';document.getElementById('cloak58c8f1af9e4a47315839900316d31
 1b3').innerHTML += '<a ' + path + '\'' + prefix + ':' + addy58c8f1af9e4a473
 15839900316d311b3 + '\'>'+addy_text58c8f1af9e4a47315839900316d311b3+'';
		,
  This email address is being protected from spambots. You need JavaScript e
 nabled to view it.
				document.getElementById('cloake2721f3fe32675f73be90a
 d0ae2458af').innerHTML = '';
				var prefix = '&#109;a' + 'i&#108;' + '&#11
 6;o';
				var path = 'hr' + 'ef' + '=';
				var addye2721f3fe32675f73be90ad
 0ae2458af = '&#97;nmcr' + '&#64;';
				addye2721f3fe32675f73be90ad0ae2458af
  = addye2721f3fe32675f73be90ad0ae2458af + 'b&#97;s' + '&#46;' + '&#97;c' + 
 '&#46;' + '&#117;k';
				var addy_texte2721f3fe32675f73be90ad0ae2458af = '&
 #97;nmcr' + '&#64;' + 'b&#97;s' + '&#46;' + '&#97;c' + '&#46;' + '&#117;k';
 document.getElementById('cloake2721f3fe32675f73be90ad0ae2458af').innerHTML 
 += '<a ' + path + '\'' + prefix + ':' + addye2721f3fe32675f73be90ad0ae2458a
 f + '\'>'+addy_texte2721f3fe32675f73be90ad0ae2458af+'';
		\n
X-ALT-DESC;FMTTYPE=text/html:<p>The annual Polar CORDEX workshop will be held online this year from <str
 ong>5-7 October 2020 15-17 UTC</strong> and will address the following topi
 cs:<br /> <br />5 Oct - Arctic CORDEX updates and plans<br />6 Oct - Antarc
 tic CORDEX updates and plans<br />7 Oct - Polar CORDEX next steps<br /> <br
  />Please register for the workshop, and indicated if you would like to giv
 e a presentation, <strong>by 25 September</strong> at: <a href="https://doc
 s.google.com/forms/d/1nxFeBS7CFMK1pVHjiJ4XSbQ_jLXmS-WXGdWwmHy1kvU/viewform"
 >https://docs.google.com/forms/d/1nxFeBS7CFMK1pVHjiJ4XSbQ_jLXmS-WXGdWwmHy1k
 vU/viewform</a><br /> <br />A final agenda and Zoom invitation for the meet
 ing will be sent to all registered participants at the end of September. <b
 r /> <br />We plan to resume in-person meetings next fall.<br /> <br />For 
 any questions please contact:<br />John Cassano, Annette Rinke and Andrew O
 rr<br /><span id="cloakbe7b2f8f21b59af752eabfaf159ad0e7">This email address
  is being protected from spambots. You need JavaScript enabled to view it.<
 /span><script type='text/javascript'>
				document.getElementById('cloakbe7
 b2f8f21b59af752eabfaf159ad0e7').innerHTML = '';
				var prefix = '&#109;a' 
 + 'i&#108;' + '&#116;o';
				var path = 'hr' + 'ef' + '=';
				var addybe7b
 2f8f21b59af752eabfaf159ad0e7 = 'j&#111;hn.c&#97;ss&#97;n&#111;' + '&#64;';

 				addybe7b2f8f21b59af752eabfaf159ad0e7 = addybe7b2f8f21b59af752eabfaf159a
 d0e7 + 'c&#111;l&#111;r&#97;d&#111;' + '&#46;' + '&#101;d&#117;';
				var a
 ddy_textbe7b2f8f21b59af752eabfaf159ad0e7 = 'j&#111;hn.c&#97;ss&#97;n&#111;'
  + '&#64;' + 'c&#111;l&#111;r&#97;d&#111;' + '&#46;' + '&#101;d&#117;';docu
 ment.getElementById('cloakbe7b2f8f21b59af752eabfaf159ad0e7').innerHTML += '
 <a ' + path + '\'' + prefix + ':' + addybe7b2f8f21b59af752eabfaf159ad0e7 + 
 '\'>'+addy_textbe7b2f8f21b59af752eabfaf159ad0e7+'<\/a>';
		</script>, <span
  id="cloak58c8f1af9e4a47315839900316d311b3">This email address is being pro
 tected from spambots. You need JavaScript enabled to view it.</span><script
  type='text/javascript'>
				document.getElementById('cloak58c8f1af9e4a4731
 5839900316d311b3').innerHTML = '';
				var prefix = '&#109;a' + 'i&#108;' +
  '&#116;o';
				var path = 'hr' + 'ef' + '=';
				var addy58c8f1af9e4a47315
 839900316d311b3 = 'Ann&#101;tt&#101;.R&#105;nk&#101;' + '&#64;';
				addy58
 c8f1af9e4a47315839900316d311b3 = addy58c8f1af9e4a47315839900316d311b3 + '&#
 97;w&#105;' + '&#46;' + 'd&#101;';
				var addy_text58c8f1af9e4a47315839900
 316d311b3 = 'Ann&#101;tt&#101;.R&#105;nk&#101;' + '&#64;' + '&#97;w&#105;' 
 + '&#46;' + 'd&#101;';document.getElementById('cloak58c8f1af9e4a47315839900
 316d311b3').innerHTML += '<a ' + path + '\'' + prefix + ':' + addy58c8f1af9
 e4a47315839900316d311b3 + '\'>'+addy_text58c8f1af9e4a47315839900316d311b3+'
 <\/a>';
		</script>, <span id="cloake2721f3fe32675f73be90ad0ae2458af">This 
 email address is being protected from spambots. You need JavaScript enabled
  to view it.</span><script type='text/javascript'>
				document.getElementB
 yId('cloake2721f3fe32675f73be90ad0ae2458af').innerHTML = '';
				var prefix
  = '&#109;a' + 'i&#108;' + '&#116;o';
				var path = 'hr' + 'ef' + '=';
			
 	var addye2721f3fe32675f73be90ad0ae2458af = '&#97;nmcr' + '&#64;';
				addy
 e2721f3fe32675f73be90ad0ae2458af = addye2721f3fe32675f73be90ad0ae2458af + '
 b&#97;s' + '&#46;' + '&#97;c' + '&#46;' + '&#117;k';
				var addy_texte2721
 f3fe32675f73be90ad0ae2458af = '&#97;nmcr' + '&#64;' + 'b&#97;s' + '&#46;' +
  '&#97;c' + '&#46;' + '&#117;k';document.getElementById('cloake2721f3fe3267
 5f73be90ad0ae2458af').innerHTML += '<a ' + path + '\'' + prefix + ':' + add
 ye2721f3fe32675f73be90ad0ae2458af + '\'>'+addy_texte2721f3fe32675f73be90ad0
 ae2458af+'<\/a>';
		</script></p>
DTSTAMP:20260421T224358Z
DTSTART;TZID=UTC:20201005T150000
DTEND;TZID=UTC:20201007T170000
SEQUENCE:0
TRANSP:OPAQUE
END:VEVENT
END:VCALENDAR