BEGIN:VCALENDAR
VERSION:2.0
PRODID:-//jEvents 2.0 for Joomla//EN
CALSCALE:GREGORIAN
METHOD:PUBLISH
BEGIN:VEVENT
UID:047d1e5d7afff9741075e5585791f514
CATEGORIES:Polar Conferences, Meetings and Events
CREATED:20200831T091657
SUMMARY:38th International Polar Symposium
LOCATION:Toruń\, Poland
DESCRIPTION:The Faculty of Earth Sciences and Spatial Management, Nicolaus Copernicus U
 niversity in Toruń and the Polar Research Center in cooperation with The Co
 mmittee on Polar Research of the Polish Academy of Sciences and the Polish 
 Polar Consortium jointly organise the 38th International Polar Symposium "E
 nvironmental changes in polar regions: New problems - new solutions" to be 
 held on 13-15 May 2021.\n\nThe IPS is a recurrent bi-annual scientific conf
 erence on widely understood polar topics. The conference has been very popu
 lar within the research communities in Poland and abroad for years. Now it 
 gives again a great opportunity to exchange experiences, to discuss and to 
 integrate experts from various fields who conduct their research in the Arc
 tic, the Antarctic and elsewhere in the world.\n\nThe IPS in 2020 is except
 ional, since accompanied with a plenary meeting under an umbrella of the Eu
 ropean Polar Board. We expect researcher from numerous countries, who will 
 be participating in special topic sessions.\n\nLast but not least, the 45th
  anniversary of the NCU Polar Station on Spitsbergen will be celebrated dur
 ing the IPS.\n1st Cicular: http://polarsymposium2020.umk.pl/pliki/Polar_Sym
 posium_Circular1st.pdf\n
X-ALT-DESC;FMTTYPE=text/html:<p>The Faculty of Earth Sciences and Spatial Management, Nicolaus&nbsp;Cope
 rnicus University in Toruń and the Polar Research Center in&nbsp;cooperatio
 n with&nbsp;The Committee on Polar Research of the Polish Academy of Scienc
 es&nbsp;and the Polish Polar Consortium jointly organise the 38th&nbsp;Inte
 rnational Polar Symposium "Environmental changes in polar regions:&nbsp;New
  problems - new solutions" to be held on <strong>13-15 May 2021</strong>.</
 p><p><br />The IPS is a recurrent bi-annual scientific conference on widely
 &nbsp;understood polar topics.&nbsp;The conference has been very popular wi
 thin the research communities&nbsp;in Poland and abroad for years. Now it g
 ives again a great opportunity&nbsp;to exchange experiences, to discuss and
  to integrate experts from&nbsp;various fields who conduct their research i
 n the Arctic, the Antarctic&nbsp;and elsewhere in the world.<br /><br />The
  IPS in 2020 is exceptional, since accompanied with a plenary&nbsp;meeting 
 under an umbrella of the European Polar Board. We expect researcher from&nb
 sp;numerous countries, who will be participating in special topic sessions.
 <br /><br />Last but not least, the 45th anniversary of the NCU Polar Stati
 on on&nbsp;Spitsbergen will be celebrated during the IPS.</p><p><strong>1st
  Cicular:</strong> <a href="http://polarsymposium2020.umk.pl/pliki/Polar_Sy
 mposium_Circular1st.pdf">http://polarsymposium2020.umk.pl/pliki/Polar_Sympo
 sium_Circular1st.pdf</a></p>
DTSTAMP:20260423T040055Z
DTSTART;TZID=UTC;VALUE=DATE:20210513
DTEND;TZID=UTC;VALUE=DATE:20210516
SEQUENCE:0
TRANSP:OPAQUE
END:VEVENT
END:VCALENDAR