BEGIN:VCALENDAR
VERSION:2.0
PRODID:-//jEvents 2.0 for Joomla//EN
CALSCALE:GREGORIAN
METHOD:PUBLISH
BEGIN:VEVENT
UID:556764e198fa838e1b19a92a8683ee09
CATEGORIES:Polar Conferences, Meetings and Events
CREATED:20200825T122802
SUMMARY:Polar Geospatial Center (PGC) Seminar Series #2
LOCATION:Online
DESCRIPTION:Polar Geospatial Center (PGC) Seminar Series #2: Dr. Anna Liljedahl, Woods 
 Hole Research Center\n"The Permafrost Discovery Gateway: A web platform to 
 enable knowledge-generation from big geospatial data"\nWednesday 26th Augus
 t 12-1pm central time US\nIn light of the Arctic and Antarctic field season
 s cancellations and changes, the PGC is taking this opportunity to showcase
  some of our users’ remote sensing based techniques and research that may i
 nspire or supplement any project changes others have experienced.\nThis sum
 mer and fall, we have invited some of our users to be guest Science Speaker
 s. Join us to learn about the different efforts to utilize remote sensing i
 n polar science.\nOur second guest speaker is Dr. Anna Liljedahl at Woods H
 ole Research Center presenting “The Permafrost Discovery Gateway: A web pla
 tform to enable knowledge-generation from big geospatial data.”\nAbstract: 
 Permafrost thaw has been observed at several locations across the pan-Arcti
 c in recent decades, yet the pan-Arctic extent and potential spatial-tempor
 al variations in thaw are poorly constrained. Thawing of ice-rich permafros
 t can be inferred and quantified with satellite imagery due to the subseque
 nt differential ground subsidence and erosion that in turn affects land sur
 face cover. Information contained within existing and rapidly growing colle
 ctions of high-resolution satellite imagery (Big Imagery) is here extracted
  across the Arctic region through a collaboration between software engineer
 s, computer- and earth scientists. More specifically, we are a) developing 
 geospatial data down to sub-meter resolution, and also b) enabling discover
 y and knowledge-generation through visualization tools. This cyberinfrastru
 cture platform, the Permafrost Discovery Gateway (PDG), is being designed w
 ith input from users of the PDG, e.g. primarily the Arctic earth science co
 mmunity but also the general public. The PDG builds upon other NSF supporte
 d data management resources (Arctic Data Center and Clowder) and the Fluid 
 Earth Viewer. The Fluid Earth Viewer, the first visualization tool implemen
 ted into the PDG, was initially created for the public to explore atmospher
 ic and oceanographic visualizations and is here modified to support permafr
 ost geospatial products, and a number of community built analytic tools to 
 identify permafrost artifacts within satellite imagery. The effort also inc
 ludes workflow optimization of remote sensing code for pan-Arctic sub-meter
  scale mapping of ice-wedge polygons from optical imagery. We are additiona
 lly actively engaging with the user-community to ensure that the PDG become
 s useful, both in terms of the type of data contained within the PDG and th
 e design of the visualization tools. The PDG has the potential to fill key 
 Arctic science gaps, such as bridging plot to pan-Arctic scale findings, wh
 ile also serving as a resource informing decisions regarding the economy, s
 ecurity, and resilience of the Arctic region.\nRegistration is open to the 
 public.\nThe webinar will include an interactive Q&amp;A session with our g
 uest speaker and PGC staff, and a recording will be available on our websit
 e. We hope you take the opportunity to attend and ask questions you may wan
 t answered.\n\nWebinar Details:\nSPEAKER: DR. ANNA LILJEDAHL\nTITLE: THE PE
 RMAFROST DISCOVERY GATEWAY: A WEB PLATFORM TO ENABLE KNOWLEDGE-GENERATION F
 ROM BIG GEOSPATIAL DATA\nWHO: PUBLIC\nDATE: WEDNESDAY, AUGUST 26, 2020\nTIM
 E: 12-1 PM CENTRAL\nREGISTRATION: https://umn.zoom.us/webinar/register/WN_X
 7yzjCTlQcOsq2ZGGIK_7A\nIf you are a PGC User, use remote sensing techniques
  in your polar research and would like to become a guest science speaker, p
 lease contact Cathleen Torres Parisian at This email address is being prote
 cted from spambots. You need JavaScript enabled to view it.
				document.ge
 tElementById('cloak75e4fcfb06fd40c3fc0c7b6b361168e8').innerHTML = '';
				v
 ar prefix = '&#109;a' + 'i&#108;' + '&#116;o';
				var path = 'hr' + 'ef' +
  '=';
				var addy75e4fcfb06fd40c3fc0c7b6b361168e8 = 'ct&#111;rr&#101;sp' +
  '&#64;';
				addy75e4fcfb06fd40c3fc0c7b6b361168e8 = addy75e4fcfb06fd40c3fc
 0c7b6b361168e8 + '&#117;mn' + '&#46;' + '&#101;d&#117;';
				var addy_text7
 5e4fcfb06fd40c3fc0c7b6b361168e8 = 'ct&#111;rr&#101;sp' + '&#64;' + '&#117;m
 n' + '&#46;' + '&#101;d&#117;';document.getElementById('cloak75e4fcfb06fd40
 c3fc0c7b6b361168e8').innerHTML += '<a ' + path + '\'' + prefix + ':' + addy
 75e4fcfb06fd40c3fc0c7b6b361168e8 + '\'>'+addy_text75e4fcfb06fd40c3fc0c7b6b3
 61168e8+'';
		 for more information.\nThe Polar Geospatial Center (PGC) is 
 a research facility funded by the National Science Foundation.\nPGC is a pr
 oud part of the University of Minnesota's College of Science and Engineerin
 g.\n
X-ALT-DESC;FMTTYPE=text/html:<p><strong>Polar Geospatial Center (PGC) Seminar Series #2: Dr. Anna Liljed
 ahl, Woods Hole Research Center</strong></p><p><em>"The Permafrost Discover
 y Gateway: A web platform to enable knowledge-generation from big geospatia
 l data"</em></p><p><strong>Wednesday 26th August 12-1pm central time US</st
 rong></p><p>In light of the Arctic and Antarctic field seasons cancellation
 s and changes, the PGC is taking this opportunity to showcase some of our u
 sers’ remote sensing based techniques and research that may inspire or supp
 lement any project changes others have experienced.</p><p>This summer and f
 all, we have invited some of our users to be guest Science Speakers. Join u
 s to learn about the different efforts to utilize remote sensing in polar s
 cience.</p><p>Our second guest speaker is Dr. Anna Liljedahl at Woods Hole 
 Research Center presenting “The Permafrost Discovery Gateway: A web platfor
 m to enable knowledge-generation from big geospatial data.”</p><p><strong>A
 bstract:</strong> Permafrost thaw has been observed at several locations ac
 ross the pan-Arctic in recent decades, yet the pan-Arctic extent and potent
 ial spatial-temporal variations in thaw are poorly constrained. Thawing of 
 ice-rich permafrost can be inferred and quantified with satellite imagery d
 ue to the subsequent differential ground subsidence and erosion that in tur
 n affects land surface cover. Information contained within existing and rap
 idly growing collections of high-resolution satellite imagery (Big Imagery)
  is here extracted across the Arctic region through a collaboration between
  software engineers, computer- and earth scientists. More specifically, we 
 are a) developing geospatial data down to sub-meter resolution, and also b)
  enabling discovery and knowledge-generation through visualization tools. T
 his cyberinfrastructure platform, the Permafrost Discovery Gateway (PDG), i
 s being designed with input from users of the PDG, e.g. primarily the Arcti
 c earth science community but also the general public. The PDG builds upon 
 other NSF supported data management resources (Arctic Data Center and Clowd
 er) and the Fluid Earth Viewer. The Fluid Earth Viewer, the first visualiza
 tion tool implemented into the PDG, was initially created for the public to
  explore atmospheric and oceanographic visualizations and is here modified 
 to support permafrost geospatial products, and a number of community built 
 analytic tools to identify permafrost artifacts within satellite imagery. T
 he effort also includes workflow optimization of remote sensing code for pa
 n-Arctic sub-meter scale mapping of ice-wedge polygons from optical imagery
 . We are additionally actively engaging with the user-community to ensure t
 hat the PDG becomes useful, both in terms of the type of data contained wit
 hin the PDG and the design of the visualization tools. The PDG has the pote
 ntial to fill key Arctic science gaps, such as bridging plot to pan-Arctic 
 scale findings, while also serving as a resource informing decisions regard
 ing the economy, security, and resilience of the Arctic region.</p><p>Regis
 tration is open to the public.</p><p>The webinar will include an interactiv
 e Q&amp;A session with our guest speaker and PGC staff, and a recording wil
 l be available on our website. We hope you take the opportunity to attend a
 nd ask questions you may want answered.</p><p><br /><strong>Webinar Details
 :</strong><br />SPEAKER: DR. ANNA LILJEDAHL<br />TITLE: THE PERMAFROST DISC
 OVERY GATEWAY: A WEB PLATFORM TO ENABLE KNOWLEDGE-GENERATION FROM BIG GEOSP
 ATIAL DATA<br />WHO: PUBLIC<br />DATE: WEDNESDAY, AUGUST 26, 2020<br />TIME
 : 12-1 PM CENTRAL<br />REGISTRATION: <a href="https://umn.zoom.us/webinar/r
 egister/WN_X7yzjCTlQcOsq2ZGGIK_7A">https://umn.zoom.us/webinar/register/WN_
 X7yzjCTlQcOsq2ZGGIK_7A</a></p><p>If you are a PGC User, use remote sensing 
 techniques in your polar research and would like to become a guest science 
 speaker, please contact Cathleen Torres Parisian at <span id="cloak75e4fcfb
 06fd40c3fc0c7b6b361168e8">This email address is being protected from spambo
 ts. You need JavaScript enabled to view it.</span><script type='text/javasc
 ript'>
				document.getElementById('cloak75e4fcfb06fd40c3fc0c7b6b361168e8')
 .innerHTML = '';
				var prefix = '&#109;a' + 'i&#108;' + '&#116;o';
				va
 r path = 'hr' + 'ef' + '=';
				var addy75e4fcfb06fd40c3fc0c7b6b361168e8 = 
 'ct&#111;rr&#101;sp' + '&#64;';
				addy75e4fcfb06fd40c3fc0c7b6b361168e8 = 
 addy75e4fcfb06fd40c3fc0c7b6b361168e8 + '&#117;mn' + '&#46;' + '&#101;d&#117
 ;';
				var addy_text75e4fcfb06fd40c3fc0c7b6b361168e8 = 'ct&#111;rr&#101;sp
 ' + '&#64;' + '&#117;mn' + '&#46;' + '&#101;d&#117;';document.getElementByI
 d('cloak75e4fcfb06fd40c3fc0c7b6b361168e8').innerHTML += '<a ' + path + '\''
  + prefix + ':' + addy75e4fcfb06fd40c3fc0c7b6b361168e8 + '\'>'+addy_text75e
 4fcfb06fd40c3fc0c7b6b361168e8+'<\/a>';
		</script> for more information.</p
 ><p>The Polar Geospatial Center (PGC) is a research facility funded by the 
 National Science Foundation.<br />PGC is a proud part of the University of 
 Minnesota's College of Science and Engineering.</p>
DTSTAMP:20260422T050135Z
DTSTART;TZID=UTC:20200826T000000
DTEND;TZID=UTC:20200826T130000
SEQUENCE:0
TRANSP:OPAQUE
END:VEVENT
END:VCALENDAR