BEGIN:VCALENDAR
VERSION:2.0
PRODID:-//jEvents 2.0 for Joomla//EN
CALSCALE:GREGORIAN
METHOD:PUBLISH
BEGIN:VEVENT
UID:5dbea2a9a980f227cdf099c1d5120c2e
CATEGORIES:Polar Online Events
CREATED:20200825T115603
SUMMARY:Virtual IGS Nordic Branch 2020 meeting
LOCATION:Online
DESCRIPTION:With the highly successful Virtual IGS British Branch meeting now over we c
 an look forward to the virtual IGS Nordic Branch meeting scheduled for 11–1
 3 November 2020.\nThe timing of the meeting will be 11am-4pm (CET)\nIn addi
 tion to presentations and poster displays, the IGS EGG will organise activi
 ties for early career scientists\n**** We have extended the abstract submis
 sion until 23:59, 30th October, 2020 GMT ****\nAbstract submission is open 
 at https://www.igsoc.org/about/nordicbranch/meetings/copenhagen2020/.\nYou 
 can register your attendance at the same site.\nRegistration is free but yo
 u must register so we can identify you and convince ourselves you are not a
  Troll\nThe meeting twitter hashtag is #IGSNB2020\n
X-ALT-DESC;FMTTYPE=text/html:<p>With the highly successful Virtual IGS British Branch meeting now over w
 e can look forward to the virtual IGS Nordic Branch meeting scheduled for 1
 1–13 November 2020.</p><p>The timing of the meeting will be 11am-4pm (CET)<
 /p><p>In addition to presentations and poster displays, the IGS EGG will or
 ganise activities for early career scientists</p><p><strong>**** We have ex
 tended the abstract submission until 23:59, 30th October, 2020 GMT ****</st
 rong></p><p>Abstract submission is open at <a href="https://www.igsoc.org/a
 bout/nordicbranch/meetings/copenhagen2020/">https://www.igsoc.org/about/nor
 dicbranch/meetings/copenhagen2020/</a>.</p><p>You can register your attenda
 nce at the same site.</p><p><strong>Registration is free but you must regis
 ter so we can identify you and convince ourselves you are not a Troll</stro
 ng></p><p>The meeting twitter hashtag is #IGSNB2020</p>
DTSTAMP:20260421T150041Z
DTSTART;TZID=UTC:20201111T110000
DTEND;TZID=UTC:20201113T160000
SEQUENCE:0
TRANSP:OPAQUE
END:VEVENT
END:VCALENDAR