BEGIN:VCALENDAR
VERSION:2.0
PRODID:-//jEvents 2.0 for Joomla//EN
CALSCALE:GREGORIAN
METHOD:PUBLISH
BEGIN:VEVENT
UID:3dff59a73d9c5ac901062980aa0f5a90
CATEGORIES:Polar Conferences, Meetings and Events
CREATED:20200821T123256
SUMMARY:Virtual Palaeoscience (ViPs) Workshop
LOCATION:Online
DESCRIPTION:<p>ViPs (Virtual Palaeoscience) is a community-led project developed to col
 late and create a shared archive of online palaeoscience teaching resources
 , both as a short-term COVID-19 response and as longer-term enhancement of 
 learning, accessibility and public outreach. Following a successful launch 
 meeting in May 2020, the project has set up working groups to find, evaluat
 e, and bring together existing materials in a single web resource and to cr
 eate a range of new materials to meet specific needs. On August the 24th an
 d 25th, these new resources will be presented at a virtual workshop and pla
 ns for longer-term projects, including the creation of multi-faceted virtua
 l landscapes, will be developed.&nbsp; Details on how to be involved, re-vi
 sit the first event, join in the August meeting to get a head start on the 
 new term and to learn about ViPs future plans go to: <a href="https://virtu
 alpalaeoscience.wordpress.com/">https://virtualpalaeoscience.wordpress.com/
 </a></p><p>&nbsp;Please contact the ViPs team via the website if you have a
 ny questions or issues.</p>
DTSTAMP:20260422T043834Z
DTSTART;TZID=UTC;VALUE=DATE:20200824
DTEND;TZID=UTC;VALUE=DATE:20200826
SEQUENCE:0
TRANSP:OPAQUE
END:VEVENT
END:VCALENDAR