BEGIN:VCALENDAR
VERSION:2.0
PRODID:-//jEvents 2.0 for Joomla//EN
CALSCALE:GREGORIAN
METHOD:PUBLISH
BEGIN:VEVENT
UID:ba36dda79e9a9ab1474af1033d50b645
CATEGORIES:Polar Conferences, Meetings and Events
CREATED:20200821T121703
SUMMARY:2020 ARCUS Annual Meeting
LOCATION:Online
DESCRIPTION:The Arctic Research Consortium of the U.S. (ARCUS) invites registration for
  the 2020 ARCUS Annual Meeting (https://www.arcus.org/annual-meetings/2020)
 . This meeting will take place virtually on Thursday, 29 October 2020 from 
 9:00 to 11:00 a.m. AKDT (10:00 a.m.-12:00 p.m. PT/11:00 a.m-1:00 p.m. MT/12
 :00-2:00 p.m. CT/1:00-3:00 p.m. ET).\nThe ARCUS) Annual Meeting is an impor
 tant opportunity for the Council of ARCUS Institutional Member Representati
 ves, ARCUS Individual Members, and other members of the broader Arctic rese
 arch community to connect with one another, the ARCUS Board of Directors, a
 nd staff.The meeting will be open to all interested participants and there 
 is no cost to attend.<a href="https://www.arcus.org/annual-meetings/2020" c
 lass="">Please register</a> to receive ARCUS Annual Meeting updates, agenda
  details as they develop, and login instructions for joining the online eve
 nt.For additional information or questions about the meeting, please contac
 t Brit Myers at  (mailto:brit@arcus.org)<a href="mailto:brit@arcus.org"></a
 >This email address is being protected from spambots. You need JavaScript e
 nabled to view it.
				document.getElementById('cloak59d78746591f015c2cd662
 57ee4ebbf2').innerHTML = '';
				var prefix = '&#109;a' + 'i&#108;' + '&#11
 6;o';
				var path = 'hr' + 'ef' + '=';
				var addy59d78746591f015c2cd6625
 7ee4ebbf2 = 'br&#105;t' + '&#64;';
				addy59d78746591f015c2cd66257ee4ebbf2
  = addy59d78746591f015c2cd66257ee4ebbf2 + '&#97;rc&#117;s' + '&#46;' + '&#1
 11;rg';
				var addy_text59d78746591f015c2cd66257ee4ebbf2 = 'br&#105;t' + '
 &#64;' + '&#97;rc&#117;s' + '&#46;' + '&#111;rg';document.getElementById('c
 loak59d78746591f015c2cd66257ee4ebbf2').innerHTML += '<a ' + path + '\'' + p
 refix + ':' + addy59d78746591f015c2cd66257ee4ebbf2 + '\'>'+addy_text59d7874
 6591f015c2cd66257ee4ebbf2+'';
		.
X-ALT-DESC;FMTTYPE=text/html:<p>The Arctic Research Consortium of the U.S. (ARCUS) invites registration 
 for the&nbsp;<a href="https://www.arcus.org/annual-meetings/2020" class="">
 2020 ARCUS Annual Meeting</a>.&nbsp;<br class="" /><br class="" />This meet
 ing will take place virtually on <strong>Thursday, 29 October 2020</strong>
  from 9:00 to 11:00 a.m. AKDT (10:00 a.m.-12:00 p.m. PT/11:00 a.m-1:00 p.m.
  MT/12:00-2:00 p.m. CT/1:00-3:00 p.m. ET).</p><div class="">The ARCUS) Annu
 al Meeting is an important opportunity for the Council of ARCUS Institution
 al Member Representatives, ARCUS Individual Members, and other members of t
 he broader Arctic research community to connect with&nbsp;one another, the 
 ARCUS Board of Directors, and staff.<br class="" /><br class="" />The meeti
 ng will be open to all interested participants and there is no cost to atte
 nd.<br class="" /><br class="" /><a href="https://www.arcus.org/annual-meet
 ings/2020" class="">Please register</a>&nbsp;to receive ARCUS Annual Meetin
 g updates, agenda details as they develop, and login instructions for joini
 ng the online event.<br class="" /><br class="" />For additional informatio
 n or questions about the meeting, please contact Brit Myers at&nbsp;<a href
 ="mailto:brit@arcus.org" class=""></a><span id="cloak276f595e37a1857a11a566
 9f2ef51bc5"><a href="mailto:brit@arcus.org"></a><span id="cloak59d78746591f
 015c2cd66257ee4ebbf2">This email address is being protected from spambots. 
 You need JavaScript enabled to view it.</span><script type='text/javascript
 '>
				document.getElementById('cloak59d78746591f015c2cd66257ee4ebbf2').inn
 erHTML = '';
				var prefix = '&#109;a' + 'i&#108;' + '&#116;o';
				var pa
 th = 'hr' + 'ef' + '=';
				var addy59d78746591f015c2cd66257ee4ebbf2 = 'br&
 #105;t' + '&#64;';
				addy59d78746591f015c2cd66257ee4ebbf2 = addy59d787465
 91f015c2cd66257ee4ebbf2 + '&#97;rc&#117;s' + '&#46;' + '&#111;rg';
				var 
 addy_text59d78746591f015c2cd66257ee4ebbf2 = 'br&#105;t' + '&#64;' + '&#97;r
 c&#117;s' + '&#46;' + '&#111;rg';document.getElementById('cloak59d78746591f
 015c2cd66257ee4ebbf2').innerHTML += '<a ' + path + '\'' + prefix + ':' + ad
 dy59d78746591f015c2cd66257ee4ebbf2 + '\'>'+addy_text59d78746591f015c2cd6625
 7ee4ebbf2+'<\/a>';
		</script></span>.</div>
CONTACT:Brit Myers at This email address is being protected from spambots. You need JavaScript enabled to view it.
				document.getElementById('cloak309645cb107a0bf925c64c351f0a11f8').innerHTML = '';
				var prefix = '&#109;a' + 'i&#108;' + '&#116;o';
				var path = 'hr' + 'ef' + '=';
				var addy309645cb107a0bf925c64c351f0a11f8 = 'br&#105;t' + '&#64;';
				addy309645cb107a0bf925c64c351f0a11f8 = addy309645cb107a0bf925c64c351f0a11f8 + '&#97;rc&#117;s' + '&#46;' + '&#111;rg';
				var addy_text309645cb107a0bf925c64c351f0a11f8 = 'br&#105;t' + '&#64;' + '&#97;rc&#117;s' + '&#46;' + '&#111;rg';document.getElementById('cloak309645cb107a0bf925c64c351f0a11f8').innerHTML += '<a ' + path + '\'' + prefix + ':' + addy309645cb107a0bf925c64c351f0a11f8 + '\'>'+addy_text309645cb107a0bf925c64c351f0a11f8+'';
		
DTSTAMP:20260424T235711Z
DTSTART;TZID=UTC;VALUE=DATE:20201029
DTEND;TZID=UTC;VALUE=DATE:20201030
SEQUENCE:0
TRANSP:OPAQUE
END:VEVENT
END:VCALENDAR