BEGIN:VCALENDAR
VERSION:2.0
PRODID:-//jEvents 2.0 for Joomla//EN
CALSCALE:GREGORIAN
METHOD:PUBLISH
BEGIN:VEVENT
UID:28b7d599117e1c761c9c4d17e947887f
CATEGORIES:Polar Conferences, Meetings and Events
CREATED:20200817T133742
SUMMARY:UK Sea Ice Group annual meeting
DESCRIPTION:Please see below regarding the UK Sea Ice Group 2020 annual meeting and a n
 ew email distribution list for the UK Sea Ice Group (a special interest gro
 up of the Challenger Society for Marine Science).   UK Sea Ice Group meetin
 g 2020: I am pleased to announce that the 2020 UK Sea Ice Group meeting wil
 l go ahead in a virtual format using videoconferencing, on 17-18th Septembe
 r.  We will combine short live oral presentation sessions using screen shar
 e on Zoom/similar, with virtual networking breaks in the usual format of tw
 o half-days. The exact timings are to be confirmed, but will be between 13:
 00-18:00 BST on Thursday 17th, and 09:00-13:00 BST on Friday 18th September
 . If interested in attending this meeting, or attending+presenting please r
 egister here (https://forms.office.com/Pages/ResponsePage.aspx?id=G96VzPWXk
 0-0uv5ouFLPkQmHkg9fpNRHvRqiZ_xJ2EdUOUY5MzVQSE9UMUdYMkVJMlVJTllDME1LMy4u).  
 UK Sea Ice Group mailing list: \n We have set up a mailing list for the UK 
 Sea Ice Group for long term use going forward. If you are interested in hea
 ring about future events, please subscribe <a href="https://www.jiscmail.ac
 .uk/cgi-bin/webadmin?SUBED1=UKSEAICE-SIG-CHALLENGERSOC&amp;A=1">here</a>. 
X-ALT-DESC;FMTTYPE=text/html:<div>Please see below regarding the&nbsp;<strong>UK Sea Ice Group 2020 annu
 al meeting&nbsp;</strong>and a&nbsp;new&nbsp;<strong>email distribution lis
 t for the&nbsp;</strong><strong><em>UK Sea Ice Group</em></strong><em></em>
 &nbsp;(a special interest&nbsp;group of the Challenger Society for Marine S
 cience).<strong>&nbsp;</strong></div><div>&nbsp;</div><div>&nbsp;</div><div
 ><em><strong>UK Sea Ice Group meeting 2020:</strong></em></div><div>&nbsp;<
 /div><div>I am pleased to announce that the&nbsp;<strong>2020 UK Sea Ice Gr
 oup meeting</strong>&nbsp;will go ahead in a&nbsp;<strong>virtual format</s
 trong>&nbsp;using videoconferencing, on&nbsp;<strong>17-18th September.</st
 rong>&nbsp;</div><div>&nbsp;</div><div>We will combine short live oral pres
 entation sessions using screen share on Zoom/similar, with virtual networki
 ng breaks in the usual format of two half-days. The exact timings are to be
  confirmed, but will be between 13:00-18:00 BST on Thursday 17th, and 09:00
 -13:00 BST on Friday 18th September.</div><div>&nbsp;</div><div>If interest
 ed in attending this meeting, or attending+presenting please register <a hr
 ef="https://forms.office.com/Pages/ResponsePage.aspx?id=G96VzPWXk0-0uv5ouFL
 PkQmHkg9fpNRHvRqiZ_xJ2EdUOUY5MzVQSE9UMUdYMkVJMlVJTllDME1LMy4u"><strong>here
 </strong></a>. </div><div>&nbsp;</div><div><div><em><strong>UK Sea Ice Grou
 p mailing list:&nbsp;</strong></em></div><div><em><br /> </em></div><div>We
  have set up a&nbsp;mailing list for the UK Sea Ice Group&nbsp;for long ter
 m use going forward. If you are interested in hearing about future events, 
 please subscribe <a href="https://www.jiscmail.ac.uk/cgi-bin/webadmin?SUBED
 1=UKSEAICE-SIG-CHALLENGERSOC&amp;A=1"><strong>here</strong></a>. </div></di
 v>
DTSTAMP:20260421T230427Z
DTSTART;TZID=UTC:20200917T080000
DTEND;TZID=UTC:20200918T170000
SEQUENCE:0
TRANSP:OPAQUE
END:VEVENT
END:VCALENDAR