BEGIN:VCALENDAR
VERSION:2.0
PRODID:-//jEvents 2.0 for Joomla//EN
CALSCALE:GREGORIAN
METHOD:PUBLISH
BEGIN:VEVENT
UID:d63c215bc282f81810a083f590698bf5
CATEGORIES:Polar Conferences, Meetings and Events
CREATED:20200810T093508
SUMMARY:Polar Pride Day
DESCRIPTION:The 18th of November has been declared Polar Pride Day (https://www.bas.ac.
 uk/media-post/18-november-declared-pride-day/) in the British Antarctic Ter
 ritory and South Georgia &amp; the South Sandwich Islands #PolarPride, link
 ing with International day of LGBTQ+ people in STEM for 2020. Pride in Pola
 r Research hopes that this will spread to become an international celebrati
 on of diversity and inclusion within all polar science. For anyone lucky en
 ough to be in the Polar Regions at the time it would be great if you could 
 celebrate the day and consider flying a pride flag. \n
X-ALT-DESC;FMTTYPE=text/html:<p>The 18th of November has been declared <a href="https://www.bas.ac.uk/me
 dia-post/18-november-declared-pride-day/">Polar Pride Day</a> in the Britis
 h Antarctic Territory and South Georgia &amp; the South Sandwich Islands #P
 olarPride, linking with International day of LGBTQ+ people in STEM for 2020
 . <em></em>Pride in Polar Research hopes that this will spread to become an
  international celebration of diversity and inclusion within all polar scie
 nce. For anyone lucky enough to be in the Polar Regions at the time it woul
 d be great if you could celebrate the day and consider flying a pride flag.
  </p>
DTSTAMP:20260422T050207Z
DTSTART;TZID=UTC:20200810T080000
DTEND;TZID=UTC:20200810T170000
SEQUENCE:0
TRANSP:OPAQUE
END:VEVENT
END:VCALENDAR