BEGIN:VCALENDAR
VERSION:2.0
PRODID:-//jEvents 2.0 for Joomla//EN
CALSCALE:GREGORIAN
METHOD:PUBLISH
BEGIN:VEVENT
UID:749c0d68b54721dacb67aa2a937b89c8
CATEGORIES:Polar Conferences, Meetings and Events
CREATED:20200807T144115
SUMMARY:IGS British Branch virtual meeting
LOCATION:Online
DESCRIPTION:<p>Although the physical meeting of the &nbsp;International Glaciological S
 ociety British Branch is cancelled, <strong>there will be a virtual meeting
  organised by the IGS British Branch and the IGS EGG on 7–9 October 2020.</
 strong></p><p>We are planning 3 half days. There will be both oral and post
 er sessions.</p><p><strong>Online registration</strong>&nbsp;for the IGS-BB
  is now open. Go to <a href="https://bit.ly/3bBxwqB">https://bit.ly/3bBxwqB
 </a></p><p>Registration is free but you must register so we can identify yo
 u and convince ourselves you are not a Troll.</p><p>Remember to use the mee
 ting twitter hashtag #IGSBB2020</p><p>The link to sneak in an abstract for 
 the IGS British Branch is&nbsp;<a href="https://www.igsoc.org/abstracts/20i
 gsbb/">https://www.igsoc.org/abstracts/20igsbb/</a>. </p><p>Contacts:</p><p
 >BINGHAM Robert <span id="cloaka250cdc7700a807e067b04092ed62520">This email
  address is being protected from spambots. You need JavaScript enabled to v
 iew it.</span><script type='text/javascript'>
				document.getElementById('
 cloaka250cdc7700a807e067b04092ed62520').innerHTML = '';
				var prefix = '&
 #109;a' + 'i&#108;' + '&#116;o';
				var path = 'hr' + 'ef' + '=';
				var 
 addya250cdc7700a807e067b04092ed62520 = 'r.b&#105;ngh&#97;m' + '&#64;';
				
 addya250cdc7700a807e067b04092ed62520 = addya250cdc7700a807e067b04092ed62520
  + '&#101;d' + '&#46;' + '&#97;c' + '&#46;' + '&#117;k';
				var addy_texta
 250cdc7700a807e067b04092ed62520 = 'r.b&#105;ngh&#97;m(&#97;)&#101;d.&#97;c.
 &#117;k';document.getElementById('cloaka250cdc7700a807e067b04092ed62520').i
 nnerHTML += '<a ' + path + '\'' + prefix + ':' + addya250cdc7700a807e067b04
 092ed62520 + '\'>'+addy_texta250cdc7700a807e067b04092ed62520+'<\/a>';
		</s
 cript></p><p>Rebecca Schlegel <span id="cloakc784f41e27e5b8d95e40cb44c4f7c4
 bd">This email address is being protected from spambots. You need JavaScrip
 t enabled to view it.</span><script type='text/javascript'>
				document.ge
 tElementById('cloakc784f41e27e5b8d95e40cb44c4f7c4bd').innerHTML = '';
				v
 ar prefix = '&#109;a' + 'i&#108;' + '&#116;o';
				var path = 'hr' + 'ef' +
  '=';
				var addyc784f41e27e5b8d95e40cb44c4f7c4bd = 'm&#111;g.schl&#101;g&
 #101;l' + '&#64;';
				addyc784f41e27e5b8d95e40cb44c4f7c4bd = addyc784f41e2
 7e5b8d95e40cb44c4f7c4bd + 'gm&#97;&#105;l' + '&#46;' + 'c&#111;m';
				var 
 addy_textc784f41e27e5b8d95e40cb44c4f7c4bd = 'm&#111;g.schl&#101;g&#101;l(&#
 97;)gm&#97;&#105;l.c&#111;m';document.getElementById('cloakc784f41e27e5b8d9
 5e40cb44c4f7c4bd').innerHTML += '<a ' + path + '\'' + prefix + ':' + addyc7
 84f41e27e5b8d95e40cb44c4f7c4bd + '\'>'+addy_textc784f41e27e5b8d95e40cb44c4f
 7c4bd+'<\/a>';
		</script></p><p>Secretary General, International Glaciolog
 ical Society (IGS)</p>
DTSTAMP:20260420T071039Z
DTSTART;TZID=UTC:20201007T080000
DTEND;TZID=UTC:20201009T170000
SEQUENCE:0
TRANSP:OPAQUE
END:VEVENT
END:VCALENDAR