BEGIN:VCALENDAR
VERSION:2.0
PRODID:-//jEvents 2.0 for Joomla//EN
CALSCALE:GREGORIAN
METHOD:PUBLISH
BEGIN:VEVENT
UID:42e843be1f09a061133c2455d54ea711
CATEGORIES:Polar Conferences, Meetings and Events
CREATED:20200807T143600
SUMMARY:SPARC 2020 - Students in Polar and Alpine Research Conference
DESCRIPTION:We are pleased to announce that the 6th annual Students in Polar and Alpine
  Research Conference - SPARC 2020 (https://sparc-brno.webnode.cz/) will be 
 held in Brno, Czech Republic, on 21-22 September 2020.  After the first att
 empt to organise the conference in the usual dates (April), which was made 
 impossible by the COVID-19 restrictions, we set a new date - end of Septemb
 er. We are aware of the difficulties that might arise at any time, therefor
 e a parallel online streaming from the conference will be organised for tho
 se who will not be able to come in person. We would like to encourage you t
 o register for the conference! The conference is free of charge for all par
 ticipants. <a href="https://sparc-brno.webnode.cz/registration/"></a>\nImpo
 rtant dates\n13 September 2020               Deadline for registration and 
 abstract submission\n21 -22 September 2020         SPARC - oral and poster 
 presentations, keynote lectures\n23 September 2020               Optional h
 alf-day excursion to Brno and the surroundings\n We are looking forward to 
 welcoming you in Brno at SPARC 2020! 
X-ALT-DESC;FMTTYPE=text/html:<div>We are pleased to announce that the 6th annual&nbsp;<a href="https://s
 parc-brno.webnode.cz/">Students in Polar and Alpine Research Conference - S
 PARC 2020</a>&nbsp;will be held in Brno, Czech Republic, on 21-22 September
  2020.&nbsp;</div><div>&nbsp;</div><div>After the first&nbsp;attempt to org
 anise the conference in the usual dates (April), which was made impossible 
 by the COVID-19 restrictions, we set a new date - end of September. We are 
 aware of the difficulties that might arise at any time, therefore a paralle
 l online streaming from the conference will be organised for those who will
  not be able to come in person. We would like to encourage you to register 
 for the conference!</div><div>&nbsp;</div><div><p class="wnd-align-justify"
 >The conference is <strong>free of charge</strong> for all participants. <a
  href="https://sparc-brno.webnode.cz/registration/"><em></em></a></p><p><st
 rong>Important dates</strong></p><p>13 September 2020&nbsp;&nbsp;&nbsp;&nbs
 p;&nbsp;&nbsp;&nbsp;&nbsp;&nbsp;&nbsp;&nbsp;&nbsp;&nbsp;&nbsp; Deadline for
  registration and abstract submission</p><p>21 -22 September 2020&nbsp;&nbs
 p;&nbsp;&nbsp;&nbsp;&nbsp;&nbsp;&nbsp; SPARC - oral and poster presentation
 s, keynote lectures</p><p>23 September 2020&nbsp;&nbsp;&nbsp;&nbsp;&nbsp;&n
 bsp;&nbsp;&nbsp;&nbsp;&nbsp;&nbsp;&nbsp;&nbsp;&nbsp; Optional half-day excu
 rsion to Brno and the surroundings</p></div><div>&nbsp;</div><div>We are lo
 oking forward to welcoming you in Brno at SPARC 2020!</div><div>&nbsp;</div
 >
DTSTAMP:20260421T230321Z
DTSTART;TZID=UTC:20200921T080000
DTEND;TZID=UTC:20200922T170000
SEQUENCE:0
TRANSP:OPAQUE
END:VEVENT
END:VCALENDAR