BEGIN:VCALENDAR
VERSION:2.0
PRODID:-//jEvents 2.0 for Joomla//EN
CALSCALE:GREGORIAN
METHOD:PUBLISH
BEGIN:VEVENT
UID:5b3680c4dc05d870486add6b5a1075d6
CATEGORIES:Polar Conferences, Meetings and Events
CREATED:20200723T090320
SUMMARY:National Science Foundation Arctic Program Manager Chat: COVID-19 Response
DESCRIPTION:On August 5, 2pm ET / 10am AKT, join the National Science Foundation for a 
 program manager chat about COVID-19 impacts to NSF operations (https://www.
 iarpccollaborations.org/events/18372). The Arctic Sciences (ARC) Sections i
 n the Office of Polar Programs (OPP) will be offering a virtual office hour
  to share information with the polar research community  regarding NSF’s cu
 rrent operations. These office hours will also allow the community to ask q
 uestions, share concerns, and/or offer suggestions on how ARC can do more t
 o address the impact of COVID-19 on researchers. All are welcome to attend 
 this webinar. <a href="https://iarpc.zoom.us/meeting/register/tZYlfuyprTwoE
 9fyB5hb9rIuWdXkhjtTRr-_">Register here. </a>
X-ALT-DESC;FMTTYPE=text/html:<div>On August 5, 2pm ET / 10am AKT, join the National Science Foundation f
 or a <a href="https://www.iarpccollaborations.org/events/18372">program man
 ager chat about <abbr>COVID-19</abbr> impacts to <abbr>NSF</abbr> operation
 s</a>. The Arctic Sciences (ARC) Sections in the Office of Polar Programs (
 OPP) will be offering a virtual office hour to share information with the p
 olar research community&nbsp; regarding <abbr>NSF</abbr>’s current operatio
 ns. These office hours will also allow the community to ask questions, shar
 e concerns, and/or offer suggestions on how ARC can do more to address the 
 impact of <abbr>COVID-19</abbr> on researchers.</div><div>&nbsp;</div><div>
 All are welcome to attend this webinar. <a href="https://iarpc.zoom.us/meet
 ing/register/tZYlfuyprTwoE9fyB5hb9rIuWdXkhjtTRr-_">Register here. </a></div
 >
DTSTAMP:20260421T210055Z
DTSTART;TZID=UTC:20200723T080000
DTEND;TZID=UTC:20200723T170000
SEQUENCE:0
TRANSP:OPAQUE
END:VEVENT
END:VCALENDAR