BEGIN:VCALENDAR
VERSION:2.0
PRODID:-//jEvents 2.0 for Joomla//EN
CALSCALE:GREGORIAN
METHOD:PUBLISH
BEGIN:VEVENT
UID:6b034c169f66e9f00ee5ea54e6fcec56
CATEGORIES:Polar Conferences, Meetings and Events
CREATED:20200720T140028
SUMMARY:IGS Global Seminar Series - "Calm, cool and collected: Ice, ocean and sediment in the central Ross Ice Shelf"
DESCRIPTION:Christina Hulbe (presenting) University of Otago, NZ for the whole Aotearoa
  New Zealand RIS programme team, "Calm, cool and collected: Ice, ocean and 
 sediment in the central Ross Ice Shelf"\n
X-ALT-DESC;FMTTYPE=text/html:<p>Christina Hulbe (presenting) University of Otago, NZ for the whole Aotea
 roa New Zealand RIS programme team, "Calm, cool and collected: Ice, ocean a
 nd sediment in the central Ross Ice Shelf"</p>
DTSTAMP:20260422T050236Z
DTSTART;TZID=UTC:20200729T080000
DTEND;TZID=UTC:20200729T170000
SEQUENCE:0
TRANSP:OPAQUE
END:VEVENT
END:VCALENDAR