BEGIN:VCALENDAR
VERSION:2.0
PRODID:-//jEvents 2.0 for Joomla//EN
CALSCALE:GREGORIAN
METHOD:PUBLISH
BEGIN:VEVENT
UID:5b5af6868aa0a98bf624146d2e7a4d20
CATEGORIES:Polar Conferences, Meetings and Events
CREATED:20200715T123036
SUMMARY:Virtual Symposium - Inernational Atmospheric Rivers Conference
LOCATION:Online
DESCRIPTION:<div>Due to the ongoing Pandemic an in-person conference -as planned for Sa
 ntiago (Chile)- is impossible this year but in order to keep our AR communi
 ty vibrant and united we decided to conduct a virtual Symposium in the orig
 inal dates (October 2020). The structure of the event will be decided once 
 we see the number of abstracts but we anticipate a 3-4 day event with half 
 day sessions including invited talks, regular presentations, poster session
 s and working groups. We hope that an in-person 3IARC will be held in Santi
 ago in 2021.</div><div class=""><br class="" />IARC Specific Objectives<br 
 class="" /><ul class=""><li class="">Create and sustain a growing community
 </li><li class="">Advance the state of the science</li><li class="">Connect
  different disciplines and stakeholders&nbsp;</li><li class="">Link scienti
 sts to practitioners, users and decision makers</li><li class="">Cement wor
 ldwide, cross-disciplinary collaboration</li><li class="">Train the next ge
 neration of scientists</li></ul></div><p>Further details can be found here:
 <a href="https://iarc-symposium.com/"> https://iarc-symposium.com/</a></p><
 p>&nbsp;</p>
DTSTAMP:20260421T224526Z
DTSTART;TZID=UTC;VALUE=DATE:20201005
DTEND;TZID=UTC;VALUE=DATE:20201010
SEQUENCE:0
TRANSP:OPAQUE
END:VEVENT
END:VCALENDAR