BEGIN:VCALENDAR
VERSION:2.0
PRODID:-//jEvents 2.0 for Joomla//EN
CALSCALE:GREGORIAN
METHOD:PUBLISH
BEGIN:VEVENT
UID:8b7d0c6bc974d7a7bde484cee1c79796
CATEGORIES:APECS Events
CREATED:20200715T120218
SUMMARY:SCAR 2020 Workshop “Antarctic Science - Global Connections”
LOCATION:Online
DESCRIPTION:We are proud to announce  an early career workshop in collaboration with th
 e Scientific Committee for Antarctic Research (SCAR) (https://scar.org/) fr
 om 11-13 August, entirely online so join us for this unique event! The them
 e for the workshop is “Antarctic Science - Global Connections”, aiming to b
 ring together polar ECRs from around the globe. Featured topics are Science
  Communication in the Southern Hemisphere and Logistical Collaboration. Lea
 rn more and register <a href="events/upcoming-event-highlights/scar-2020-wo
 rkshop.html">here</a>!\nEvent date: 11-13th August, 2020\nLocation: Online!
  Join us on Zoom (links available in the registration form (https://docs.go
 ogle.com/forms/d/e/1FAIpQLSfXvX28xdYkQh4WLwBOck8Z6pPYwT3f1FGgxKn-qG_1Z__Egw
 /viewform)).\n\nTopic overview:\nAugust 11th: Introduction and Plenary\nAug
 ust 11th: Science Communication: what can we learn from journalists and out
 reach projects that have succeeded and Year of Polar Prediction (YOPP)\n\nA
 ugust 12th and 13th: Logistical Collaboration \nRegistration: To register, 
 please click <a href="https://docs.google.com/forms/d/e/1FAIpQLSfXvX28xdYkQ
 h4WLwBOck8Z6pPYwT3f1FGgxKn-qG_1Z__Egw/viewform?usp=sf_link" target="_blank"
  rel="noopener">here</a>.\n
X-ALT-DESC;FMTTYPE=text/html:<p>We are proud to announce&nbsp; an <strong>early career workshop</strong>
  in collaboration with the<a href="https://scar.org/"> Scientific Committee
  for Antarctic Research (SCAR)</a><strong> from 11-13 August</strong>, enti
 rely online so join us for this unique event! The theme for the workshop is
  <strong>“Antarctic Science - Global Connections”</strong>, aiming to bring
  together polar ECRs from around the globe. Featured topics are <strong>Sci
 ence Communication in the Southern Hemisphere </strong>and<strong> Logistic
 al Collaboration</strong>. Learn more and register <strong><a href="events/
 upcoming-event-highlights/scar-2020-workshop.html">here</a></strong>!</p><p
 >Event date: <strong>11-13th August, 2020</strong></p><p>Location: <strong>
 Online!</strong> Join us on Zoom (links available in the <a href="https://d
 ocs.google.com/forms/d/e/1FAIpQLSfXvX28xdYkQh4WLwBOck8Z6pPYwT3f1FGgxKn-qG_1
 Z__Egw/viewform" target="_blank" rel="noopener">registration form</a>).</p>
 <p><strong><br />Topic overview:</strong></p><p>August 11th: <strong>Introd
 uction and Plenary</strong></p><p>August 11th: <strong>Science Communicatio
 n: what can we learn from journalists and outreach projects that have succe
 eded </strong>and <strong>Year of Polar Prediction (YOPP)<br /></strong></p
 ><p>August 12th and 13th: <strong>Logistical Collaboration </strong></p><p>
 Registration: <strong>To register, please click <a href="https://docs.googl
 e.com/forms/d/e/1FAIpQLSfXvX28xdYkQh4WLwBOck8Z6pPYwT3f1FGgxKn-qG_1Z__Egw/vi
 ewform?usp=sf_link" target="_blank" rel="noopener">here</a>.</strong></p>
DTSTAMP:20260421T225514Z
DTSTART;TZID=UTC;VALUE=DATE:20200811
DTEND;TZID=UTC;VALUE=DATE:20200814
SEQUENCE:0
TRANSP:OPAQUE
END:VEVENT
END:VCALENDAR