BEGIN:VCALENDAR
VERSION:2.0
PRODID:-//jEvents 2.0 for Joomla//EN
CALSCALE:GREGORIAN
METHOD:PUBLISH
BEGIN:VEVENT
UID:306ca82eab99452394fcd5ae0f5bdcdb
CATEGORIES:Polar Conferences, Meetings and Events
CREATED:20200715T115741
SUMMARY:SCAR 2020 ONLINE
LOCATION:Online
DESCRIPTION:Organised by the Scientific Committee on Antarctic Research \n\n3-7 August 
  |  #SCAR2020\nWelcome to SCAR 2020 Online. SCAR’s Open Science Conferences
  have been a focal point for the Antarctic research community for over fift
 een years. Through SCAR 2020 Online we are excited to present many of the h
 ighlights of the science we had originally planned to bring to you at the H
 obart OSC, which was sadly cancelled due to the COVID-19 pandemic.\nAll the
  activities of SCAR 2020 Online will take place via the OnAIR event portal.
  To join you will need to register here (https://leishman.eventsair.com/sca
 r-online-2020/virtual-early-bird-registration). Once you have registered yo
 u will receive a confirmation email. Your login details for the OnAIR porta
 l will be sent to you on July 20. If you register after July 20, login deta
 ils will be sent to you immediately upon registering. If you do not receive
  your login email, please first check your Junk inbox, before contacting <a
  title="" href="mailto:brittany@laevents.com.au"></a>This email address is 
 being protected from spambots. You need JavaScript enabled to view it.
				
 document.getElementById('cloak5a852c7ed85006ea13559b1699c534f3').innerHTML 
 = '';
				var prefix = '&#109;a' + 'i&#108;' + '&#116;o';
				var path = 'h
 r' + 'ef' + '=';
				var addy5a852c7ed85006ea13559b1699c534f3 = 'br&#105;tt
 &#97;ny' + '&#64;';
				addy5a852c7ed85006ea13559b1699c534f3 = addy5a852c7e
 d85006ea13559b1699c534f3 + 'l&#97;&#101;v&#101;nts' + '&#46;' + 'c&#111;m' 
 + '&#46;' + '&#97;&#117;';
				var addy_text5a852c7ed85006ea13559b1699c534f
 3 = 'br&#105;tt&#97;ny' + '&#64;' + 'l&#97;&#101;v&#101;nts' + '&#46;' + 'c
 &#111;m' + '&#46;' + '&#97;&#117;';document.getElementById('cloak5a852c7ed8
 5006ea13559b1699c534f3').innerHTML += '<a ' + path + '\'' + prefix + ':' + 
 addy5a852c7ed85006ea13559b1699c534f3 + '\'>'+addy_text5a852c7ed85006ea13559
 b1699c534f3+'';
		.\nAccess to the portal is via your browser and there is 
 no extra software to download.\nRegistration is free and open to everybody.
 \nFurther information can be found on the .\n
X-ALT-DESC;FMTTYPE=text/html:<div class="row"><div class="col-md-12"><div class="display"><div class="ed
 it"><p><strong>Organised by the Scientific Committee on Antarctic Research 
 <br /></strong></p><p><strong>3-7 August&nbsp; |&nbsp; #SCAR2020</strong></
 p></div></div></div></div><div class="row"><div class="col-md-12"><div clas
 s="edit"><div class="edit"><p>Welcome to SCAR 2020 Online. SCAR’s Open Scie
 nce Conferences have been a focal point for the Antarctic research communit
 y for over fifteen years. Through SCAR 2020 Online we are excited to presen
 t many of the highlights of the science we had originally planned to bring 
 to you at the Hobart OSC, which was sadly cancelled due to the COVID-19 pan
 demic.</p><p>All the activities of SCAR 2020 Online will take place via the
  OnAIR event portal. To join you will need to <a title="" href="https://lei
 shman.eventsair.com/scar-online-2020/virtual-early-bird-registration" targe
 t="_blank" rel="noopener">register here</a>.&nbsp;Once you have registered 
 you will receive a confirmation email. <strong>Your login details for the O
 nAIR portal will be sent to you on July 20</strong>. If you register after 
 July 20, login details will be sent to you immediately upon registering. If
  you do not receive your login email, please first check your Junk inbox, b
 efore contacting <a title="" href="mailto:brittany@laevents.com.au"></a><sp
 an id="cloak5a852c7ed85006ea13559b1699c534f3">This email address is being p
 rotected from spambots. You need JavaScript enabled to view it.</span><scri
 pt type='text/javascript'>
				document.getElementById('cloak5a852c7ed85006
 ea13559b1699c534f3').innerHTML = '';
				var prefix = '&#109;a' + 'i&#108;'
  + '&#116;o';
				var path = 'hr' + 'ef' + '=';
				var addy5a852c7ed85006e
 a13559b1699c534f3 = 'br&#105;tt&#97;ny' + '&#64;';
				addy5a852c7ed85006ea
 13559b1699c534f3 = addy5a852c7ed85006ea13559b1699c534f3 + 'l&#97;&#101;v&#1
 01;nts' + '&#46;' + 'c&#111;m' + '&#46;' + '&#97;&#117;';
				var addy_text
 5a852c7ed85006ea13559b1699c534f3 = 'br&#105;tt&#97;ny' + '&#64;' + 'l&#97;&
 #101;v&#101;nts' + '&#46;' + 'c&#111;m' + '&#46;' + '&#97;&#117;';document.
 getElementById('cloak5a852c7ed85006ea13559b1699c534f3').innerHTML += '<a ' 
 + path + '\'' + prefix + ':' + addy5a852c7ed85006ea13559b1699c534f3 + '\'>'
 +addy_text5a852c7ed85006ea13559b1699c534f3+'<\/a>';
		</script>.</p><p>Acce
 ss to the portal is via your browser and there is no extra software to down
 load.</p><p><strong>Registration is free and open to everybody.</strong></p
 ><p>Further information can be found on the <a href="https://www.scar2020.o
 rg/?utm_source=SCAR&amp;utm_campaign=d69e976700-EMAIL_CAMPAIGN_2020_07_08_0
 2_51&amp;utm_medium=email&amp;utm_term=0_b964133964-d69e976700-364285916" t
 arget="_blank" rel="noopener">SCAR 2020 website</a>.</p></div></div></div><
 /div>
DTSTAMP:20260424T144449Z
DTSTART;TZID=UTC;VALUE=DATE:20200803
DTEND;TZID=UTC;VALUE=DATE:20200808
SEQUENCE:0
TRANSP:OPAQUE
END:VEVENT
END:VCALENDAR