BEGIN:VCALENDAR
VERSION:2.0
PRODID:-//jEvents 2.0 for Joomla//EN
CALSCALE:GREGORIAN
METHOD:PUBLISH
BEGIN:VEVENT
UID:20ece813729c568bc17c2538247e78c0
CATEGORIES:Polar Conferences, Meetings and Events
CREATED:20200715T113014
SUMMARY: Webinar on Arctic Research Plan Development
LOCATION:Online
DESCRIPTION: If you are interested in being part of the conversation on Arctic research
  planning or are curious about what the A (https://www.iarpccollaborations.
 org/arctic-research-plans.html)<a href="https://www.iarpccollaborations.org
 /arctic-research-plans.html">rctic Research Plan</a> is and how it is being
  developed (https://www.iarpccollaborations.org/arctic-research-plan-2022-2
 026.html), please <a href="https://iarpc.zoom.us/meeting/register/tZAufuCsr
 zgvH9STk5i7bsWvY2saoYgAQIzr%20">join us for an </a>IARPC Webinar on July 20
  at 2pm ET / 10am AKT (https://iarpc.zoom.us/meeting/register/tZAufuCsrzgvH
 9STk5i7bsWvY2saoYgAQIzr%20). In this webinar, IARPC will share information 
 on the development of the next five-year Arctic Research Plan, how you can 
 get involved, and what kinds of input we are seeking. There will also be ti
 me for questions and discussion. All are welcome. <a href="https://iarpc.zo
 om.us/meeting/register/tZAufuCsrzgvH9STk5i7bsWvY2saoYgAQIzr">Register for t
 he webinar here.</a>\nIARPC is currently asking for public comments on the 
 development of the next five-year Arctic Research Plan.\n The public commen
 t period is open through August 2. (https://www.regulations.gov/document?D=
 NSF_FRDOC_0001-2493)\nConnection Information:\nRegister in advance for this
  meeting:\n<a href="https://iarpc.zoom.us/meeting/register/tZAufuCsrzgvH9ST
 k5i7bsWvY2saoYgAQIzr"></a>https://iarpc.zoom.us/meeting/register/tZAufuCsrz
 gvH9STk5i7bsWvY2saoYgAQIzr\n
X-ALT-DESC;FMTTYPE=text/html:<div>&nbsp;If you are interested in being part of the conversation on Arcti
 c research planning or are curious about what the<a href="https://www.iarpc
 collaborations.org/arctic-research-plans.html">&nbsp;A</a><a href="https://
 www.iarpccollaborations.org/arctic-research-plans.html">rctic Research Plan
 </a>&nbsp;is and&nbsp;<a href="https://www.iarpccollaborations.org/arctic-r
 esearch-plan-2022-2026.html">how it is being developed</a>, please <a href=
 "https://iarpc.zoom.us/meeting/register/tZAufuCsrzgvH9STk5i7bsWvY2saoYgAQIz
 r%20">join us for an&nbsp;</a><a href="https://iarpc.zoom.us/meeting/regist
 er/tZAufuCsrzgvH9STk5i7bsWvY2saoYgAQIzr%20"><abbr data-qtip-content="acrony
 m-118" data-hasqtip="1"><abbr class="acronym-popup" data-qtip-content="acro
 nym-118">IARPC</abbr></abbr> Webinar on July 20 at 2pm ET / 10am AKT</a>.&n
 bsp;<p style="text-align: left;">In this webinar, <abbr data-qtip-content="
 acronym-118"><abbr class="acronym-popup" data-qtip-content="acronym-118">IA
 RPC</abbr></abbr> will share information on the development of the next fiv
 e-year Arctic Research Plan, how you can get involved, and what kinds of in
 put we are seeking. There will also be time for questions and&nbsp;discussi
 on. All are welcome. <strong><a href="https://iarpc.zoom.us/meeting/registe
 r/tZAufuCsrzgvH9STk5i7bsWvY2saoYgAQIzr">Register for the webinar here.</a><
 /strong></p><p style="text-align: left;"><abbr class="acronym-popup" data-q
 tip-content="acronym-118">IARPC</abbr> is currently asking for public comme
 nts on the development of the next five-year Arctic Research Plan.<br /> <a
  href="https://www.regulations.gov/document?D=NSF_FRDOC_0001-2493">The publ
 ic comment period is open through August 2.</a></p><p style="text-align: le
 ft;"><strong>Connection Information:</strong></p><p style="text-align: left
 ;">Register in advance for this meeting:<br /><a href="https://iarpc.zoom.u
 s/meeting/register/tZAufuCsrzgvH9STk5i7bsWvY2saoYgAQIzr"></a><a href="https
 ://iarpc.zoom.us/meeting/register/tZAufuCsrzgvH9STk5i7bsWvY2saoYgAQIzr">htt
 ps://iarpc.zoom.us/meeting/register/tZAufuCsrzgvH9STk5i7bsWvY2saoYgAQIzr</a
 ></p></div>
DTSTAMP:20260421T230602Z
DTSTART;TZID=UTC:20200720T140000
SEQUENCE:0
TRANSP:OPAQUE
END:VEVENT
END:VCALENDAR