BEGIN:VCALENDAR
VERSION:2.0
PRODID:-//jEvents 2.0 for Joomla//EN
CALSCALE:GREGORIAN
METHOD:PUBLISH
BEGIN:VEVENT
UID:5312c795f6bba1014278b8033f35c7e7
CATEGORIES:Polar Conferences, Meetings and Events
CREATED:20200703T120224
SUMMARY:ACCAP Webinar: Hollings Scholar Presentations: Exploration of the Hot Dry Windy Index and wildfire; Climate Change and overnight fire growth
LOCATION:Online
DESCRIPTION:Friday, July 24 (10am ADT) Hollings Scholar Presentations: Exploration of t
 he Hot Dry Windy Index and wildfire; Climate Change and overnight fire grow
 th( (https://uaf-accap.org/event/hollings_2020/)<a href="https://uaf-accap.
 org/event/hollings_2020/">https://uaf-accap.org/event/hollings_2020/</a>)Sp
 eaker: Clairisse Reiher &amp; Emily McCutchan, 2020 Hollings Scholars\nDuri
 ng the summer of 2020 ACCAP and the Alaska Fire Science Consortium hosted t
 wo Ernest F. Hollings scholars for the summer internships. Because of COVID
 -19 their internships were remote. During this webinar the scholars will pr
 esent their summer’s work.1. An exploration of the Hot Dry Windy Index &amp
 ; its applicability to the Alaska wildfire environment (Emily)2. Changing S
 ummer Nighttime Climate and its Impact on Alaska Fire Growth (Clairisse)Mor
 e information and registration below(https://uaf-accap.org/event/hollings_2
 020/) General Webinar Information Here (<a title="https://uaf-accap.org/eve
 nts/about-accap-webinars/" href="https://uaf-accap.org/events/about-accap-w
 ebinars/" target="_blank" rel="noopener"></a>https://uaf-accap.org/events/a
 bout-accap-webinars/) 
X-ALT-DESC;FMTTYPE=text/html:<div dir="ltr"><div dir="ltr"><div dir="ltr"><div dir="ltr"><div dir="ltr">
 <div dir="ltr"><div dir="ltr"><div dir="ltr"><div dir="ltr"><div dir="ltr">
 <div dir="ltr"><div><div><div dir="ltr"><div dir="ltr"><div><strong>Friday,
  July 24 (10am ADT)</strong></div><div>&nbsp;</div><div>Hollings Scholar Pr
 esentations: Exploration of the Hot Dry Windy Index and wildfire; Climate C
 hange and overnight fire growth</div><div>(<a title="https://uaf-accap.org/
 event/hollings_2020/" href="https://uaf-accap.org/event/hollings_2020/"></a
 ><a href="https://uaf-accap.org/event/hollings_2020/">https://uaf-accap.org
 /event/hollings_2020/</a>)</div></div></div></div></div></div></div></div><
 /div></div></div></div></div></div></div></div><p><em>Speaker: Clairisse Re
 iher &amp; Emily McCutchan, 2020 Hollings Scholars</em></p><blockquote><div
 ><div><div>During the summer of 2020 ACCAP and the Alaska Fire Science Cons
 ortium hosted two Ernest F. Hollings scholars for the summer internships. B
 ecause of COVID-19 their internships were remote. During this webinar the s
 cholars will present their summer’s work.</div><div><em>1.&nbsp;An explorat
 ion of the Hot Dry Windy Index &amp; its applicability to the Alaska wildfi
 re environment&nbsp;</em>(Emily)</div><div><em>2. Changing Summer Nighttime
  Climate and its Impact on Alaska Fire Growth&nbsp;</em>(Clairisse)</div></
 div></div><div><div><div><div>More information and registration below</div>
 <div>(<a href="https://uaf-accap.org/event/hollings_2020/">https://uaf-acca
 p.org/event/hollings_2020/</a>)</div></div><div>&nbsp;</div><div>General We
 binar Information Here (<a title="https://uaf-accap.org/events/about-accap-
 webinars/" href="https://uaf-accap.org/events/about-accap-webinars/" target
 ="_blank" rel="noopener"></a><a href="https://uaf-accap.org/events/about-ac
 cap-webinars/">https://uaf-accap.org/events/about-accap-webinars/</a>)</div
 ><div>&nbsp;</div></div></div></blockquote>
CONTACT:Tina Buxbaum (This email address is being protected from spambots. You need JavaScript enabled to view it.
				document.getElementById('cloak6b33ca28cbecc3eaf4fab61336d02fa7').innerHTML = '';
				var prefix = '&#109;a' + 'i&#108;' + '&#116;o';
				var path = 'hr' + 'ef' + '=';
				var addy6b33ca28cbecc3eaf4fab61336d02fa7 = 'tmb&#117;xb&#97;&#117;m' + '&#64;';
				addy6b33ca28cbecc3eaf4fab61336d02fa7 = addy6b33ca28cbecc3eaf4fab61336d02fa7 + '&#97;l&#97;sk&#97;' + '&#46;' + '&#101;d&#117;';
				var addy_text6b33ca28cbecc3eaf4fab61336d02fa7 = 'tmb&#117;xb&#97;&#117;m' + '&#64;' + '&#97;l&#97;sk&#97;' + '&#46;' + '&#101;d&#117;';document.getElementById('cloak6b33ca28cbecc3eaf4fab61336d02fa7').innerHTML += '<a ' + path + '\'' + prefix + ':' + addy6b33ca28cbecc3eaf4fab61336d02fa7 + '\'>'+addy_text6b33ca28cbecc3eaf4fab61336d02fa7+'';
		, 907-474-7812)
DTSTAMP:20260422T050237Z
DTSTART;TZID=UTC:20200724T100000
SEQUENCE:0
TRANSP:OPAQUE
END:VEVENT
END:VCALENDAR