BEGIN:VCALENDAR
VERSION:2.0
PRODID:-//jEvents 2.0 for Joomla//EN
CALSCALE:GREGORIAN
METHOD:PUBLISH
BEGIN:VEVENT
UID:20e15daf1de07410ee96d419cc677faa
CATEGORIES:Polar Conferences, Meetings and Events
CREATED:20200703T115504
SUMMARY:ACCAP Webinar: June 2020 National Weather Service Alaska Climate Outlook Briefing
LOCATION:Online
DESCRIPTION:<div dir="ltr"><div dir="ltr"><div dir="ltr"><div dir="ltr"><div dir="ltr">
 <div dir="ltr"><div dir="ltr"><div dir="ltr"><div><div><div dir="ltr"><div 
 dir="ltr"><div><strong>Friday, July 17 (12pm ADT)</strong></div><div>&nbsp;
 </div><div>June 2020 National Weather Service Alaska Climate Outlook Briefi
 ng</div><div>(<a href="https://uaf-accap.org/event/july-2020-nws-briefing/"
 ></a><a href="https://uaf-accap.org/event/july-2020-nws-briefing/">https://
 uaf-accap.org/event/july-2020-nws-briefing/</a><a href="https://uaf-accap.o
 rg/event/may-2020-national-weather-service-alaska-climate-outlook-briefing/
 )" target="_blank" rel="noopener">)</a></div><div>&nbsp;</div>Speaker: <em>
 Rick Thoman, ACCAP</em></div></div></div></div></div></div></div></div></di
 v></div></div></div><blockquote><div dir="ltr"><div dir="ltr"><div dir="ltr
 "><div dir="ltr"><div dir="ltr"><div dir="ltr"><div dir="ltr"><div dir="ltr
 "><div><div><div dir="ltr"><div dir="ltr"><div>The tools and techniques for
  making monthly and season scale climate forecasts are rapidly changing, wi
 th the potential to provide useful forecasts at the month and longer range.
  We will review recent climate conditions around Alaska, review some foreca
 st tools and finish up the Climate Prediction Center’s forecast for the com
 ing months.</div><div>&nbsp;</div><div>More information and registration be
 low (<a title="https://uaf-accap.org/event/july-2020-nws-briefing/" href="h
 ttps://uaf-accap.org/event/july-2020-nws-briefing/"></a><a href="https://ua
 f-accap.org/event/july-2020-nws-briefing/">https://uaf-accap.org/event/july
 -2020-nws-briefing/</a><a title="https://uaf-accap.org/event/may-2020-natio
 nal-weather-service-alaska-climate-outlook-briefing/)" href="https://uaf-ac
 cap.org/event/may-2020-national-weather-service-alaska-climate-outlook-brie
 fing/)" target="_blank" rel="noopener">)</a></div></div><div dir="ltr"><div
 >&nbsp;</div><div>General Webinar Information Here (<a title="https://uaf-a
 ccap.org/events/about-accap-webinars/" href="https://uaf-accap.org/events/a
 bout-accap-webinars/" target="_blank" rel="noopener"></a><a href="https://u
 af-accap.org/events/about-accap-webinars/">https://uaf-accap.org/events/abo
 ut-accap-webinars/</a>)</div></div></div></div></div></div></div></div></di
 v></div></div></div></div></blockquote>
CONTACT:Tina Buxbaum (This email address is being protected from spambots. You need JavaScript enabled to view it.
				document.getElementById('cloakafc9b96e8988dd4d7a92844d668c23c2').innerHTML = '';
				var prefix = '&#109;a' + 'i&#108;' + '&#116;o';
				var path = 'hr' + 'ef' + '=';
				var addyafc9b96e8988dd4d7a92844d668c23c2 = 'tmb&#117;xb&#97;&#117;m' + '&#64;';
				addyafc9b96e8988dd4d7a92844d668c23c2 = addyafc9b96e8988dd4d7a92844d668c23c2 + '&#97;l&#97;sk&#97;' + '&#46;' + '&#101;d&#117;';
				var addy_textafc9b96e8988dd4d7a92844d668c23c2 = 'tmb&#117;xb&#97;&#117;m' + '&#64;' + '&#97;l&#97;sk&#97;' + '&#46;' + '&#101;d&#117;';document.getElementById('cloakafc9b96e8988dd4d7a92844d668c23c2').innerHTML += '<a ' + path + '\'' + prefix + ':' + addyafc9b96e8988dd4d7a92844d668c23c2 + '\'>'+addy_textafc9b96e8988dd4d7a92844d668c23c2+'';
		, 907-474-7812)
DTSTAMP:20260421T210253Z
DTSTART;TZID=UTC:20200717T120000
SEQUENCE:0
TRANSP:OPAQUE
END:VEVENT
END:VCALENDAR