BEGIN:VCALENDAR
VERSION:2.0
PRODID:-//jEvents 2.0 for Joomla//EN
CALSCALE:GREGORIAN
METHOD:PUBLISH
BEGIN:VEVENT
UID:e683f1224df94d02d69e4f4cd59188b4
CATEGORIES:Polar Conferences, Meetings and Events
CREATED:20200703T115139
SUMMARY:ACCAP Webinar: Alaska’s berries and their changing seasons
LOCATION:Online
DESCRIPTION:Tuesday, July 7 (10am ADT) Alaska’s berries and their changing seasons( (ht
 tps://uaf-accap.org/event/ak_berries_changes/)<a href="https://uaf-accap.or
 g/event/ak_berries_changes/">https://uaf-accap.org/event/ak_berries_changes
 /</a>)Speakers: Dr. Katie V. Spellman &amp; Dr. Christa P.H. Mulder, Univer
 sity of Alaska Fairbanks\nChanges in the timing of the seasons in Alaska in
 fluences our wild berry flowering, pollination, ripening and fruit dispersa
 l (including by us berry pickers). Dr. Katie Spellman and Dr. Christa Mulde
 r will discuss the ongoing research by the UAF International Arctic Researc
 h Center and Institute of Arctic Biology that explores how earlier springs,
  warmer summers and wetter falls influence our amazing Alaska berries throu
 ghout their life cycles. Learn how public participation in this scientific 
 research is helping improve our knowledge of ways berries are changing acro
 ss our state. More information and registration below( (https://uaf-accap.o
 rg/event/ak_berries_changes/)<a href="https://uaf-accap.org/event/ak_berrie
 s_changes/">https://uaf-accap.org/event/ak_berries_changes/</a>) General We
 binar Information Here ( (https://uaf-accap.org/events/about-accap-webinars
 /)<a href="https://uaf-accap.org/events/about-accap-webinars/">https://uaf-
 accap.org/events/about-accap-webinars/</a>) 
X-ALT-DESC;FMTTYPE=text/html:<div dir="ltr"><div dir="ltr"><div dir="ltr"><div dir="ltr"><div dir="ltr">
 <div dir="ltr"><div dir="ltr"><div dir="ltr"><div dir="ltr"><div dir="ltr">
 <div dir="ltr"><div><div><div dir="ltr"><div dir="ltr"><div><strong>Tuesday
 , July 7 (10am ADT)</strong></div><div>&nbsp;</div><div>Alaska’s berries an
 d their changing seasons</div><div>(<a title="https://uaf-accap.org/event/a
 k_berries_changes/" href="https://uaf-accap.org/event/ak_berries_changes/">
 </a><a href="https://uaf-accap.org/event/ak_berries_changes/">https://uaf-a
 ccap.org/event/ak_berries_changes/</a>)</div></div></div></div></div></div>
 </div></div></div></div></div></div></div></div></div></div><p><em>Speakers
 : Dr. Katie V. Spellman &amp; Dr. Christa P.H. Mulder, University of Alaska
  Fairbanks</em></p><blockquote><div><div><div>Changes in the timing of the 
 seasons in Alaska influences our wild berry flowering, pollination, ripenin
 g and fruit dispersal (including by us berry pickers). Dr. Katie Spellman a
 nd Dr. Christa Mulder will discuss the ongoing research by the UAF Internat
 ional Arctic Research Center and Institute of Arctic Biology that explores 
 how earlier springs, warmer summers and wetter falls influence our amazing 
 Alaska berries throughout their life cycles. Learn how public participation
  in this scientific research is helping improve our knowledge of ways berri
 es are changing across our state.</div></div></div><div><div><div><div>&nbs
 p;</div><div>More information and registration below</div><div>(<a title="h
 ttps://uaf-accap.org/event/ak_berries_changes/" href="https://uaf-accap.org
 /event/ak_berries_changes/"></a><a href="https://uaf-accap.org/event/ak_ber
 ries_changes/">https://uaf-accap.org/event/ak_berries_changes/</a>)</div></
 div><div>&nbsp;</div><div>General Webinar Information Here (<a href="https:
 //uaf-accap.org/events/about-accap-webinars/" target="_blank" rel="noopener
 "></a><a href="https://uaf-accap.org/events/about-accap-webinars/">https://
 uaf-accap.org/events/about-accap-webinars/</a>)</div><div>&nbsp;</div></div
 ></div></blockquote>
CONTACT:Tina Buxbaum (This email address is being protected from spambots. You need JavaScript enabled to view it.
				document.getElementById('cloak03dbe005c748977fd15627d4156d8b66').innerHTML = '';
				var prefix = '&#109;a' + 'i&#108;' + '&#116;o';
				var path = 'hr' + 'ef' + '=';
				var addy03dbe005c748977fd15627d4156d8b66 = 'tmb&#117;xb&#97;&#117;m' + '&#64;';
				addy03dbe005c748977fd15627d4156d8b66 = addy03dbe005c748977fd15627d4156d8b66 + '&#97;l&#97;sk&#97;' + '&#46;' + '&#101;d&#117;';
				var addy_text03dbe005c748977fd15627d4156d8b66 = 'tmb&#117;xb&#97;&#117;m' + '&#64;' + '&#97;l&#97;sk&#97;' + '&#46;' + '&#101;d&#117;';document.getElementById('cloak03dbe005c748977fd15627d4156d8b66').innerHTML += '<a ' + path + '\'' + prefix + ':' + addy03dbe005c748977fd15627d4156d8b66 + '\'>'+addy_text03dbe005c748977fd15627d4156d8b66+'';
		, 907-474-7812)
DTSTAMP:20260421T230432Z
DTSTART;TZID=UTC:20200707T100000
SEQUENCE:0
TRANSP:OPAQUE
END:VEVENT
END:VCALENDAR