BEGIN:VCALENDAR
VERSION:2.0
PRODID:-//jEvents 2.0 for Joomla//EN
CALSCALE:GREGORIAN
METHOD:PUBLISH
BEGIN:VEVENT
UID:35a7f1b8c4129076ae6cec6b377c673a
CATEGORIES:Polar Conferences, Meetings and Events
CREATED:20161017T022723
SUMMARY:AAG Annual Meeting
LOCATION:Boston\, Massachusetts\, USA
DESCRIPTION:<p>The Association of American Geographers Annual Meeting will be held on A
 pril 5-9 in Boston. </p>
DTSTAMP:20260423T004425Z
DTSTART;TZID=UTC;VALUE=DATE:20170405
DTEND;TZID=UTC;VALUE=DATE:20170410
SEQUENCE:0
TRANSP:OPAQUE
END:VEVENT
END:VCALENDAR