BEGIN:VCALENDAR
VERSION:2.0
PRODID:-//jEvents 2.0 for Joomla//EN
CALSCALE:GREGORIAN
METHOD:PUBLISH
BEGIN:VEVENT
UID:f094b3b87a10510ac8cc3787516ffcd3
CATEGORIES:Polar Conferences, Meetings and Events
CREATED:20200629T134552
SUMMARY:IGS Global Seminar Series: Doug Macayeal, University of Chicago US, "Backyard glaciological phenomena: investigation of snow rollers during a Chicago quarantine"
DESCRIPTION:<p><span class="m_7897534869731521770oi732d6d">Doug Macayeal, University of
  Chicago US, "Backyard glaciological phenomena: investigation of snow rolle
 rs during a Chicago quarantine"</span></p>
DTSTAMP:20260422T020611Z
DTSTART;TZID=UTC:20200708T080000
DTEND;TZID=UTC:20200708T170000
SEQUENCE:0
TRANSP:OPAQUE
END:VEVENT
END:VCALENDAR