BEGIN:VCALENDAR
VERSION:2.0
PRODID:-//jEvents 2.0 for Joomla//EN
CALSCALE:GREGORIAN
METHOD:PUBLISH
BEGIN:VEVENT
UID:885a57877c43535740939386c9ba0353
CATEGORIES:Polar Online Events
CREATED:20200625T121403
SUMMARY:2021 Regional Conference on Permafrost (RCOP) and 19th International Conference on Cold Regions Engineering (ICCRE) - ABSTRACT SUBMISSION OPEN!
LOCATION:Online
DESCRIPTION:For the first time, the US Permafrost Association (USPA) and the American S
 ociety of Civil Engineers (ASCE) have joined forces to organize the joint 2
 021 Regional Conference on Permafrost (RCOP) and 19th International Confere
 nce on Cold Regions Engineering (ICCRE) and 19th International Conference o
 n Cold Regions Engineering (ICCRE) (https://uspa.memberclicks.net/rcop-iccr
 e). RCOPs are convened by the International Permafrost Association (IPA) as
  part of their motto to "foster permafrost research to the ends of earth". 
 The RCOP &amp; ICCRE joint conference in October 2021 will strengthen ties 
 between the scientific, engineering, and local communities.\n*ABSTRACT SUBM
 ISSION NOW OPEN*\nThe deadline to submit your abstract is July 15, 2021. Mo
 re information on <a href="https://uspa.memberclicks.net/abstracts" target=
 "_blank" rel="noopener">abstract submission</a> and technical sessions (htt
 ps://uspa.memberclicks.net/rcop--sessions).\n\n\n \n
X-ALT-DESC;FMTTYPE=text/html:<p style="text-align: justify;"><span></span>For the first time, the<strong
 > US Permafrost Association (USPA)</strong> and the <strong>American Societ
 y of Civil Engineers (ASCE)</strong> have joined forces to organize the joi
 nt <a href="https://uspa.memberclicks.net/rcop-iccre" target="_blank" rel="
 noopener"><strong>2021 Regional Conference on Permafrost (RCOP) and 19th In
 ternational Conference on Cold Regions Engineering (ICCRE)</strong> and <st
 rong>19th International Conference on Cold Regions Engineering (ICCRE)</str
 ong></a>. RCOPs are convened by the International Permafrost Association (I
 PA) as part of their motto to "foster permafrost research to the ends of ea
 rth". The RCOP &amp; ICCRE joint conference in October 2021 will strengthen
  ties between the scientific, engineering, and local communities.</p><p sty
 le="text-align: justify;"><strong>*ABSTRACT SUBMISSION NOW OPEN*</strong></
 p><p style="text-align: justify;"><strong>The deadline to submit your abstr
 act is July 15, 2021. </strong>More information on <a href="https://uspa.me
 mberclicks.net/abstracts" target="_blank" rel="noopener">abstract submissio
 n</a> and <a href="https://uspa.memberclicks.net/rcop--sessions" target="_b
 lank" rel="noopener">technical sessions</a>.<strong><br /><br /></strong></
 p><p>&nbsp;</p>
DTSTAMP:20260420T015239Z
DTSTART;TZID=UTC;VALUE=DATE:20211024
DTEND;TZID=UTC;VALUE=DATE:20211025
SEQUENCE:0
TRANSP:OPAQUE
END:VEVENT
END:VCALENDAR