BEGIN:VCALENDAR
VERSION:2.0
PRODID:-//jEvents 2.0 for Joomla//EN
CALSCALE:GREGORIAN
METHOD:PUBLISH
BEGIN:VEVENT
UID:7a4e46f31e3174bea19e38fce4f73a5f
CATEGORIES:Polar Conferences, Meetings and Events
CREATED:20200623T144456
SUMMARY:Virtual PALSEA-SERCE workshop
DESCRIPTION:<p>Dear PALSEA Community,</p><p>As announced earlier, following the many ch
 allenges posed by the current COVID-19 pandemic, the organizing committee h
 as decided to postpone the PALSEA-SERCE 2020 workshop to autumn 2021. Howev
 er, to continue fostering scientific exchanges in the sea level and ice she
 et community in these difficult times, the organizers have decided to set u
 p a virtual meeting, named PALSEA Express, for the dates of September 15th 
 and 16th, 2020. Each day will consist of three hours, divided between invit
 ed talks (20-25 minutes each plus question time) and virtual poster present
 ations.&nbsp; The invited speakers include Ewan Gowan, Christine Batchelor,
  Ben Horton, Natalya Gomez, Julia Gottschalk, Rob DeConto, Eric Wolff, and 
 Blake Dyer.&nbsp; The titles of their talks can be found <a href="https://p
 alseagroup.weebly.com/2020-virtual-meeting.html">HERE</a>.</p><p><strong>Me
 eting times</strong>&nbsp;(note the minor time change for September 15<sup>
 th</sup>)</p><p>September 15th, 11.00 AM UTC - 02.00 PM UTC Find meeting ti
 me in your timezone <a href="https://www.timeanddate.com/worldclock/fixedti
 me.html?msg=PALSEA+Day+1&amp;iso=20200915T11&amp;p1=1440&amp;ah=3">HERE</a>
 </p><p>September 16th, 04.00 PM UTC - 07:00 PM UTC Find meeting time in you
 r timezone <a href="https://www.timeanddate.com/worldclock/fixedtime.html?m
 sg=PALSEA+Day+2&amp;iso=20200916T16&amp;p1=1440&amp;ah=3">HERE</a></p><p><s
 trong>Virtual poster abstract submission</strong></p><p>During the two-day 
 meeting, we will reserve time slots for virtual posters.</p><p>Abstract sub
 mission is now online and will close <strong>August 15th, 2020</strong>.</p
 ><p>You can submit your abstract through <a href="https://docs.google.com/f
 orms/d/e/1FAIpQLSd936NvNFCBwACA8Pr1Tl26V8Wd12kCfIZbzn9oQIfdZFabsw/viewform"
 >this form</a>.</p><p>PLEASE NOTE: each abstract will be reviewed by the or
 ganizing committee. As the virtual meeting time is limited, we cannot guara
 ntee that we will be able to accommodate all abstracts. Priority will be gi
 ven to Early Career Researchers and researchers from low GDP countries.</p>
 <p><strong>Registration&nbsp;</strong></p><p>If you want to participate wit
 hout submitting an abstract, please register <a href="https://docs.google.c
 om/forms/d/e/1FAIpQLSc_XL9TIO5-qDJzFmmoaCyhhK3neWIE-WMgQJ7st3W6mXVegA/viewf
 orm">here </a>to receive the zoom link.</p><p>You don’t need to register if
  you’re submitting an abstract.</p><p>We hope to see many of you online in 
 September.&nbsp;</p><p>Best,</p><p>Jacky, Alex, Tasha, Jeremy, and Ale</p>
DTSTAMP:20260422T003609Z
DTSTART;TZID=UTC:20200915T080000
DTEND;TZID=UTC:20200916T170000
SEQUENCE:0
TRANSP:OPAQUE
END:VEVENT
END:VCALENDAR