BEGIN:VCALENDAR
VERSION:2.0
PRODID:-//jEvents 2.0 for Joomla//EN
CALSCALE:GREGORIAN
METHOD:PUBLISH
BEGIN:VEVENT
UID:df5614e9980ce47e5574d35ef622d719
CATEGORIES:Polar Conferences, Meetings and Events
CREATED:20161017T021727
SUMMARY:Arctic Workshop 2017
LOCATION:Boulder\, Colorado\, USA
DESCRIPTION:<p>The 47th Annual International Arctic Workshop will be held March 23 - 25
  2017 at the University of Buffalo, New York. You can visit <a href="https:
 //geohazards.buffalo.edu/aw2017/about/">the website</a> for more informatio
 n.</p>
DTSTAMP:20260423T004656Z
DTSTART;TZID=UTC:20170322T200000
DTEND;TZID=UTC:20170325T195959
SEQUENCE:0
TRANSP:OPAQUE
END:VEVENT
END:VCALENDAR