BEGIN:VCALENDAR
VERSION:2.0
PRODID:-//jEvents 2.0 for Joomla//EN
CALSCALE:GREGORIAN
METHOD:PUBLISH
BEGIN:VEVENT
UID:02852ba874859184a7219edc9591c24e
CATEGORIES:Polar Conferences, Meetings and Events
CREATED:20200615T194303
SUMMARY:IGS Global Seminar Series: The role of Antarctic subglacial hydrology in ice dynamics and stability
DESCRIPTION:IGS Global Seminar Series: Wednesday 17 June: Christine Dow, University of 
 Waterloo, Canada\n"The role of Antarctic subglacial hydrology in ice dynami
 cs and stability"\n \nAnd please feel free to volunteer to give a future se
 minar – just drop me an email: don’t be shy – both full length and shorter 
 slots are available August, September and beyond…! \nPlease register in adv
 ance for the seminars - if you have already registered you should be able t
 o use the same link as last week (check and if it doesn't work, just re-reg
 ister). Once you have registered please check the link (you should see the 
 waiting room I think). Any issues drop me an email and I'll try and help. T
 here's a short question to answer - please tell me enough to accept you! I'
 ll be doing that manually, so just be kind and make it obvious... (I'm a Ph
 D student with X... or whatever). Using your work email would make my life 
 really easy.\n<a href="https://swanseauniversity.zoom.us/meeting/register/t
 JUqfuirrzouG9C5Dj7FfLjpsy3cINaVRWK6">https://swanseauniversity.zoom.us/meet
 ing/register/tJUqfuirrzouG9C5Dj7FfLjpsy3cINaVRWK6</a>\nAfter registering, y
 ou will receive a confirmation email containing information about joining t
 he seminar.\nSeminar times:\n--------------------\nLondon - 9pm\nEurope - 1
 0pm\nEast Coast US - 4pm\nWest Coast US - 1pm\nDelhi (+1) - 1.30am (sorry!)
 \nTokyo (+1) - 5am\nAustralia (+1) - 6am\nNew Zealand (+1) - 8am\nThe semin
 ar will also be available afterwards on the Friends of the International Gl
 aciological Society Facebook page so that you can watch it there if technol
 ogy fails or you can't make it! We are investigating other platforms for th
 ose in countries where Facebook can’t be used.\n
X-ALT-DESC;FMTTYPE=text/html:<p>IGS Global Seminar Series: Wednesday 17 June: <strong>Christine Dow</str
 ong>, University of Waterloo, Canada</p><p><em>"The role of Antarctic subgl
 acial hydrology in ice dynamics and stability"</em></p><p><em>&nbsp;</em></
 p><p>And please feel free to volunteer to give a future seminar – just drop
  me an email: don’t be shy – both full length and shorter slots are availab
 le August, September and beyond…!&nbsp;</p><p>Please register in advance fo
 r the seminars - if you have already registered you should be able to use t
 he same link as last week (check and if it doesn't work, just re-register).
  Once you have registered please check the link (you should see the waiting
  room I think). Any issues drop me an email and I'll try and help. There's 
 a short question to answer - please tell me enough to accept you! I'll be d
 oing that manually, so just be kind and make it obvious... (I'm a PhD stude
 nt with X... or whatever). Using your work email would make my life really 
 easy.</p><p><a href="https://l.facebook.com/l.php?u=https%3A%2F%2Fswanseaun
 iversity.zoom.us%2Fmeeting%2Fregister%2FtJUqfuirrzouG9C5Dj7FfLjpsy3cINaVRWK
 6%3Ffbclid%3DIwAR3qD9vLygyHnp0WT5EGTCF_q5-SbbxXY97UL4JwY04JbZzzj5VApXztqYU&
 amp;h=AT0iD9T5Aug1-EbQJOzRWNGg7knOwJAxcNkMJVegshOnwy6W7VW2CKt4n8XCZPGbTrOk5
 43v45ubCzeFLsToxx1N4XR8vD93o32CZNkZx8Za-vwbNdtjz4CXzJ2V9VAa&amp;__tn__=-UK-
 R&amp;c%5b0%5d=AT193gn03CbWlXr8eb5_pHgN74R3c7H-jxQgHT7JTYBEo7KPFDl8nkusDJaT
 8ZFERSkAVn_q0by64o2y-iHSCo8djxKjufvTIBPbekG2r-NBb3JGlNZPkz4z9qGZogUZdpLy2S1
 PuzTOoH12QWnOQBFLlLJkZHjRTuy36tmyMqrg7nrxgUL8X2q_" data-saferedirecturl="ht
 tps://www.google.com/url?q=https://l.facebook.com/l.php?u%3Dhttps%253A%252F
 %252Fswanseauniversity.zoom.us%252Fmeeting%252Fregister%252FtJUqfuirrzouG9C
 5Dj7FfLjpsy3cINaVRWK6%253Ffbclid%253DIwAR3qD9vLygyHnp0WT5EGTCF_q5-SbbxXY97U
 L4JwY04JbZzzj5VApXztqYU%26h%3DAT0iD9T5Aug1-EbQJOzRWNGg7knOwJAxcNkMJVegshOnw
 y6W7VW2CKt4n8XCZPGbTrOk543v45ubCzeFLsToxx1N4XR8vD93o32CZNkZx8Za-vwbNdtjz4CX
 zJ2V9VAa%26__tn__%3D-UK-R%26c%255b0%255d%3DAT193gn03CbWlXr8eb5_pHgN74R3c7H-
 jxQgHT7JTYBEo7KPFDl8nkusDJaT8ZFERSkAVn_q0by64o2y-iHSCo8djxKjufvTIBPbekG2r-N
 Bb3JGlNZPkz4z9qGZogUZdpLy2S1PuzTOoH12QWnOQBFLlLJkZHjRTuy36tmyMqrg7nrxgUL8X2
 q_&amp;source=gmail&amp;ust=1592332477077000&amp;usg=AFQjCNFzF9UPD3RE625fGJ
 aBZ2ek2dRMWg"></a><a href="https://swanseauniversity.zoom.us/meeting/regist
 er/tJUqfuirrzouG9C5Dj7FfLjpsy3cINaVRWK6">https://swanseauniversity.zoom.us/
 meeting/register/tJUqfuirrzouG9C5Dj7FfLjpsy3cINaVRWK6</a></p><p>After regis
 tering, you will receive a confirmation email containing information about 
 joining the seminar.</p><p>Seminar times:</p><p>--------------------</p><p>
 London - 9pm</p><p>Europe - 10pm</p><p>East Coast US - 4pm</p><p>West Coast
  US - 1pm</p><p>Delhi (+1) - 1.30am (sorry!)</p><p>Tokyo (+1) - 5am</p><p>A
 ustralia (+1) - 6am</p><p>New Zealand (+1) - 8am</p><p>The seminar will als
 o be available afterwards on the Friends of the International Glaciological
  Society Facebook page so that you can watch it there if technology fails o
 r you can't make it! We are investigating other platforms for those in coun
 tries where Facebook can’t be used.</p>
DTSTAMP:20260422T044619Z
DTSTART;TZID=UTC:20200617T080000
DTEND;TZID=UTC:20200617T170000
SEQUENCE:0
TRANSP:OPAQUE
END:VEVENT
END:VCALENDAR