BEGIN:VCALENDAR
VERSION:2.0
PRODID:-//jEvents 2.0 for Joomla//EN
CALSCALE:GREGORIAN
METHOD:PUBLISH
BEGIN:VEVENT
UID:3bff121c5b5e181cbc96d1295376d2c4
CATEGORIES:Polar Conferences, Meetings and Events
CREATED:20200615T073300
SUMMARY:Responses of Permafrost Landscape to Surface Disturbances - Case studies in Siberian forest and Alaskan tundra
DESCRIPTION:<p>*Wednesday, June 17 (11am ADT)*<br /> VAWS: Responses of Permafrost Land
 scape to Surface Disturbances ? Case<br /> studies in Siberian forest and A
 laskan tundra<br /> (<a href="https://uaf-accap.org/event/vaws-permafrost-j
 une2020/" target="_blank" rel="noopener noreferrer" data-saferedirecturl="h
 ttps://www.google.com/url?q=https://uaf-accap.org/event/vaws-permafrost-jun
 e2020/&amp;source=gmail&amp;ust=1592289207121000&amp;usg=AFQjCNFmH87YhsIz8W
 tqkKRXMefAQudr6g"></a><a href="https://uaf-accap.org/event/vaws-permafrost-
 june2020/">https://uaf-accap.org/event/vaws-permafrost-june2020/</a>)<br />
  <br /> <br /> <br /> *Go IwahanaResearch Assistant ProfessorInternational 
 Arctic Research<br /> CenterUniversity of Alaska Fairbanks*<br /> <br /> Gr
 ound-surface disturbances, including wildfires, deforestation, and<br /> cl
 imate change, alter the thermal status of permafrost leading landscape<br /
 > changes in Polar Regions. Given the increasing number of reports about<br
  /> rapid permafrost thaw and predicted occurrence of wildfires in the Arct
 ic,<br /> it is of great social concern to know where and to what extent pe
 rmafrost<br /> degradation is currently ongoing and may occur in the near f
 uture. This is<br /> true, especially in ice-rich permafrost zones, as cons
 equential subsidence<br /> by ice-rich permafrost thaw (thermokarst) will c
 ause significant changes in<br /> surface ecology, landscape evolution, and
  hydrological processes.<br /> <br /> This presentation introduces several 
 case studies on thermokarst subsidence<br /> observed in the field and by r
 emote sensing in various time ranges. Field<br /> surveys and microwave rem
 ote sensing analyses were conducted to quantify<br /> thermokarst after sur
 face disturbances in boreal forests of NE Siberia and<br /> tundra fire sca
 rs in Alaska.</p><p><br /> More information and registration <a href="https
 ://uaf-accap.org/event/vaws-permafrost-june2020/">here</a>. </p>
DTSTAMP:20260422T044746Z
DTSTART;TZID=UTC:20200617T080000
DTEND;TZID=UTC:20200617T170000
SEQUENCE:0
TRANSP:OPAQUE
END:VEVENT
END:VCALENDAR