BEGIN:VCALENDAR
VERSION:2.0
PRODID:-//jEvents 2.0 for Joomla//EN
CALSCALE:GREGORIAN
METHOD:PUBLISH
BEGIN:VEVENT
UID:b84303f2726e0fe0af39563f783a1058
CATEGORIES:Field and Summer Schools
CREATED:20200609T075859
SUMMARY:Interdisciplinary summer school on flexible and sustainable energy systems
DESCRIPTION:<p>The University of Bergen (UiB), the Norwegian University of Science and 
 Technology (NTNU) and the University of Oslo (UiO) have the pleasure of inv
 iting PhD-students working within the fields of energy and sustainability t
 o the 2020 interdisciplinary summer school on flexible energy systems in th
 e Bergen region deom 17-21 August. The overall focus will be flexible and s
 ustainable energy systems with a particular emphasis on wind, solar, hydrog
 en and the interactions between these technologies. We encourage students w
 orking in the field of energy and sustainability to apply. More information
  can be found <a href="https://www.norren.no/">here</a>, application deadli
 ne is <strong>15 June</strong>.</p>
DTSTAMP:20260421T230648Z
DTSTART;TZID=UTC:20200817T080000
DTEND;TZID=UTC:20200821T170000
SEQUENCE:0
TRANSP:OPAQUE
END:VEVENT
END:VCALENDAR