BEGIN:VCALENDAR
VERSION:2.0
PRODID:-//jEvents 2.0 for Joomla//EN
CALSCALE:GREGORIAN
METHOD:PUBLISH
BEGIN:VEVENT
UID:cd2654423bca59bd20360f57f8ae47d9
CATEGORIES:Polar Online Events
CREATED:20200605T070507
SUMMARY:Complex Networks Winter Workshop 
LOCATION:Online
DESCRIPTION:Virtual 3-16 January 2021\n\nMore details here: https://vermontcomplexsyste
 ms.org/events/cnww/\n
X-ALT-DESC;FMTTYPE=text/html:<p>Virtual 3-16 January 2021<br /><br />More details here: <a href="https:/
 /vermontcomplexsystems.org/events/cnww/">https://vermontcomplexsystems.org/
 events/cnww/</a></p>
DTSTAMP:20260420T191823Z
DTSTART;TZID=UTC;VALUE=DATE:20210103
DTEND;TZID=UTC;VALUE=DATE:20210117
SEQUENCE:0
TRANSP:OPAQUE
END:VEVENT
END:VCALENDAR