BEGIN:VCALENDAR
VERSION:2.0
PRODID:-//jEvents 2.0 for Joomla//EN
CALSCALE:GREGORIAN
METHOD:PUBLISH
BEGIN:VEVENT
UID:5230289d8d40b742bb26edfb25d4862d
CATEGORIES:Polar Conferences, Meetings and Events
CREATED:20200604T070250
SUMMARY:38th International Polar Symposium - postponed to 13-15 May 2021
LOCATION:Toruń\, Poland
DESCRIPTION:<p>The Faculty of Earth Sciences and Spatial Management, Nicolaus Copernicu
 s University in Toruń and the Polar Research Center in cooperation with The
  Committee on Polar Research of the Polish Academy of Sciences and the Poli
 sh Polar Consortium jointly organise the 38th International Polar Symposium
  "Environmental changes in polar regions: New problems - new solutions" to 
 be held on 15-17 October 2020.<br /> <br /> The IPS is a recurrent bi-annua
 l scientific conference on widely understood polar topics. The conference h
 as been very popular within the research communities in Poland and abroad f
 or years. Now it gives again a great opportunity to exchange experiences, t
 o discuss and to integrate experts from various fields who conduct their re
 search in the Arctic, the Antarctic and elsewhere in the world.<br /> <br /
 > The IPS in 2020 is exceptional, since accompanied with a plenary meeting 
 under an umbrella of the European Polar Board. We expect researcher from nu
 merous countries, who will be participating in special topic sessions.<br /
 > <br /> Last but not least, the 45th anniversary of the NCU Polar Station 
 on Spitsbergen will be celebrated during the IPS.<br /> <br /> More details
  on: <a href="https://polarsymposium2020.umk.pl/pages/main_page/?langu=en">
 https://polarsymposium2020.umk.pl/pages/main_page/?langu=en</a></p>
DTSTAMP:20260420T071608Z
DTSTART;TZID=UTC:20201015T080000
DTEND;TZID=UTC:20201017T170000
SEQUENCE:0
TRANSP:OPAQUE
END:VEVENT
END:VCALENDAR