BEGIN:VCALENDAR
VERSION:2.0
PRODID:-//jEvents 2.0 for Joomla//EN
CALSCALE:GREGORIAN
METHOD:PUBLISH
BEGIN:VEVENT
UID:5a7e809dd24a0382a2d12198e5a92f58
CATEGORIES:Polar Conferences, Meetings and Events
CREATED:20200602T090103
SUMMARY:PYRN General Assembly
DESCRIPTION:Dear PYRN Members,\n\nWe hope that you and your families are safe and healt
 hy during this time. As you know, our planned workshop at the ICOP 2020 was
  cancelled due to COVID19. To make up for this, we have been hosting monthl
 y/bi-monthly zoom seminars to get together with our members and get to know
  each others work.\n\nThe other part of the PYRN workshop would have been o
 ur PYRN general assembly. However, we still want to take the opportunity to
  inform you about the work of PYRN over the last 2 years and introduce you 
 to the new ExCom and Council that will take over the leadership of PYRN aft
 er the general assembly concludes. If you would like to get to know PYRN be
 tter, would like to learn what we have been doing or how you can get more i
 nvolved, join us! There will be plenty opportunity to ask questions and lea
 rn about different opportunities.\n\nThe PYRN general assembly will take pl
 ace June 23rd, 6pm GMT (duration 30-45 minutes).\nIf you would like to join
  this virtual assembly, please sign up here: https://forms.gle/woSwsbGX9YGn
 gTaz8\nYou will be able to sign up until 6 hours prior to the start of the 
 meeting. After this you will receive an automated email with the details fo
 r the zoom meeting. We hope that this extra layer of security will keep our
  meeting safe and prevent trolls from crashing our event.\n\nIf you have ap
 plied to be part of the new ExCom or council, we will be contacting you wit
 hin the next 1-2 weeks!\n\nIf you have any questions leading up to this eve
 nt, please contact This email address is being protected from spambots. You
  need JavaScript enabled to view it.
				document.getElementById('cloak05e4
 03dba29acf2841a40ecc90ebf674').innerHTML = '';
				var prefix = '&#109;a' +
  'i&#108;' + '&#116;o';
				var path = 'hr' + 'ef' + '=';
				var addy05e40
 3dba29acf2841a40ecc90ebf674 = 'hb&#101;rgst&#101;dt' + '&#64;';
				addy05e
 403dba29acf2841a40ecc90ebf674 = addy05e403dba29acf2841a40ecc90ebf674 + '&#9
 7;l&#97;sk&#97;' + '&#46;' + '&#101;d&#117;';
				var addy_text05e403dba29a
 cf2841a40ecc90ebf674 = 'hb&#101;rgst&#101;dt' + '&#64;' + '&#97;l&#97;sk&#9
 7;' + '&#46;' + '&#101;d&#117;';document.getElementById('cloak05e403dba29ac
 f2841a40ecc90ebf674').innerHTML += '<a ' + path + '\'' + prefix + ':' + add
 y05e403dba29acf2841a40ecc90ebf674 + '\'>'+addy_text05e403dba29acf2841a40ecc
 90ebf674+'';
		\n\nHope to see you all soon,\nYour PYRN ExCom
X-ALT-DESC;FMTTYPE=text/html:Dear PYRN Members,<br /><br />We hope that you and your families are safe a
 nd healthy during this time. As you know, our planned workshop at the ICOP 
 2020 was cancelled due to COVID19. To make up for this, we have been hostin
 g monthly/bi-monthly zoom seminars to get together with our members and get
  to know each others work.<br /><br />The other part of the PYRN workshop w
 ould have been our PYRN general assembly. However, we still want to take th
 e opportunity to inform you about the work of PYRN over the last 2 years an
 d introduce you to the new ExCom and Council that will take over the leader
 ship of PYRN after the general assembly concludes. If you would like to get
  to know PYRN better, would like to learn what we have been doing or how yo
 u can get more involved, join us! There will be plenty opportunity to ask q
 uestions and learn about different opportunities.<br /><br />The PYRN gener
 al assembly will take place June 23rd, 6pm GMT (duration 30-45 minutes).<br
  />If you would like to join this virtual assembly, please sign up here: ht
 tps://forms.gle/woSwsbGX9YGngTaz8<br />You will be able to sign up until 6 
 hours prior to the start of the meeting. After this you will receive an aut
 omated email with the details for the zoom meeting. We hope that this extra
  layer of security will keep our meeting safe and prevent trolls from crash
 ing our event.<br /><br />If you have applied to be part of the new ExCom o
 r council, we will be contacting you within the next 1-2 weeks!<br /><br />
 If you have any questions leading up to this event, please contact <span id
 ="cloak05e403dba29acf2841a40ecc90ebf674">This email address is being protec
 ted from spambots. You need JavaScript enabled to view it.</span><script ty
 pe='text/javascript'>
				document.getElementById('cloak05e403dba29acf2841a
 40ecc90ebf674').innerHTML = '';
				var prefix = '&#109;a' + 'i&#108;' + '&
 #116;o';
				var path = 'hr' + 'ef' + '=';
				var addy05e403dba29acf2841a4
 0ecc90ebf674 = 'hb&#101;rgst&#101;dt' + '&#64;';
				addy05e403dba29acf2841
 a40ecc90ebf674 = addy05e403dba29acf2841a40ecc90ebf674 + '&#97;l&#97;sk&#97;
 ' + '&#46;' + '&#101;d&#117;';
				var addy_text05e403dba29acf2841a40ecc90e
 bf674 = 'hb&#101;rgst&#101;dt' + '&#64;' + '&#97;l&#97;sk&#97;' + '&#46;' +
  '&#101;d&#117;';document.getElementById('cloak05e403dba29acf2841a40ecc90eb
 f674').innerHTML += '<a ' + path + '\'' + prefix + ':' + addy05e403dba29acf
 2841a40ecc90ebf674 + '\'>'+addy_text05e403dba29acf2841a40ecc90ebf674+'<\/a>
 ';
		</script><br /><br />Hope to see you all soon,<br />Your PYRN ExCom
DTSTAMP:20260421T160900Z
DTSTART;TZID=UTC:20200623T080000
DTEND;TZID=UTC:20200623T170000
SEQUENCE:0
TRANSP:OPAQUE
END:VEVENT
END:VCALENDAR