BEGIN:VCALENDAR
VERSION:2.0
PRODID:-//jEvents 2.0 for Joomla//EN
CALSCALE:GREGORIAN
METHOD:PUBLISH
BEGIN:VEVENT
UID:5289be8f7c79f2cac710fa151c1fa2d3
CATEGORIES:Polar Conferences, Meetings and Events
CREATED:20200530T155604
SUMMARY:EU Polarnet Webinar on the European Polar Research Programme
DESCRIPTION:EU-PolarNet and the EPB will host a webinar called Stronger together: Europ
 ean cooperation for Polar science and society - The Integrated European Pol
 ar Research Programme on 11th June 2020, 10:00 – 13:00 CEST.\nThe webinar w
 ill introduce the first fully co-designed European Polar Research Programme
  as the main result of the EU-PolarNet project to you. The European Polar R
 esearch Programme is the outcome of a five-year process of co-designing and
  developing a future research agenda for Europe. It represents a bottom-up 
 community effort, which is building on the challenges and needs raised by a
 ll who are affected by the ongoing changes in the Polar Regions. It has bee
 n designed using a truly transdisciplinary approach and it aims to bridge t
 he knowledge gaps in and between natural and social sciences, the economy a
 nd society in the Polar Regions.\nThe participation in the webinar requires
  a pre-registration. Please register here. (https://us02web.zoom.us/webinar
 /register/WN_ehpY3lFETTeq1kJuYdMpCA) \nFor the webinar agenda, please visit
  <a href="https://www.eu-polarnet.eu/news-and-events/conferences-and-worksh
 ops/" target="_blank" rel="noopener" data-saferedirecturl="https://www.goog
 le.com/url?q=https://www.eu-polarnet.eu/news-and-events/conferences-and-wor
 kshops/&amp;source=gmail&amp;ust=1590940236504000&amp;usg=AFQjCNFDnc8B3Ac7o
 kDi7Y2PtPaL3SZ2LQ"></a>https://www.eu-polarnet.eu/news-and-events/conferenc
 es-and-workshops/.\n
X-ALT-DESC;FMTTYPE=text/html:<p>EU-PolarNet and the EPB will host a webinar called <strong>Stronger toge
 ther: European cooperation for Polar science and society - The Integrated E
 uropean Polar Research Programme</strong> on 11th June 2020, 10:00 – 13:00 
 CEST.</p><p>The webinar will introduce the first fully co-designed European
  Polar Research Programme as the main result of the EU-PolarNet project to 
 you. The European Polar Research Programme is the outcome of a five-year pr
 ocess of co-designing and developing a future research agenda for Europe. I
 t represents a bottom-up community effort, which is building on the challen
 ges and needs raised by all who are affected by the ongoing changes in the 
 Polar Regions. It has been designed using a truly transdisciplinary approac
 h and it aims to bridge the knowledge gaps in and between natural and socia
 l sciences, the economy and society in the Polar Regions.</p><p>The partici
 pation in the webinar requires a pre-registration. Please register <a class
 ="external-link-new-window" title="Opens internal link in current window" h
 ref="https://us02web.zoom.us/webinar/register/WN_ehpY3lFETTeq1kJuYdMpCA" ta
 rget="_blank" rel="noopener">here.</a>&nbsp;</p><p>For the webinar agenda, 
 please visit <a href="https://www.eu-polarnet.eu/news-and-events/conference
 s-and-workshops/" target="_blank" rel="noopener" data-saferedirecturl="http
 s://www.google.com/url?q=https://www.eu-polarnet.eu/news-and-events/confere
 nces-and-workshops/&amp;source=gmail&amp;ust=1590940236504000&amp;usg=AFQjC
 NFDnc8B3Ac7okDi7Y2PtPaL3SZ2LQ"></a><a href="https://www.eu-polarnet.eu/news
 -and-events/conferences-and-workshops/">https://www.eu-polarnet.eu/news-and
 -events/conferences-and-workshops/</a>.</p>
DTSTAMP:20260423T134030Z
DTSTART;TZID=UTC:20200611T100000
DTEND;TZID=UTC:20200611T130000
SEQUENCE:0
TRANSP:OPAQUE
END:VEVENT
END:VCALENDAR