BEGIN:VCALENDAR
VERSION:2.0
PRODID:-//jEvents 2.0 for Joomla//EN
CALSCALE:GREGORIAN
METHOD:PUBLISH
BEGIN:VEVENT
UID:6bedb395e346ab257447a609d6bf8a4f
CATEGORIES:Polar Conferences, Meetings and Events
CREATED:20200529T072746
SUMMARY:Public Information Session for 2022-2026 Arctic Research Plan
DESCRIPTION:Public Information Session for 2022-2026 Arctic Research Plan: Development 
 and Ways to be Involved\n Interagency Arctic Research Policy Committee\nThe
  Interagency Arctic Research Policy Committee (IARPC) announces the webinar
  Public Information Session for 2022-2026 Arctic Research Plan: Development
  and Ways to be Involved. This webinar will take place via Zoom on Friday, 
 29 May 2020 from 3:00 p.m. to 4:00 p.m. EDT.\nWebinar Description:\nIf you 
 are interested in being part of the conversation on Arctic research plannin
 g or are curious about what the Arctic Research Plan is and how it is being
  developed, please join us for an IARPC Webinar. In this webinar, IARPC wil
 l share information on the development of the next five-year Arctic Researc
 h Plan, ways to be involved, and what kinds of input are being sought.\nThe
 re will also be time for questions and discussion. All are welcome.\nDate/t
 ime: Friday, 29 May 2020, 3:00-4:00 p.m. Eastern Daylight Time\nFor more in
 formation and to register, go to:\n \nFor questions, contact:\n Meredith La
 Valley\n Email: <a href="https://www.arcus.org/sites/all/modules/civicrm/ex
 tern/url.php?u=23036&amp;qid=3967409" target="_blank" rel="nofollow noopene
 r" data-saferedirecturl="https://www.google.com/url?q=https://www.arcus.org
 /sites/all/modules/civicrm/extern/url.php?u%3D23036%26qid%3D3967409&amp;sou
 rce=gmail&amp;ust=1590823543612000&amp;usg=AFQjCNEvDUhS6YwjsVasiB0qTpzGX4It
 zg"></a>This email address is being protected from spambots. You need JavaS
 cript enabled to view it.
				document.getElementById('cloak0e43be1d8db910c
 5630a1377972384fb').innerHTML = '';
				var prefix = '&#109;a' + 'i&#108;' 
 + '&#116;o';
				var path = 'hr' + 'ef' + '=';
				var addy0e43be1d8db910c5
 630a1377972384fb = 'ml&#97;v&#97;ll&#101;y' + '&#64;';
				addy0e43be1d8db9
 10c5630a1377972384fb = addy0e43be1d8db910c5630a1377972384fb + '&#97;rc&#117
 ;s' + '&#46;' + '&#111;rg';
				var addy_text0e43be1d8db910c5630a1377972384
 fb = 'ml&#97;v&#97;ll&#101;y' + '&#64;' + '&#97;rc&#117;s' + '&#46;' + '&#1
 11;rg';document.getElementById('cloak0e43be1d8db910c5630a1377972384fb').inn
 erHTML += '<a ' + path + '\'' + prefix + ':' + addy0e43be1d8db910c5630a1377
 972384fb + '\'>'+addy_text0e43be1d8db910c5630a1377972384fb+'';
		\n Phone: 
 940-733-5675\n
X-ALT-DESC;FMTTYPE=text/html:<p><strong><em>Public Information Session for 2022-2026 Arctic Research Pla
 n: Development and Ways to be Involved</em></strong><br /> Interagency Arct
 ic Research Policy Committee</p><p>The Interagency Arctic Research Policy C
 ommittee (IARPC) announces the webinar <em>Public Information Session for 2
 022-2026 Arctic Research Plan: Development and Ways to be Involved</em>. Th
 is webinar will take place via Zoom on Friday, 29 May 2020 from 3:00 p.m. t
 o 4:00 p.m. EDT.</p><p><strong>Webinar Description:</strong></p><p>If you a
 re interested in being part of the conversation on Arctic research planning
  or are curious about what the Arctic Research Plan is and how it is being 
 developed, please join us for an IARPC Webinar. In this webinar, IARPC will
  share information on the development of the next five-year Arctic Research
  Plan, ways to be involved, and what kinds of input are being sought.</p><p
 >There will also be time for questions and discussion. All are welcome.</p>
 <p><strong>Date/time: </strong>Friday, 29 May 2020, 3:00-4:00 p.m. Eastern 
 Daylight Time</p><p>For more information and to register, go to:<br /> <a h
 ref="https://www.arcus.org/sites/all/modules/civicrm/extern/url.php?u=23035
 &amp;qid=3967409" target="_blank" rel="nofollow noopener" data-saferedirect
 url="https://www.google.com/url?q=https://www.arcus.org/sites/all/modules/c
 ivicrm/extern/url.php?u%3D23035%26qid%3D3967409&amp;source=gmail&amp;ust=15
 90823543612000&amp;usg=AFQjCNFbn1qCnX1VxTIrl3JB2QS8ta9m7g">Event webpage</a
 ></p><p>For questions, contact:<br /> Meredith LaValley<br /> Email: <a hre
 f="https://www.arcus.org/sites/all/modules/civicrm/extern/url.php?u=23036&a
 mp;qid=3967409" target="_blank" rel="nofollow noopener" data-saferedirectur
 l="https://www.google.com/url?q=https://www.arcus.org/sites/all/modules/civ
 icrm/extern/url.php?u%3D23036%26qid%3D3967409&amp;source=gmail&amp;ust=1590
 823543612000&amp;usg=AFQjCNEvDUhS6YwjsVasiB0qTpzGX4Itzg"></a><span id="cloa
 k0e43be1d8db910c5630a1377972384fb">This email address is being protected fr
 om spambots. You need JavaScript enabled to view it.</span><script type='te
 xt/javascript'>
				document.getElementById('cloak0e43be1d8db910c5630a13779
 72384fb').innerHTML = '';
				var prefix = '&#109;a' + 'i&#108;' + '&#116;o
 ';
				var path = 'hr' + 'ef' + '=';
				var addy0e43be1d8db910c5630a137797
 2384fb = 'ml&#97;v&#97;ll&#101;y' + '&#64;';
				addy0e43be1d8db910c5630a13
 77972384fb = addy0e43be1d8db910c5630a1377972384fb + '&#97;rc&#117;s' + '&#4
 6;' + '&#111;rg';
				var addy_text0e43be1d8db910c5630a1377972384fb = 'ml&#
 97;v&#97;ll&#101;y' + '&#64;' + '&#97;rc&#117;s' + '&#46;' + '&#111;rg';doc
 ument.getElementById('cloak0e43be1d8db910c5630a1377972384fb').innerHTML += 
 '<a ' + path + '\'' + prefix + ':' + addy0e43be1d8db910c5630a1377972384fb +
  '\'>'+addy_text0e43be1d8db910c5630a1377972384fb+'<\/a>';
		</script><br />
  Phone: 940-733-5675</p>
DTSTAMP:20260422T003324Z
DTSTART;TZID=UTC:20200529T080000
DTEND;TZID=UTC:20200529T170000
SEQUENCE:0
TRANSP:OPAQUE
END:VEVENT
END:VCALENDAR