BEGIN:VCALENDAR
VERSION:2.0
PRODID:-//jEvents 2.0 for Joomla//EN
CALSCALE:GREGORIAN
METHOD:PUBLISH
BEGIN:VEVENT
UID:c2c0a007d66d908763dbd347a985fc29
CATEGORIES:Polar Conferences, Meetings and Events
CREATED:20200528T091657
SUMMARY:ARCUS Arctic Research Seminar Series
DESCRIPTION:The Arctic Research Consortium of the U.S. (ARCUS) announces the next Arcti
 c Research Seminar featuring Gerald "J.J." Frost from Alaska Biological Res
 earch (ABR), Inc. This event will be held online via Zoom on Friday, 29 May
  2020 at 9:00 a.m. AKDT (1:00 p.m. EDT).\nRegistration is required for this
  event. Instructions for accessing the webinar will be sent to registrants 
 prior to the event.\nNote: In addition to the Zoom presentation, a free liv
 estream of this webinar will be broadcast on YouTube. A facilitator will he
 lp those participants submit written questions to the speaker. Please be aw
 are there will be a slight delay from the Zoom presentation. A link to the 
 YouTube broadcast will be provided by 8:00 a.m. AKDT on the day of event. P
 lease check the  for more information.\nThis seminar, titled The “Greening”
  of the Arctic: Causes and Consequences of Change in the Arctic Tundra Biom
 e Seen through the Lens of Satellites, Field Research, and Local Observatio
 ns, will be presented by Gerald "J.J." Frost, senior scientist at ABR, Inc.
  J.J. Frost is an ecologist with a multidisciplinary research background fo
 cused on Arctic tundra and boreal forest ecosystems. He earned a bachelor’s
  degree in Biological Sciences at the University of Alaska Fairbanks in 199
 9, and a Ph.D. in Environmental Science at the University of Virginia in 20
 13. J.J. has accumulated over twenty years of field experience in Alaska an
 d northwestern Siberia. His recent work has focused on tundra vegetation dy
 namics, interactions and feedbacks between vegetation and permafrost, lands
 cape change detection, and long-term monitoring of vegetation and permafros
 t. J.J.’s research integrates field measurements with a variety of modern a
 nd historical remote-sensing datasets to elucidate current ecosystem condit
 ions and long-term change.\nSeminar Abstract:\nArctic lands and seas have e
 xperienced dramatic environmental and climatic changes in recent decades, a
 nd the pace of change is expected to accelerate in the future. Beginning in
  the early 1980s, a constellation of Earth-observing satellites has provide
 d a unique vantage point for observing the remote and dynamic Arctic tundra
  biome—the treeless environment encircling most of the Arctic Ocean. The sa
 tellite record shows that the productivity of tundra vegetation has increas
 ed since the late 20th century, a phenomenon commonly referred to as “the g
 reening of the Arctic.” Trends in tundra productivity, however, have not be
 en uniform in direction or magnitude across the circumpolar region and ther
 e has been substantial variability from year to year. This variability aris
 es from a web of complex interactions that link the vegetation, atmosphere,
  sea-ice, seasonal snow cover, ground (soils, permafrost, and topography), 
 and animals of the Arctic system. In this talk JJ will begin with an overvi
 ew of the tundra biome and address the questions: what are the drivers of A
 rctic vegetation change? What types of change would be apparent to an obser
 ver on the ground? And, what are the consequences of these changes for Arct
 ic residents and the rest of the globe? JJ will explore these questions thr
 ough the lens of the satellite record, field studies, and the rich knowledg
 e-base of Arctic residents to understand the drivers and impacts of ecologi
 cal change in the Arctic tundra biome.\nThe ARCUS Arctic Research Seminar S
 eries invites leading Arctic researchers and community leaders to share the
  latest findings in Arctic research and what they mean for decision-making.
  The events are free and open to the public, and will be of particular inte
 rest to the international Arctic research community, Arctic educators, non-
 governmental organizations, federal agency officials, and the public.\nFor 
 those on Twitter, we invite you to join us in live-tweeting the event using
  the hashtag #arcuswebinar.\nFor more information and to register for the e
 vent, go to:\n <a href="https://www.arcus.org/sites/all/modules/civicrm/ext
 ern/url.php?u=22974&amp;qid=3952547" target="_blank" rel="nofollow noopener
 " data-saferedirecturl="https://www.google.com/url?q=https://www.arcus.org/
 sites/all/modules/civicrm/extern/url.php?u%3D22974%26qid%3D3952547&amp;sour
 ce=gmail&amp;ust=1590743704455000&amp;usg=AFQjCNFzYXbqUiFO_naE-5inA4AXAAUhm
 Q">Arctic Research Seminar Series webpage</a>\nFor questions, contact:\n St
 acey Stoudt\n Email: This email address is being protected from spambots. Y
 ou need JavaScript enabled to view it.
				document.getElementById('cloak3b
 0992e744c4c34f4131fbafa9c7a5cc').innerHTML = '';
				var prefix = '&#109;a'
  + 'i&#108;' + '&#116;o';
				var path = 'hr' + 'ef' + '=';
				var addy3b0
 992e744c4c34f4131fbafa9c7a5cc = 'st&#97;c&#101;y' + '&#64;';
				addy3b0992
 e744c4c34f4131fbafa9c7a5cc = addy3b0992e744c4c34f4131fbafa9c7a5cc + '&#97;r
 c&#117;s' + '&#46;' + '&#111;rg';
				var addy_text3b0992e744c4c34f4131fbaf
 a9c7a5cc = 'st&#97;c&#101;y' + '&#64;' + '&#97;rc&#117;s' + '&#46;' + '&#11
 1;rg';document.getElementById('cloak3b0992e744c4c34f4131fbafa9c7a5cc').inne
 rHTML += '<a ' + path + '\'' + prefix + ':' + addy3b0992e744c4c34f4131fbafa
 9c7a5cc + '\'>'+addy_text3b0992e744c4c34f4131fbafa9c7a5cc+'';
		\n
X-ALT-DESC;FMTTYPE=text/html:<p>The Arctic Research Consortium of the U.S. (ARCUS) announces the next Ar
 ctic Research Seminar featuring Gerald "J.J." Frost from Alaska Biological 
 Research (ABR), Inc. This event will be held online via Zoom on Friday, 29 
 May 2020 at 9:00 a.m. AKDT (1:00 p.m. EDT).</p><p><em>Registration is requi
 red for this event. </em>Instructions for accessing the webinar will be sen
 t to registrants prior to the event.</p><p><strong>Note: </strong>In additi
 on to the Zoom presentation, a free livestream of this webinar will be broa
 dcast on YouTube. A facilitator will help those participants submit written
  questions to the speaker. Please be aware there will be a slight delay fro
 m the Zoom presentation. A link to the YouTube broadcast will be provided b
 y 8:00 a.m. AKDT on the day of event. Please check the <a href="https://www
 .arcus.org/sites/all/modules/civicrm/extern/url.php?u=22974&amp;qid=3952547
 " target="_blank" rel="nofollow noopener" data-saferedirecturl="https://www
 .google.com/url?q=https://www.arcus.org/sites/all/modules/civicrm/extern/ur
 l.php?u%3D22974%26qid%3D3952547&amp;source=gmail&amp;ust=1590743704455000&a
 mp;usg=AFQjCNFzYXbqUiFO_naE-5inA4AXAAUhmQ">Seminar Series webpage</a> for m
 ore information.</p><p>This seminar, titled <em>The “Greening” of the Arcti
 c: Causes and Consequences of Change in the Arctic Tundra Biome Seen throug
 h the Lens of Satellites, Field Research, and Local Observations</em>, will
  be presented by Gerald "J.J." Frost, senior scientist at ABR, Inc. J.J. Fr
 ost is an ecologist with a multidisciplinary research background focused on
  Arctic tundra and boreal forest ecosystems. He earned a bachelor’s degree 
 in Biological Sciences at the University of Alaska Fairbanks in 1999, and a
  Ph.D. in Environmental Science at the University of Virginia in 2013. J.J.
  has accumulated over twenty years of field experience in Alaska and northw
 estern Siberia. His recent work has focused on tundra vegetation dynamics, 
 interactions and feedbacks between vegetation and permafrost, landscape cha
 nge detection, and long-term monitoring of vegetation and permafrost. J.J.’
 s research integrates field measurements with a variety of modern and histo
 rical remote-sensing datasets to elucidate current ecosystem conditions and
  long-term change.</p><p><strong>Seminar Abstract:</strong></p><p>Arctic la
 nds and seas have experienced dramatic environmental and climatic changes i
 n recent decades, and the pace of change is expected to accelerate in the f
 uture. Beginning in the early 1980s, a constellation of Earth-observing sat
 ellites has provided a unique vantage point for observing the remote and dy
 namic Arctic tundra biome—the treeless environment encircling most of the A
 rctic Ocean. The satellite record shows that the productivity of tundra veg
 etation has increased since the late 20th century, a phenomenon commonly re
 ferred to as “the greening of the Arctic.” Trends in tundra productivity, h
 owever, have not been uniform in direction or magnitude across the circumpo
 lar region and there has been substantial variability from year to year. Th
 is variability arises from a web of complex interactions that link the vege
 tation, atmosphere, sea-ice, seasonal snow cover, ground (soils, permafrost
 , and topography), and animals of the Arctic system. In this talk JJ will b
 egin with an overview of the tundra biome and address the questions: what a
 re the drivers of Arctic vegetation change? What types of change would be a
 pparent to an observer on the ground? And, what are the consequences of the
 se changes for Arctic residents and the rest of the globe? JJ will explore 
 these questions through the lens of the satellite record, field studies, an
 d the rich knowledge-base of Arctic residents to understand the drivers and
  impacts of ecological change in the Arctic tundra biome.</p><p>The ARCUS A
 rctic Research Seminar Series invites leading Arctic researchers and commun
 ity leaders to share the latest findings in Arctic research and what they m
 ean for decision-making. The events are free and open to the public, and wi
 ll be of particular interest to the international Arctic research community
 , Arctic educators, non-governmental organizations, federal agency official
 s, and the public.</p><p>For those on Twitter, we invite you to join us in 
 live-tweeting the event using the hashtag #arcuswebinar.</p><p>For more inf
 ormation and to register for the event, go to:<br /> <a href="https://www.a
 rcus.org/sites/all/modules/civicrm/extern/url.php?u=22974&amp;qid=3952547" 
 target="_blank" rel="nofollow noopener" data-saferedirecturl="https://www.g
 oogle.com/url?q=https://www.arcus.org/sites/all/modules/civicrm/extern/url.
 php?u%3D22974%26qid%3D3952547&amp;source=gmail&amp;ust=1590743704455000&amp
 ;usg=AFQjCNFzYXbqUiFO_naE-5inA4AXAAUhmQ">Arctic Research Seminar Series web
 page</a></p><p>For questions, contact:<br /> Stacey Stoudt<br /> Email: <a 
 href="https://www.arcus.org/sites/all/modules/civicrm/extern/url.php?u=2297
 5&amp;qid=3952547" target="_blank" rel="nofollow noopener" data-saferedirec
 turl="https://www.google.com/url?q=https://www.arcus.org/sites/all/modules/
 civicrm/extern/url.php?u%3D22975%26qid%3D3952547&amp;source=gmail&amp;ust=1
 590743704455000&amp;usg=AFQjCNHLiLAqtKGIWhvZd4hgwJFkQzU4jQ"></a><span id="c
 loak3b0992e744c4c34f4131fbafa9c7a5cc">This email address is being protected
  from spambots. You need JavaScript enabled to view it.</span><script type=
 'text/javascript'>
				document.getElementById('cloak3b0992e744c4c34f4131fb
 afa9c7a5cc').innerHTML = '';
				var prefix = '&#109;a' + 'i&#108;' + '&#11
 6;o';
				var path = 'hr' + 'ef' + '=';
				var addy3b0992e744c4c34f4131fba
 fa9c7a5cc = 'st&#97;c&#101;y' + '&#64;';
				addy3b0992e744c4c34f4131fbafa9
 c7a5cc = addy3b0992e744c4c34f4131fbafa9c7a5cc + '&#97;rc&#117;s' + '&#46;' 
 + '&#111;rg';
				var addy_text3b0992e744c4c34f4131fbafa9c7a5cc = 'st&#97;c
 &#101;y' + '&#64;' + '&#97;rc&#117;s' + '&#46;' + '&#111;rg';document.getEl
 ementById('cloak3b0992e744c4c34f4131fbafa9c7a5cc').innerHTML += '<a ' + pat
 h + '\'' + prefix + ':' + addy3b0992e744c4c34f4131fbafa9c7a5cc + '\'>'+addy
 _text3b0992e744c4c34f4131fbafa9c7a5cc+'<\/a>';
		</script></p>
DTSTAMP:20260422T001744Z
DTSTART;TZID=UTC:20200529T080000
DTEND;TZID=UTC:20200529T170000
SEQUENCE:0
TRANSP:OPAQUE
END:VEVENT
END:VCALENDAR