BEGIN:VCALENDAR
VERSION:2.0
PRODID:-//jEvents 2.0 for Joomla//EN
CALSCALE:GREGORIAN
METHOD:PUBLISH
BEGIN:VEVENT
UID:7e43baeb302ec53dc4ec5d45de9dd88a
CATEGORIES:APECS Events
CREATED:20161016T195045
SUMMARY:ICECAPS Workshop 2016 - Improving Communication Effectiveness and Capacity Addition in Polar Science*
LOCATION:Dehradun\, India
DESCRIPTION:<p>Indian Polar Research Network (IPRN-APECS India) and Wildlife Institute 
 of India- ENVIS centre on Wildlife and Protected Areas, Dehradun are jointl
 y organising a *two-day science communication workshop called the ICECAPS W
 orkshop 2016. *The workshop will be held at Wildlife Institute of India, De
 hradun on 1st and 2nd December 2016. This workshop aims to teach key commun
 ication skills to participants to prepare them for a career in science disc
 iplines. Some key topics to be covered under the workshop include basic ski
 lls needed to apply for MSc/PhD courses, resume building, improving present
 ation skills, writing effective grant applications, planning a research pro
 ject and learning basic analytical and reporting tools (R program, Latex).<
 /p><p>This workshop will also include special sessions on Protected Area ma
 nagement in Polar Regions (Arctic, Antarctica and the Himalayas) with a vie
 w to generate awareness about international conventions and protocols.</p><
 p>We are expecting a higher participation of students from organisations/un
 iversities in Uttarakhand esp. from Dehradun region. Interested students wh
 o are currently doing MSc or are in a PhD program in biological or environm
 ental science disciplines are encouraged to apply. Preference will be given
  to students who are currently working in any of the three above-mentioned 
 Polar Regions.</p><p>Apply for the workshop by filling <a href="https://doc
 s.google.com/forms/d/e/1FAIpQLSfr_hhXifku9v0rNJaTGSHeGdHC8fVuxridGNDxyf3j6Q
 NbSg/viewform">this Google form</a> </p><p>More information about the works
 hop <a href="http://iprnindia.wixsite.com/iprn/upcoming-events">will be upd
 ated here</a> </p><p><strong>APPLICATION DEADLINE: 20th November</strong></
 p><p>Note: *Outstation candidates are expected to arrange their own accommo
 dation if selected.*</p><p>CONTACT DETAILS:<br />Email: <span id="cloak6060
 2f5acf3bd8bc90ec476b961c451a">This email address is being protected from sp
 ambots. You need JavaScript enabled to view it.</span><script type='text/ja
 vascript'>
				document.getElementById('cloak60602f5acf3bd8bc90ec476b961c45
 1a').innerHTML = '';
				var prefix = '&#109;a' + 'i&#108;' + '&#116;o';
		
 		var path = 'hr' + 'ef' + '=';
				var addy60602f5acf3bd8bc90ec476b961c451
 a = '&#105;nd&#105;&#97;n.p&#111;l&#97;r' + '&#64;';
				addy60602f5acf3bd8
 bc90ec476b961c451a = addy60602f5acf3bd8bc90ec476b961c451a + 'gm&#97;&#105;l
 ' + '&#46;' + 'c&#111;m';
				var addy_text60602f5acf3bd8bc90ec476b961c451a
  = '&#105;nd&#105;&#97;n.p&#111;l&#97;r' + '&#64;' + 'gm&#97;&#105;l' + '&#
 46;' + 'c&#111;m';document.getElementById('cloak60602f5acf3bd8bc90ec476b961
 c451a').innerHTML += '<a ' + path + '\'' + prefix + ':' + addy60602f5acf3bd
 8bc90ec476b961c451a + '\'>'+addy_text60602f5acf3bd8bc90ec476b961c451a+'<\/a
 >';
		</script>, <span id="cloak1f84ccfe6534f1286322b03040d4674d">This emai
 l address is being protected from spambots. You need JavaScript enabled to 
 view it.</span><script type='text/javascript'>
				document.getElementById(
 'cloak1f84ccfe6534f1286322b03040d4674d').innerHTML = '';
				var prefix = '
 &#109;a' + 'i&#108;' + '&#116;o';
				var path = 'hr' + 'ef' + '=';
				var
  addy1f84ccfe6534f1286322b03040d4674d = '&#97;n&#97;nt' + '&#64;';
				addy
 1f84ccfe6534f1286322b03040d4674d = addy1f84ccfe6534f1286322b03040d4674d + '
 w&#105;&#105;' + '&#46;' + 'g&#111;v' + '&#46;' + '&#105;n';
				var addy_t
 ext1f84ccfe6534f1286322b03040d4674d = '&#97;n&#97;nt' + '&#64;' + 'w&#105;&
 #105;' + '&#46;' + 'g&#111;v' + '&#46;' + '&#105;n';document.getElementById
 ('cloak1f84ccfe6534f1286322b03040d4674d').innerHTML += '<a ' + path + '\'' 
 + prefix + ':' + addy1f84ccfe6534f1286322b03040d4674d + '\'>'+addy_text1f84
 ccfe6534f1286322b03040d4674d+'<\/a>';
		</script><br />Mobile: Anant Pande 
 - 8192086499<br />Sudip Banerjee - 9690905797</p>
CONTACT:This email address is being protected from spambots. You need JavaScript enabled to view it.
				document.getElementById('cloak50d571625ba74b0336dde5c62dbd04cd').innerHTML = '';
				var prefix = '&#109;a' + 'i&#108;' + '&#116;o';
				var path = 'hr' + 'ef' + '=';
				var addy50d571625ba74b0336dde5c62dbd04cd = '&#105;nd&#105;&#97;n.p&#111;l&#97;r' + '&#64;';
				addy50d571625ba74b0336dde5c62dbd04cd = addy50d571625ba74b0336dde5c62dbd04cd + 'gm&#97;&#105;l' + '&#46;' + 'c&#111;m';
				var addy_text50d571625ba74b0336dde5c62dbd04cd = '&#105;nd&#105;&#97;n.p&#111;l&#97;r' + '&#64;' + 'gm&#97;&#105;l' + '&#46;' + 'c&#111;m';document.getElementById('cloak50d571625ba74b0336dde5c62dbd04cd').innerHTML += '<a ' + path + '\'' + prefix + ':' + addy50d571625ba74b0336dde5c62dbd04cd + '\'>'+addy_text50d571625ba74b0336dde5c62dbd04cd+'';
		; This email address is being protected from spambots. You need JavaScript enabled to view it.
				document.getElementById('cloak5e4e9f1dabbe52dba19cc68a10d8a33d').innerHTML = '';
				var prefix = '&#109;a' + 'i&#108;' + '&#116;o';
				var path = 'hr' + 'ef' + '=';
				var addy5e4e9f1dabbe52dba19cc68a10d8a33d = '&#97;n&#97;nt' + '&#64;';
				addy5e4e9f1dabbe52dba19cc68a10d8a33d = addy5e4e9f1dabbe52dba19cc68a10d8a33d + 'w&#105;&#105;' + '&#46;' + 'g&#111;v' + '&#46;' + '&#105;n';
				var addy_text5e4e9f1dabbe52dba19cc68a10d8a33d = '&#97;n&#97;nt' + '&#64;' + 'w&#105;&#105;' + '&#46;' + 'g&#111;v' + '&#46;' + '&#105;n';document.getElementById('cloak5e4e9f1dabbe52dba19cc68a10d8a33d').innerHTML += '<a ' + path + '\'' + prefix + ':' + addy5e4e9f1dabbe52dba19cc68a10d8a33d + '\'>'+addy_text5e4e9f1dabbe52dba19cc68a10d8a33d+'';
		
DTSTAMP:20260422T052136Z
DTSTART;TZID=UTC;VALUE=DATE:20161201
DTEND;TZID=UTC;VALUE=DATE:20161203
SEQUENCE:0
TRANSP:OPAQUE
END:VEVENT
END:VCALENDAR