BEGIN:VCALENDAR
VERSION:2.0
PRODID:-//jEvents 2.0 for Joomla//EN
CALSCALE:GREGORIAN
METHOD:PUBLISH
BEGIN:VEVENT
UID:0109b1120c72a7d19d34e4ab15374906
CATEGORIES:APECS Events
CREATED:20200525T140323
SUMMARY:APECS Denmark Brainstorming start-up meeting
DESCRIPTION:APECS Denmark has been silent for a while, but we are a group of people who
  think there would be no better time than now to revive it! Do you want to 
 be a part of a scientific and social network in Denmark, all focused on the
  polar and alpine regions? Do you think it would be a lot of fun to attend 
 or even organize events, workshops and webinars? If you are super excited, 
 just a little curious, or mostly confused, either way you should definitely
  come and attend our first brainstorming zoom meeting on Tuesday 26th of Ma
 y 16:00-17:00. There we will have a chat about APECS as such, people’s inte
 rests and what we want APECS-Denmark to be. Hope to see you there! Please r
 egister at this link: https://ucph-ku.zoom.us/meeting/register/u5Yqce2grTwq
 Ht0U5r2WzxLfh-nfkyl7INLy \nThis is a first brainstorming meeting to start u
 p APECS Denmark after many years of more or less silence. It is targeting e
 veryone that is interested in APECS Denmark, whether it is for being a part
  of organizing the NC and events, or simply interested in being a part of t
 he network. It does not necessarily have to be posted on APECS internationa
 l, as we have reached out to all institutions in Denmark and we are aiming 
 for a not too big group for this first meeting. \n
X-ALT-DESC;FMTTYPE=text/html:<p><span data-sheets-formula-bar-text-style="font-size:13px;color:#000000;f
 ont-weight:normal;text-decoration:none;font-family:'Arial';font-style:norma
 l;text-decoration-skip-ink:none;">APECS Denmark has been silent for a while
 , but we are a group of people who think there would be no better time than
  now to revive it! Do you want to be a part of a scientific and social netw
 ork in Denmark, all focused on the polar and alpine regions? Do you think i
 t would be a lot of fun to attend or even organize events, workshops and we
 binars? If you are super excited, just a little curious, or mostly confused
 , either way you should definitely come and attend our first brainstorming 
 zoom meeting on Tuesday 26th of May 16:00-17:00. There we will have a chat 
 about APECS as such, people’s interests and what we want APECS-Denmark to b
 e. Hope to see you there! Please register at this link: <a href="https://uc
 ph-ku.zoom.us/meeting/register/u5Yqce2grTwqHt0U5r2WzxLfh-nfkyl7INLy">https:
 //ucph-ku.zoom.us/meeting/register/u5Yqce2grTwqHt0U5r2WzxLfh-nfkyl7INLy</a>
  </span></p><p><span data-sheets-formula-bar-text-style="font-size:13px;col
 or:#000000;font-weight:normal;text-decoration:none;font-family:'Arial';font
 -style:normal;text-decoration-skip-ink:none;">This is a first brainstorming
  meeting to start up APECS Denmark after many years of more or less silence
 . It is targeting everyone that is interested in APECS Denmark, whether it 
 is for being a part of organizing the NC and events, or simply interested i
 n being a part of the network. It does not necessarily have to be posted on
  APECS international, as we have reached out to all institutions in Denmark
  and we are aiming for a not too big group for this first meeting. </span><
 /p>
DTSTAMP:20260422T003428Z
DTSTART;TZID=UTC:20200525T080000
DTEND;TZID=UTC:20200525T170000
SEQUENCE:0
TRANSP:OPAQUE
END:VEVENT
END:VCALENDAR