BEGIN:VCALENDAR
VERSION:2.0
PRODID:-//jEvents 2.0 for Joomla//EN
CALSCALE:GREGORIAN
METHOD:PUBLISH
BEGIN:VEVENT
UID:81317b17690c7579c7c4c164b6a466c8
CATEGORIES:Polar Conferences, Meetings and Events
CREATED:20200520T073924
SUMMARY:Webinar: Introduction to the Alaskan & Yukon Rivers Project and Native Advisory Council Application Process
DESCRIPTION:<p><strong>Webinar Announcement<br /> <em>Introduction to the Alaskan &amp;
  Yukon Rivers Project and Native Advisory Council Application Process</em><
 /strong><br /> Institute for Tribal Environmental Professionals Alaskan and
  Yukon Rivers</p><p><strong>Date/time:</strong> 27 May 2020, 1:00-2:30 p.m.
  AKDT</p><p>For more information and to register, go to:<br /> <a href="htt
 ps://www.arcus.org/sites/all/modules/civicrm/extern/url.php?u=22748&amp;qid
 =3912080" target="_blank" rel="nofollow noopener" data-saferedirecturl="htt
 ps://www.google.com/url?q=https://www.arcus.org/sites/all/modules/civicrm/e
 xtern/url.php?u%3D22748%26qid%3D3912080&amp;source=gmail&amp;ust=1590046645
 787000&amp;usg=AFQjCNGqFxv5hDLelcJI8UGhj6AH0RAnXw">Webinar Registration</a>
 </p><p>For questions, contact:<br /> Karen Cozzetto<br /> Email: <a href="h
 ttps://www.arcus.org/sites/all/modules/civicrm/extern/url.php?u=22749&amp;q
 id=3912080" target="_blank" rel="nofollow noopener" data-saferedirecturl="h
 ttps://www.google.com/url?q=https://www.arcus.org/sites/all/modules/civicrm
 /extern/url.php?u%3D22749%26qid%3D3912080&amp;source=gmail&amp;ust=15900466
 45787000&amp;usg=AFQjCNH76n7qT_cDEq13fYqGUfWmtNx24g"></a><span id="cloakb08
 f75d4108887e9660bc663038197ae">This email address is being protected from s
 pambots. You need JavaScript enabled to view it.</span><script type='text/j
 avascript'>
				document.getElementById('cloakb08f75d4108887e9660bc66303819
 7ae').innerHTML = '';
				var prefix = '&#109;a' + 'i&#108;' + '&#116;o';
	
 			var path = 'hr' + 'ef' + '=';
				var addyb08f75d4108887e9660bc663038197
 ae = 'k&#97;r&#101;n.c&#111;zz&#101;tt&#111;' + '&#64;';
				addyb08f75d410
 8887e9660bc663038197ae = addyb08f75d4108887e9660bc663038197ae + 'n&#97;&#11
 7;' + '&#46;' + '&#101;d&#117;';
				var addy_textb08f75d4108887e9660bc6630
 38197ae = 'k&#97;r&#101;n.c&#111;zz&#101;tt&#111;' + '&#64;' + 'n&#97;&#117
 ;' + '&#46;' + '&#101;d&#117;';document.getElementById('cloakb08f75d4108887
 e9660bc663038197ae').innerHTML += '<a ' + path + '\'' + prefix + ':' + addy
 b08f75d4108887e9660bc663038197ae + '\'>'+addy_textb08f75d4108887e9660bc6630
 38197ae+'<\/a>';
		</script><br /> Phone: 928-523-6758</p><hr /><p>The Inst
 itute for Tribal Environmental Professionals (ITEP) Climate Change Program 
 announces a webinar that will include an introduction to the Alaskan and Yu
 kon Rivers Project and the Native Advisory Council application process. Thi
 s webinar will be held 27 May 2020 from 1:00 to 2:30 p.m. AKDT.</p><p>Durin
 g the webinar, participants can learn about a National Science Foundation N
 avigating the New Arctic Program-funded project looking at how climate chan
 ge will affect river ice transportation corridors and fish habitat in Alask
 an and Yukon rivers and about how to apply to be on the project’s Native Ad
 visory Council.</p><p>The Council will help researchers evaluate input from
  the broader community and make decisions about research design, output, an
 d more. The Council will also lead the design of an Arctic Rivers Summit Me
 eting currently scheduled to take place in Anchorage, Alaska during winter 
 2021/22. The Council’s structure, application process, and consultation fee
 s will be discussed as well as other ways to participate in the project.</p
 ><p>For more information and to register, go to:<br /> <a href="https://www
 .arcus.org/sites/all/modules/civicrm/extern/url.php?u=22748&amp;qid=3912080
 " target="_blank" rel="nofollow noopener" data-saferedirecturl="https://www
 .google.com/url?q=https://www.arcus.org/sites/all/modules/civicrm/extern/ur
 l.php?u%3D22748%26qid%3D3912080&amp;source=gmail&amp;ust=1590046645787000&a
 mp;usg=AFQjCNGqFxv5hDLelcJI8UGhj6AH0RAnXw">Webinar Registration</a></p><p>F
 or questions, contact:<br /> Karen Cozzetto<br /> Email: <a href="https://w
 ww.arcus.org/sites/all/modules/civicrm/extern/url.php?u=22749&amp;qid=39120
 80" target="_blank" rel="nofollow noopener" data-saferedirecturl="https://w
 ww.google.com/url?q=https://www.arcus.org/sites/all/modules/civicrm/extern/
 url.php?u%3D22749%26qid%3D3912080&amp;source=gmail&amp;ust=1590046645787000
 &amp;usg=AFQjCNH76n7qT_cDEq13fYqGUfWmtNx24g"></a><span id="cloak7530fe2bf25
 cf3b1b92c50a2eea5b544">This email address is being protected from spambots.
  You need JavaScript enabled to view it.</span><script type='text/javascrip
 t'>
				document.getElementById('cloak7530fe2bf25cf3b1b92c50a2eea5b544').in
 nerHTML = '';
				var prefix = '&#109;a' + 'i&#108;' + '&#116;o';
				var p
 ath = 'hr' + 'ef' + '=';
				var addy7530fe2bf25cf3b1b92c50a2eea5b544 = 'k&
 #97;r&#101;n.c&#111;zz&#101;tt&#111;' + '&#64;';
				addy7530fe2bf25cf3b1b9
 2c50a2eea5b544 = addy7530fe2bf25cf3b1b92c50a2eea5b544 + 'n&#97;&#117;' + '&
 #46;' + '&#101;d&#117;';
				var addy_text7530fe2bf25cf3b1b92c50a2eea5b544 
 = 'k&#97;r&#101;n.c&#111;zz&#101;tt&#111;' + '&#64;' + 'n&#97;&#117;' + '&#
 46;' + '&#101;d&#117;';document.getElementById('cloak7530fe2bf25cf3b1b92c50
 a2eea5b544').innerHTML += '<a ' + path + '\'' + prefix + ':' + addy7530fe2b
 f25cf3b1b92c50a2eea5b544 + '\'>'+addy_text7530fe2bf25cf3b1b92c50a2eea5b544+
 '<\/a>';
		</script><br /> Phone: 928-523-6758</p>
DTSTAMP:20260422T003606Z
DTSTART;TZID=UTC:20200527T010000
SEQUENCE:0
TRANSP:OPAQUE
END:VEVENT
END:VCALENDAR