BEGIN:VCALENDAR
VERSION:2.0
PRODID:-//jEvents 2.0 for Joomla//EN
CALSCALE:GREGORIAN
METHOD:PUBLISH
BEGIN:VEVENT
UID:1f2f076b653f61ef36213252159504fb
CATEGORIES:APECS Events
CREATED:20200519T150039
SUMMARY:US APECS Arctic Data Center Webinar
DESCRIPTION:With the global pandemic, many researchers are having their summer field re
 search seasons cancelled. That doesn't mean that science has to stop! Now i
 s an excellent time to re-use submitted data for synthetic projects. In thi
 s webinar, Erin McLean, Community Engagement and Outreach Coordinator with 
 the Arctic Data Center, will discuss an overview of the Arctic Data Center.
  Topics covered will include an overview of the Arctic Data Center, how to 
 use and search for data, and how to cite data for publication. The webinar 
 will commence at 4:00 pm GMT. Please register in advance here (https://us02
 web.zoom.us/webinar/register/WN_ZjerelK8T0mJfaa8OaTIGw). \n\n
X-ALT-DESC;FMTTYPE=text/html:<p><span data-sheets-formula-bar-text-style="font-size:13px;color:#000000;f
 ont-weight:normal;text-decoration:none;font-family:'Arial';font-style:norma
 l;text-decoration-skip-ink:none;">With the global pandemic, many researcher
 s are having their summer field research seasons cancelled. That doesn't me
 an that science has to stop! Now is an excellent time to re-use submitted d
 ata for synthetic projects. In this webinar, Erin McLean, Community Engagem
 ent and Outreach Coordinator with the Arctic Data Center, will discuss an o
 verview of the Arctic Data Center. Topics covered will include an overview 
 of the Arctic Data Center, how to use and search for data, and how to cite 
 data for publication. The webinar will commence at 4:00 pm GMT. Please regi
 ster in advance <a href="https://us02web.zoom.us/webinar/register/WN_Zjerel
 K8T0mJfaa8OaTIGw">here</a>. <br /></span></p>
DTSTAMP:20260422T000830Z
DTSTART;TZID=UTC:20200527T040000
SEQUENCE:0
TRANSP:OPAQUE
END:VEVENT
END:VCALENDAR