BEGIN:VCALENDAR
VERSION:2.0
PRODID:-//jEvents 2.0 for Joomla//EN
CALSCALE:GREGORIAN
METHOD:PUBLISH
BEGIN:VEVENT
UID:7e32abf10e62c96299f8034a8939a0cd
CATEGORIES:Polar Conferences, Meetings and Events
CREATED:20200519T141621
SUMMARY:The Norwegian Environmental Chemistry Symposium
DESCRIPTION:INVITATION AND CALL FOR ABSTRACT\nSeptember 14 - 16, 2020, Hotel Alexandra,
  Loen, Norway\n  (http://www.envirochem.no)<a href="http://www.envirochem.n
 o">http://www.envirochem.no</a>\nIn these Corona times, most of us are miss
 ing their professional environment. Hopefully, by mid-September the pandemi
 c has calmed down so that we  can meet again in person. We therefore wish t
 o invite the Norwegian scientific community in environmental chemistry to a
  refreshing and stimulating gathering in an informal setting at Hotel Alexa
 ndra in Loen, located in the beautiful fjord and glacier district of Norway
 .\nCatch the pulse of Norwegian Environmental Chemistry in 2020\nThis sympo
 sium is addressing leading experts, authorities, regulators and scientists 
 within all aspects of environmental chemistry. The symposium will provide a
 n interdisciplinary platform for students, academic, industrial researchers
  and public managers to present and discuss the most recent advancements, t
 rends and concerns as well as practical challenges and solutions in environ
 mental chemistry.\nA dozen prominent environmental researchers and managers
  will be invited for plenary lectures to address the past, present and futu
 re issues of environmental chemistry. We invite you to provide an oral or p
 oster presentation at this symposium. Suggested topics are listed below, th
 ough presentations on adjacent topics that enlighten environmental chemistr
 y are also sought for. We sincerely hope that you will respond positively t
 o this invitation and call for papers. Please inform your colleagues about 
 this opportunity to share and discuss recent experiences and to be scientif
 ically updated in a typical Norwegian informal setting. We look forward to 
 your active participation in this scientific event.\n·       Marine, soil, 
 sediment and air pollution·       Climate and environment in the Arctic·   
     Environmental analytical chemistry·       Climate and environmental cha
 nges·       Ecosystems and biogeochemical cycles·       Biological systems·
        Environmental and human toxicology·       Human and environmental he
 alth·       Environmental processes·       Occupational environments·      
  Food and nutrition·       Consumer products ·       Environmental manageme
 nt·       National environmental legislation·       Waste handling and reme
 diation·       Green chemistryRegister at our website www.envirochem.no (ht
 tp://www.envirochem.no/) and send a one-page abstract to the Chairman by Au
 gust 1, 2020.\nConference chairman\nYngvar Thomassen, E-mail <a href="mailt
 o:Yngvar.Thomassen@stami.no"></a>This email address is being protected from
  spambots. You need JavaScript enabled to view it.
				document.getElementB
 yId('cloak466c2f6e07b5f680033f4a1cbbed464f').innerHTML = '';
				var prefix
  = '&#109;a' + 'i&#108;' + '&#116;o';
				var path = 'hr' + 'ef' + '=';
			
 	var addy466c2f6e07b5f680033f4a1cbbed464f = 'Yngv&#97;r.Th&#111;m&#97;ss&#1
 01;n' + '&#64;';
				addy466c2f6e07b5f680033f4a1cbbed464f = addy466c2f6e07b
 5f680033f4a1cbbed464f + 'st&#97;m&#105;' + '&#46;' + 'n&#111;';
				var add
 y_text466c2f6e07b5f680033f4a1cbbed464f = 'Yngv&#97;r.Th&#111;m&#97;ss&#101;
 n' + '&#64;' + 'st&#97;m&#105;' + '&#46;' + 'n&#111;';document.getElementBy
 Id('cloak466c2f6e07b5f680033f4a1cbbed464f').innerHTML += '<a ' + path + '\'
 ' + prefix + ':' + addy466c2f6e07b5f680033f4a1cbbed464f + '\'>'+addy_text46
 6c2f6e07b5f680033f4a1cbbed464f+'';
		, \n Tel +47-23 19 53 20, Mobile +47-9
 9 51 05 21\n
X-ALT-DESC;FMTTYPE=text/html:<p><strong>INVITATION AND CALL FOR ABSTRACT</strong></p><p><strong>Septembe
 r 14&nbsp;- 16, 2020, Hotel Alexandra,&nbsp;Loen, Norway</strong><strong><b
 r /> </strong><strong><a href="http://www.envirochem.no" data-saferedirectu
 rl="https://www.google.com/url?q=http://www.envirochem.no&amp;source=gmail&
 amp;ust=1589984054758000&amp;usg=AFQjCNHNkZ8VwibnYEWA9rrOvNjkRq-wLw"></a><a
  href="http://www.envirochem.no">http://www.envirochem.no</a></strong></p><
 p>In these Corona times, most of us are missing their professional environm
 ent. Hopefully, by mid-September the pandemic has calmed down so that we&nb
 sp; can meet again in person. We therefore wish to invite the Norwegian sci
 entific community in environmental chemistry to a refreshing and stimulatin
 g gathering in an informal setting at Hotel Alexandra in Loen, located in t
 he beautiful fjord and glacier district of Norway.</p><p><strong>Catch the 
 pulse of Norwegian Environmental Chemistry in 2020</strong></p><p>This symp
 osium is addressing leading experts, authorities, regulators and scientists
  within all aspects of environmental chemistry. The symposium will provide 
 an interdisciplinary platform for students, academic, industrial researcher
 s and public managers to present and discuss the most recent advancements, 
 trends and concerns as well as practical challenges and solutions in enviro
 nmental chemistry.</p><p>A dozen prominent environmental researchers and ma
 nagers will be invited for plenary lectures to address the past, present an
 d future issues of environmental chemistry. We invite you to provide an ora
 l or poster presentation at this symposium. Suggested topics are listed bel
 ow, though presentations on adjacent topics that enlighten environmental ch
 emistry are also sought for. We sincerely hope that you will respond positi
 vely to this invitation and call for papers. Please inform your colleagues 
 about this opportunity to share and discuss recent experiences and to be sc
 ientifically updated in a typical Norwegian informal setting. We look forwa
 rd to your active participation in this scientific event.</p><table><tbody>
 <tr><td>·&nbsp;&nbsp;&nbsp;&nbsp;&nbsp;&nbsp; Marine, soil, sediment and ai
 r pollution</td><td>·&nbsp;&nbsp;&nbsp;&nbsp;&nbsp;&nbsp; Climate and envir
 onment in the Arctic</td></tr><tr><td>·&nbsp;&nbsp;&nbsp;&nbsp;&nbsp;&nbsp;
  Environmental analytical chemistry</td><td>·&nbsp;&nbsp;&nbsp;&nbsp;&nbsp;
 &nbsp; Climate and environmental changes</td></tr><tr><td>·&nbsp;&nbsp;&nbs
 p;&nbsp;&nbsp;&nbsp; Ecosystems and biogeochemical cycles</td><td>·&nbsp;&n
 bsp;&nbsp;&nbsp;&nbsp;&nbsp; Biological systems</td></tr><tr><td>·&nbsp;&nb
 sp;&nbsp;&nbsp;&nbsp;&nbsp; Environmental and human toxicology</td><td>·&nb
 sp;&nbsp;&nbsp;&nbsp;&nbsp;&nbsp; Human and environmental health</td></tr><
 tr><td>·&nbsp;&nbsp;&nbsp;&nbsp;&nbsp;&nbsp; Environmental processes</td><t
 d>·&nbsp;&nbsp;&nbsp;&nbsp;&nbsp;&nbsp; Occupational environments</td></tr>
 <tr><td>·&nbsp;&nbsp;&nbsp;&nbsp;&nbsp;&nbsp; Food and nutrition</td><td>·&
 nbsp;&nbsp;&nbsp;&nbsp;&nbsp;&nbsp; Consumer products&nbsp;</td></tr><tr><t
 d>·&nbsp;&nbsp;&nbsp;&nbsp;&nbsp;&nbsp; Environmental management</td><td>·&
 nbsp;&nbsp;&nbsp;&nbsp;&nbsp;&nbsp; National environmental legislation</td>
 </tr><tr><td>·&nbsp;&nbsp;&nbsp;&nbsp;&nbsp;&nbsp; Waste handling and remed
 iation</td><td>·&nbsp;&nbsp;&nbsp;&nbsp;&nbsp;&nbsp; Green chemistry</td></
 tr></tbody></table><p>Register at our website <a href="http://www.enviroche
 m.no/" data-saferedirecturl="https://www.google.com/url?q=http://www.enviro
 chem.no/&amp;source=gmail&amp;ust=1589984054759000&amp;usg=AFQjCNGZ9SkBlsGy
 6cEEI7lWkmHlrwADFg">www.envirochem.no</a> and send a one-page abstract to t
 he Chairman by August 1, 2020.</p><p>Conference chairman</p><p><strong>Yngv
 ar Thomassen</strong>, <strong>E-mail</strong> <a href="mailto:Yngvar.Thoma
 ssen@stami.no"></a><span id="cloak466c2f6e07b5f680033f4a1cbbed464f">This em
 ail address is being protected from spambots. You need JavaScript enabled t
 o view it.</span><script type='text/javascript'>
				document.getElementByI
 d('cloak466c2f6e07b5f680033f4a1cbbed464f').innerHTML = '';
				var prefix =
  '&#109;a' + 'i&#108;' + '&#116;o';
				var path = 'hr' + 'ef' + '=';
				v
 ar addy466c2f6e07b5f680033f4a1cbbed464f = 'Yngv&#97;r.Th&#111;m&#97;ss&#101
 ;n' + '&#64;';
				addy466c2f6e07b5f680033f4a1cbbed464f = addy466c2f6e07b5f
 680033f4a1cbbed464f + 'st&#97;m&#105;' + '&#46;' + 'n&#111;';
				var addy_
 text466c2f6e07b5f680033f4a1cbbed464f = 'Yngv&#97;r.Th&#111;m&#97;ss&#101;n'
  + '&#64;' + 'st&#97;m&#105;' + '&#46;' + 'n&#111;';document.getElementById
 ('cloak466c2f6e07b5f680033f4a1cbbed464f').innerHTML += '<a ' + path + '\'' 
 + prefix + ':' + addy466c2f6e07b5f680033f4a1cbbed464f + '\'>'+addy_text466c
 2f6e07b5f680033f4a1cbbed464f+'<\/a>';
		</script>, <br /> <strong>Tel </str
 ong>+47-23 19 53 20, <strong>Mobile </strong>+47-99 51&nbsp;05&nbsp;21</p>
DTSTAMP:20260422T005135Z
DTSTART;TZID=UTC:20200914T080000
DTEND;TZID=UTC:20200916T170000
SEQUENCE:0
TRANSP:OPAQUE
END:VEVENT
END:VCALENDAR