BEGIN:VCALENDAR
VERSION:2.0
PRODID:-//jEvents 2.0 for Joomla//EN
CALSCALE:GREGORIAN
METHOD:PUBLISH
BEGIN:VEVENT
UID:06e54189172c62bd3b0bf6bfadecd379
CATEGORIES:Polar Conferences, Meetings and Events
CREATED:20200519T092552
SUMMARY:IGS Global Seminar Series #6
DESCRIPTION:IGS Global Seminar Series #6: Wednesday 27th May: Jack Kohler, Norwegian Po
 lar Institute, Tromso\n \n "Twenty years of Svalbard fieldwork: a couple of
  100 gigatons of ice, lots of surges, two polar bears and one pandemic late
 r"\n \n Please register  (https://swanseauniversity.zoom.us/meeting/registe
 r/tJUqfuirrzouG9C5Dj7FfLjpsy3cINaVRWK6)in advance for the seminars - it see
 ms that you can't register during the seminar itself, but if you have alrea
 dy registered you should be able to use the same link as last week (check a
 nd if it doesn't work, just re-register). Once you have registered please c
 heck the link (you should see the waiting room I think). Any issues drop me
  an email and I'll try and help. There's a short question to answer - pleas
 e tell me enough to accept you! I'll be doing that manually, so just be kin
 d and make it obvious... (I'm a PhD student with X... or whatever). Using y
 our work email would make my life really easy.\n \n After registering, you 
 will receive a confirmation email containing information about joining the 
 seminar.\n \n Seminar times:\n --------------------\n London - 9pm\n Europe
  - 10pm\n East Coast US - 4pm\n West Coast US - 1pm\n Delhi (+1) - 1.30am (
 sorry!)\n Tokyo (+1) - 5am\n Australia (+1) - 6am\n New Zealand (+1) - 8am\
 n \n The seminar will also be available afterwards on the Friends of the In
 ternational Glaciological Society Facebook page so that you can watch it th
 ere if technology fails or you can't make it! We are investigating other pl
 atforms for those in countries where Facebook can't be used.\n
X-ALT-DESC;FMTTYPE=text/html:<p>IGS Global Seminar Series #6: Wednesday 27th May: Jack Kohler, Norwegian
  Polar Institute, Tromso<br /> <br /> "Twenty years of Svalbard fieldwork: 
 a couple of 100 gigatons of ice, lots of surges, two polar bears and one pa
 ndemic later"<br /> <br /> Please <a href="https://swanseauniversity.zoom.u
 s/meeting/register/tJUqfuirrzouG9C5Dj7FfLjpsy3cINaVRWK6">register </a>in ad
 vance for the seminars - it seems that you can't register during the semina
 r itself, but if you have already registered you should be able to use the 
 same link as last week (check and if it doesn't work, just re-register). On
 ce you have registered please check the link (you should see the waiting ro
 om I think). Any issues drop me an email and I'll try and help. There's a s
 hort question to answer - please tell me enough to accept you! I'll be doin
 g that manually, so just be kind and make it obvious... (I'm a PhD student 
 with X... or whatever). Using your work email would make my life really eas
 y.<br /> <br /> After registering, you will receive a confirmation email co
 ntaining information about joining the seminar.<br /> <br /> Seminar times:
 <br /> --------------------<br /> London - 9pm<br /> Europe - 10pm<br /> Ea
 st Coast US - 4pm<br /> West Coast US - 1pm<br /> Delhi (+1) - 1.30am (sorr
 y!)<br /> Tokyo (+1) - 5am<br /> Australia (+1) - 6am<br /> New Zealand (+1
 ) - 8am<br /> <br /> The seminar will also be available afterwards on the F
 riends of the International Glaciological Society Facebook page so that you
  can watch it there if technology fails or you can't make it! We are invest
 igating other platforms for those in countries where Facebook can't be used
 .</p>
DTSTAMP:20260422T001648Z
DTSTART;TZID=UTC:20200527T080000
DTEND;TZID=UTC:20200527T170000
SEQUENCE:0
TRANSP:OPAQUE
END:VEVENT
END:VCALENDAR